From mboxrd@z Thu Jan 1 00:00:00 1970 Return-Path: Received: from mails.dpdk.org (mails.dpdk.org [217.70.189.124]) by inbox.dpdk.org (Postfix) with ESMTP id 0AE6646B8C for ; Wed, 23 Jul 2025 20:05:34 +0200 (CEST) Received: from mails.dpdk.org (localhost [127.0.0.1]) by mails.dpdk.org (Postfix) with ESMTP id 03C0740267; Wed, 23 Jul 2025 20:05:34 +0200 (CEST) Received: from mail-oo1-f97.google.com (mail-oo1-f97.google.com [209.85.161.97]) by mails.dpdk.org (Postfix) with ESMTP id 0918240267 for ; Wed, 23 Jul 2025 20:05:33 +0200 (CEST) Received: by mail-oo1-f97.google.com with SMTP id 006d021491bc7-61594007beeso65823eaf.3 for ; Wed, 23 Jul 2025 11:05:32 -0700 (PDT) DKIM-Signature: v=1; a=rsa-sha256; c=relaxed/relaxed; d=iol.unh.edu; s=unh-iol; t=1753293932; x=1753898732; darn=dpdk.org; h=references:in-reply-to:cc:to:from:subject:message-id:date:from:to :cc:subject:date:message-id:reply-to; bh=+MAm1WE719X8rY8UOdrRpY1iwqaZCf1CQ6r8s3GD9No=; b=CksvArXa3IXMiGQsE0UtUrDJjUN/nhDQtVxw48y2wIuBHYKHPTeqBs289CAuED23ak rBB2lhvb1nanM5Yov0gYo65KtYLaRHC/8L7BrTeMW3W6qo8XePM52BAN1J5m26aoFd9b kjH8sRKCfHOd8RYAErmlh3nAORaqlbZVCIUhE= X-Google-DKIM-Signature: v=1; a=rsa-sha256; c=relaxed/relaxed; d=1e100.net; s=20230601; t=1753293932; x=1753898732; h=references:in-reply-to:cc:to:from:subject:message-id:date :x-gm-message-state:from:to:cc:subject:date:message-id:reply-to; bh=+MAm1WE719X8rY8UOdrRpY1iwqaZCf1CQ6r8s3GD9No=; b=u6/BEdf+WAprkU7Lw0ay72cHY87qkkzangz8H7arv2yKDhf4RMZ3S9SiPEfplxbGmr KC5cwIFtiYFzAkDsfdtyQcbz45MNxnmc8a+sNmAWT8lAASaZEfX6Z71ovplp8nkrCT7x KU8P1QXeQzr4MQqsqBxjLo7e857GeGXfucl+z9vX8qm6/1tbogHP7LvEJaTtT3B4eBK5 GFB/uCtVDRgvGDJRtx/Fg9PEFWMB5b0oqjRWHFFzoqdbBsVbhHuBuVUGQxCVBWneQbyQ Vkx5pFTW3RzYa+9LSWhKv6VN/E1/xQVOlPQdXMz05KHLdxMTUD4UeXq1wrVg91qDY5/6 A3gQ== X-Gm-Message-State: AOJu0YypF7z5D3MZKKIYcK8TSJYXgNp6sdw69kUbEscrObiK6kXzBaai 1VGIX58rEQUijhr0F4kUFpUPNQsdX6ijRVCl/pT0B4OC7bspxeEtQHXOpFD/R2hC8FVF8weP/VW WpJH2mR1iCz5nk8YfVQyj5WAeR3B2zgZeRyF14hngruVO X-Gm-Gg: ASbGnctiuuQ8Qua+tCrdV1gGvQEEO5wpA1Vkp8UdG532xzbuw//aB6SS4rmIvXZFAcb ORvfExBQm+J41NzdUTJVcWBcvU4S7g8eocHm3NdCSIbnsMRvo3aDntsHZ5fMdDQxPTKmEuRSKZk YxG750nOh1wWXcxH8Y6X8E3Sji7efoUT/IyOwebsAJDm2bwBJO6HovJ8S5l6fcn2K2Zfeq364Wi ow46OwvHAysRUFqAv2WuclpfvMXYwPlLA+/BFDIwzA33oMRm6kERkZl0z+Z06was97o7fwxgJvW /LnHsSEFjNmYNd3QgYEMzAForxSrWiHhyYT6OWZey/ujjDsUHWp4riHpvF3xXBMW1M+ethsw X-Google-Smtp-Source: AGHT+IEp90IFqUz2uUe1fYNOHB4HtIXvP5SPCaNfm6gSRKRhzED2FOLujPyJBWbHR5J1O0h/jLeb16sSaS0O X-Received: by 2002:a05:6820:199b:b0:609:dd17:795 with SMTP id 006d021491bc7-6187d8d3119mr2649586eaf.6.1753293932203; Wed, 23 Jul 2025 11:05:32 -0700 (PDT) Received: from postal.iol.unh.edu (postal.iol.unh.edu. [132.177.123.84]) by smtp-relay.gmail.com with ESMTPS id 006d021491bc7-615bcc6e7dcsm451999eaf.11.2025.07.23.11.05.32 (version=TLS1_2 cipher=ECDHE-ECDSA-AES128-GCM-SHA256 bits=128/128); Wed, 23 Jul 2025 11:05:32 -0700 (PDT) X-Relaying-Domain: iol.unh.edu Date: Wed, 23 Jul 2025 11:05:32 -0700 (PDT) Message-ID: <6881246c.050a0220.21a4c6.7386SMTPIN_ADDED_MISSING@mx.google.com> Received: from [172.21.0.4] (unknown [172.18.0.240]) by postal.iol.unh.edu (Postfix) with ESMTP id A85C1604D420; Wed, 23 Jul 2025 14:05:31 -0400 (EDT) Subject: |SUCCESS| pw155456 [PATCH] net/mlx5: fix ipool memory leak From: dpdklab@iol.unh.edu To: Test Report Cc: dpdk-test-reports@iol.unh.edu In-Reply-To: <20250723064923.1805575-1-rongweil@nvidia.com> References: <20250723064923.1805575-1-rongweil@nvidia.com> Content-Type: text/plain X-BeenThere: test-report@dpdk.org X-Mailman-Version: 2.1.29 Precedence: list List-Id: automatic DPDK test reports List-Unsubscribe: , List-Archive: List-Post: List-Help: List-Subscribe: , Errors-To: test-report-bounces@dpdk.org Test-Label: iol-compile-arm64-testing Test-Status: SUCCESS http://dpdk.org/patch/155456 _Testing PASS_ Submitter: Rongwei Liu Date: Wednesday, July 23 2025 06:49:22 DPDK git baseline: Repo:dpdk Branch: master CommitID:b222395561638f89562e4ef42e1eabf2d6db43dd 155456 --> testing pass Upstream job id: Generic-DPDK-Compile-Meson#411500 Test environment and result as below: +------------------------------+--------------------+ | Environment | dpdk_meson_compile | +==============================+====================+ | Red Hat Enterprise Linux 9.5 | PASS | +------------------------------+--------------------+ | Ubuntu 20.04 | PASS | +------------------------------+--------------------+ | Debian GNU/Linux 12 | PASS | +------------------------------+--------------------+ | Fedora Linux 40 | PASS | +------------------------------+--------------------+ | Fedora Linux 41 | PASS | +------------------------------+--------------------+ | Ubuntu 22.04 | PASS | +------------------------------+--------------------+ | Ubuntu 24.04 | PASS | +------------------------------+--------------------+ | CentOS Stream 9 | PASS | +------------------------------+--------------------+ | CentOS Stream 10 | PASS | +------------------------------+--------------------+ Red Hat Enterprise Linux 9.5 Kernel: 5.4 Compiler: gcc gcc (GCC) 11.5.0 20240719 (Red Hat 11.5.0-2) Ubuntu 20.04 Kernel: 5.15 Compiler: aarch64-linux-gnu-gcc gcc (Ubuntu 9.4.0-1ubuntu1~20.04.2) 9.4.0 Debian GNU/Linux 12 Kernel: 5.4 Compiler: gcc gcc (Debian 12.2.0-14+deb12u1) 12.2.0 Fedora Linux 40 Kernel: 5.4 Compiler: gcc gcc (GCC) 14.2.1 20240912 (Red Hat 14.2.1-3) Fedora Linux 41 Kernel: 5.4 Compiler: clang gcc (GCC) 14.3.1 20250523 (Red Hat 14.3.1-1) Ubuntu 22.04 Kernel: 5.4 Compiler: gcc gcc (Ubuntu 11.4.0-1ubuntu1~22.04) 11.4.0 Ubuntu 24.04 Kernel: 5.4 Compiler: gcc gcc (Ubuntu 13.3.0-6ubuntu2~24.04) 13.3.0 CentOS Stream 9 Kernel: 5.4 Compiler: gcc gcc (GCC) 11.5.0 20240719 (Red Hat 11.5.0-7) CentOS Stream 10 Kernel: 5.4 Compiler: gcc gcc (GCC) 14.2.1 20250110 (Red Hat 14.2.1-8) To view detailed results, visit: https://lab.dpdk.org/results/dashboard/patchsets/33734/ UNH-IOL DPDK Community Lab To manage your email subscriptions, visit: https://lab.dpdk.org/results/dashboard/preferences/subscriptions/