From mboxrd@z Thu Jan 1 00:00:00 1970 Return-Path: Received: from mails.dpdk.org (mails.dpdk.org [217.70.189.124]) by inbox.dpdk.org (Postfix) with ESMTP id 1626346B8C for ; Wed, 23 Jul 2025 20:05:41 +0200 (CEST) Received: from mails.dpdk.org (localhost [127.0.0.1]) by mails.dpdk.org (Postfix) with ESMTP id 1303D40267; Wed, 23 Jul 2025 20:05:41 +0200 (CEST) Received: from mail-yb1-f225.google.com (mail-yb1-f225.google.com [209.85.219.225]) by mails.dpdk.org (Postfix) with ESMTP id A433640267 for ; Wed, 23 Jul 2025 20:05:39 +0200 (CEST) Received: by mail-yb1-f225.google.com with SMTP id 3f1490d57ef6-e8bbb02b887so57883276.3 for ; Wed, 23 Jul 2025 11:05:39 -0700 (PDT) DKIM-Signature: v=1; a=rsa-sha256; c=relaxed/relaxed; d=iol.unh.edu; s=unh-iol; t=1753293939; x=1753898739; darn=dpdk.org; h=references:in-reply-to:cc:to:from:subject:message-id:date:from:to :cc:subject:date:message-id:reply-to; bh=rGAsOF3MoJj9Q0Oipag958mYKu493Kn2WynHVdHnc7g=; b=E6O9Uts8RuKK5TS8kpfWgFX2gQZCuxAWQYSOrwGgYRSiaCpmX6alMPzL68SzUpHgtN zjmmNYIrJ5/0uBi3mMaPIh3GydVZ1TijZdpl5hs1QUuV4UqlvM/CPhI/ow60Xa8xDOTr gHnnKzNbZwS754J56UKzTpD+ViIWREaPIc1AI= X-Google-DKIM-Signature: v=1; a=rsa-sha256; c=relaxed/relaxed; d=1e100.net; s=20230601; t=1753293939; x=1753898739; h=references:in-reply-to:cc:to:from:subject:message-id:date :x-gm-message-state:from:to:cc:subject:date:message-id:reply-to; bh=rGAsOF3MoJj9Q0Oipag958mYKu493Kn2WynHVdHnc7g=; b=g2sl9QBHj3z6IazzvHE/Bh3sngt3+uj1Um7dqdVGbNUygVenG29CytcL768IQdg7R4 GUFGnqt9DhB4WLO15gOt5QJ1YuzkgdfcTOfGCc6uaxTSGLg917/269qOq8aCH/gbqsTb MoXx06LgVuEO+KUotCH//70zxyVf17EYymQXs+c+VYvOh6g45JuW7n7+7/H5r65g3qPi 6h+GhLxBV5aTSjHiskRZ82a7mOnSzae1+7l43rFHo0OaElTd2fz96jJ719sMDkAiXCpu cgKUsMHPJ62OGaTwO6mVOiY7Nf5/xu+Em0wgHu+tvzNoQoQTaXsm7ORTjLhl8veWQFFH ucKQ== X-Gm-Message-State: AOJu0YwrJoHdVj2VwbuYZImS6RG0akb/mON8zsmZSWcpK7jJzAf73Jjr 0R89EBCYLIpmjw+sXSWOSao2yJ9cdaLJBRE705Dxhn8orBAxmWqL7wtyMfGvXdsbyVhBcVYY5o6 /HJy6OWtv59Oe3mH8/e2H9iUt8NHX2izGmcS7TzY3JAal7jRZmFQ3cPN2tPTX X-Gm-Gg: ASbGncuIKbWjB4S50NQcv5PglrLn92rypfeLE2GrmfYdGCalD0G2BE6Nhhuw5yNZeJl cOZniQ/5P4H+YjCukSmEQ5odR01M0USuvU430+CyF4IQ4HyT0WY/kmOcQEnr1VQHemJJ08M0xmc fViV9sIx7G/fOqaQg+hcLrzjxApEX+TyIdvs0BqWQ3DJFulCXg1X2NdtKZeEto3buBRouZnXxF1 UtNy1reLxtctaAWbqAbKwR5OHNvU6hzqLmUpA5Eo46z5qO7cBBahgJwVtREGclBviVSuTcrVkGO 1fvm0b5C2xrMMjRg+IIprAFpXgdKc7PXIROGQtlKP4zQrgntHA== X-Google-Smtp-Source: AGHT+IF01cSJOzSvI/dtqC8AG+RNf0zkitiQPnZQuaOUOxf1ZoNwJSfxLhwWYWzxg3lp2KP63yy3OfmUc0NE X-Received: by 2002:a05:6902:220d:b0:e87:a0a3:841a with SMTP id 3f1490d57ef6-e8dc5829c92mr4873906276.19.1753293938903; Wed, 23 Jul 2025 11:05:38 -0700 (PDT) Received: from postal.iol.unh.edu (postal.iol.unh.edu. [2606:4100:3880:1234::84]) by smtp-relay.gmail.com with ESMTPS id 3f1490d57ef6-e8d7ce08595sm729852276.20.2025.07.23.11.05.38 (version=TLS1_2 cipher=ECDHE-ECDSA-AES128-GCM-SHA256 bits=128/128); Wed, 23 Jul 2025 11:05:38 -0700 (PDT) X-Relaying-Domain: iol.unh.edu Date: Wed, 23 Jul 2025 11:05:38 -0700 (PDT) Message-ID: <68812472.250a0220.392444.4e9dSMTPIN_ADDED_MISSING@mx.google.com> Received: from [172.21.0.9] (unknown [172.18.0.240]) by postal.iol.unh.edu (Postfix) with ESMTP id 8B5BA604D420; Wed, 23 Jul 2025 14:05:38 -0400 (EDT) Subject: |SUCCESS| pw155456 [PATCH] net/mlx5: fix ipool memory leak From: dpdklab@iol.unh.edu To: Test Report Cc: dpdk-test-reports@iol.unh.edu In-Reply-To: <20250723064923.1805575-1-rongweil@nvidia.com> References: <20250723064923.1805575-1-rongweil@nvidia.com> Content-Type: text/plain X-BeenThere: test-report@dpdk.org X-Mailman-Version: 2.1.29 Precedence: list List-Id: automatic DPDK test reports List-Unsubscribe: , List-Archive: List-Post: List-Help: List-Subscribe: , Errors-To: test-report-bounces@dpdk.org Test-Label: iol-compile-arm64-testing Test-Status: SUCCESS http://dpdk.org/patch/155456 _Testing PASS_ Submitter: Rongwei Liu Date: Wednesday, July 23 2025 06:49:22 DPDK git baseline: Repo:dpdk Branch: master CommitID:b222395561638f89562e4ef42e1eabf2d6db43dd 155456 --> testing pass Upstream job id: Generic-DPDK-Compile-Meson#411498 Test environment and result as below: +------------------------------+--------------------+ | Environment | dpdk_meson_compile | +==============================+====================+ | Red Hat Enterprise Linux 9.5 | PASS | +------------------------------+--------------------+ | Ubuntu 20.04 | PASS | +------------------------------+--------------------+ | Debian GNU/Linux 12 | PASS | +------------------------------+--------------------+ | Fedora Linux 40 | PASS | +------------------------------+--------------------+ | Fedora Linux 41 | PASS | +------------------------------+--------------------+ | Ubuntu 22.04 | PASS | +------------------------------+--------------------+ | Ubuntu 24.04 | PASS | +------------------------------+--------------------+ | CentOS Stream 9 | PASS | +------------------------------+--------------------+ | CentOS Stream 10 | PASS | +------------------------------+--------------------+ Red Hat Enterprise Linux 9.5 Kernel: 5.4 Compiler: gcc gcc (GCC) 11.5.0 20240719 (Red Hat 11.5.0-2) Ubuntu 20.04 Kernel: 5.15 Compiler: aarch64-linux-gnu-gcc gcc (Ubuntu 9.4.0-1ubuntu1~20.04.2) 9.4.0 Debian GNU/Linux 12 Kernel: 5.4 Compiler: gcc gcc (Debian 12.2.0-14+deb12u1) 12.2.0 Fedora Linux 40 Kernel: 5.4 Compiler: gcc gcc (GCC) 14.2.1 20240912 (Red Hat 14.2.1-3) Fedora Linux 41 Kernel: 5.4 Compiler: clang gcc (GCC) 14.3.1 20250523 (Red Hat 14.3.1-1) Ubuntu 22.04 Kernel: 5.4 Compiler: gcc gcc (Ubuntu 11.4.0-1ubuntu1~22.04) 11.4.0 Ubuntu 24.04 Kernel: 5.4 Compiler: gcc gcc (Ubuntu 13.3.0-6ubuntu2~24.04) 13.3.0 CentOS Stream 9 Kernel: 5.4 Compiler: gcc gcc (GCC) 11.5.0 20240719 (Red Hat 11.5.0-7) CentOS Stream 10 Kernel: 5.4 Compiler: gcc gcc (GCC) 14.2.1 20250110 (Red Hat 14.2.1-8) To view detailed results, visit: https://lab.dpdk.org/results/dashboard/patchsets/33734/ UNH-IOL DPDK Community Lab To manage your email subscriptions, visit: https://lab.dpdk.org/results/dashboard/preferences/subscriptions/