From mboxrd@z Thu Jan 1 00:00:00 1970 Return-Path: Received: from mails.dpdk.org (mails.dpdk.org [217.70.189.124]) by inbox.dpdk.org (Postfix) with ESMTP id 5609B46BF4 for ; Wed, 23 Jul 2025 20:07:33 +0200 (CEST) Received: from mails.dpdk.org (localhost [127.0.0.1]) by mails.dpdk.org (Postfix) with ESMTP id 4D8DA40267; Wed, 23 Jul 2025 20:07:33 +0200 (CEST) Received: from mail-yw1-f227.google.com (mail-yw1-f227.google.com [209.85.128.227]) by mails.dpdk.org (Postfix) with ESMTP id D31B940267 for ; Wed, 23 Jul 2025 20:07:31 +0200 (CEST) Received: by mail-yw1-f227.google.com with SMTP id 00721157ae682-710e344bbf9so2089537b3.2 for ; Wed, 23 Jul 2025 11:07:31 -0700 (PDT) DKIM-Signature: v=1; a=rsa-sha256; c=relaxed/relaxed; d=iol.unh.edu; s=unh-iol; t=1753294051; x=1753898851; darn=dpdk.org; h=references:in-reply-to:cc:to:from:subject:message-id:date:from:to :cc:subject:date:message-id:reply-to; bh=4piWck5kc/WyFodPm6vh/jdxOLQEgeaw3dqzriQIRh4=; b=MJ4Qa0uwmfBZsDa1zXtUeRK77H5eDjdqqqY5ndf68tyoO1uoOo3MT3XHP1+BeEUpJT cy8eor4ComaflnoCOYaqLc91zLIMT5+M0AVoDJEyGfKOhkw+kF551yl+JtnwQyiUPs4c U6hnpRaFl+VboWj14SxLUrg2ttj2wjPcl8NDQ= X-Google-DKIM-Signature: v=1; a=rsa-sha256; c=relaxed/relaxed; d=1e100.net; s=20230601; t=1753294051; x=1753898851; h=references:in-reply-to:cc:to:from:subject:message-id:date :x-gm-message-state:from:to:cc:subject:date:message-id:reply-to; bh=4piWck5kc/WyFodPm6vh/jdxOLQEgeaw3dqzriQIRh4=; b=MyVc7c2ej2U3XU//SCpB61obeOKtvavKn1XbUFcT94VKfvRRPXxtcMyGzG0FDsuuav cNE6KuB7KqWyvaocVU7O4MUGiXz5K2wNqSosBz9OVuAj1IVXf3N0NWtUHP3MC092vlfE mXcQYRdjTDoKJ7gXd6mLlcWrFHUyGg1M9m0NkrRh6pi23CvHq+LQXgc4nqOY0E/TUnPo Y7lBBhtEdmvkJ5dqlv1K0QQBGdGwXT4ffZQBko7MldpIK0VogIwp5B8OUWSQ4vaNs0Zu XnuaaaPMKGpCLjvIVv/q5r8q5BnGITovZ+awyzsvtOgnzLS6LPMBWwIqMTEj3DSeRbDf PA6Q== X-Gm-Message-State: AOJu0YxtU6ScsU9RTXoUxEyIVBQHbY2EN4XSikop0/54AGGtppXf1nMq D1DhBZ6NnKKrZ4PEtOa2SmA7De7hulM/BLtOssDTPEkaawb+aHzTUrSnhgQO6vc71jDkbAqene2 hD9r7aFJUsZvFj5d+5tvbcgVHCd/qswYpem7Ig5gr6Bax X-Gm-Gg: ASbGnct6ZaqiBBVuXlnNcKjT9JSVXzinXkr7SPC01DDkA5x2CxjX2DHCis05dsf4fA1 2wMQmIPlbNrzbR6Y+ZRCZgyxcM6sgOORQV7FgH8Rpgp8KD5Qg5tLEoUo/bkxFXV97FUa9S6W6Ak Ngc2dO2oFBtU2rDpdXoULaIqVknoeXJHYkM7g3gy5cELjqft/8UBXQTRgbC34Iw+CjGm2WivBYB GXNDEuhvsKZQ67QpHgIza8tP8YVrRjv6D3QEL3WhF/MMUsM1pUNu13EDBoOQ7O01d7BO7hdMhan ZSx5639YUm0aK/sbc/0mYihweqGWWz/5mJBn4wqPNVHv0pOPSAR0uIv4+4djex+l/94mSZ2P X-Google-Smtp-Source: AGHT+IENWJxozOB1OdPSNmVX8YH1DWPIyDm8IyntrX1sRetYz3Jgx9dSnfFmZehdW//Rjzwst3JakBjOEhoL X-Received: by 2002:a05:690c:f86:b0:709:1529:c24f with SMTP id 00721157ae682-719b41496dbmr51426887b3.4.1753294051198; Wed, 23 Jul 2025 11:07:31 -0700 (PDT) Received: from postal.iol.unh.edu (postal.iol.unh.edu. [132.177.123.84]) by smtp-relay.gmail.com with ESMTPS id 00721157ae682-719532cd378sm7165817b3.38.2025.07.23.11.07.31 (version=TLS1_2 cipher=ECDHE-ECDSA-AES128-GCM-SHA256 bits=128/128); Wed, 23 Jul 2025 11:07:31 -0700 (PDT) X-Relaying-Domain: iol.unh.edu Date: Wed, 23 Jul 2025 11:07:31 -0700 (PDT) Message-ID: <688124e3.050a0220.27b265.5f84SMTPIN_ADDED_MISSING@mx.google.com> Received: from [172.21.0.2] (unknown [172.18.0.240]) by postal.iol.unh.edu (Postfix) with ESMTP id C1171604D420; Wed, 23 Jul 2025 14:07:30 -0400 (EDT) Subject: |SUCCESS| pw155456 [PATCH] net/mlx5: fix ipool memory leak From: dpdklab@iol.unh.edu To: Test Report Cc: dpdk-test-reports@iol.unh.edu In-Reply-To: <20250723064923.1805575-1-rongweil@nvidia.com> References: <20250723064923.1805575-1-rongweil@nvidia.com> Content-Type: text/plain X-BeenThere: test-report@dpdk.org X-Mailman-Version: 2.1.29 Precedence: list List-Id: automatic DPDK test reports List-Unsubscribe: , List-Archive: List-Post: List-Help: List-Subscribe: , Errors-To: test-report-bounces@dpdk.org Test-Label: iol-compile-arm64-testing Test-Status: SUCCESS http://dpdk.org/patch/155456 _Testing PASS_ Submitter: Rongwei Liu Date: Wednesday, July 23 2025 06:49:22 DPDK git baseline: Repo:dpdk Branch: master CommitID:b222395561638f89562e4ef42e1eabf2d6db43dd 155456 --> testing pass Upstream job id: Generic-DPDK-Compile-Meson#411499 Test environment and result as below: +------------------------------+--------------------+ | Environment | dpdk_meson_compile | +==============================+====================+ | Red Hat Enterprise Linux 9.5 | PASS | +------------------------------+--------------------+ | Ubuntu 20.04 | PASS | +------------------------------+--------------------+ | Debian GNU/Linux 12 | PASS | +------------------------------+--------------------+ | Fedora Linux 40 | PASS | +------------------------------+--------------------+ | Fedora Linux 41 | PASS | +------------------------------+--------------------+ | Ubuntu 22.04 | PASS | +------------------------------+--------------------+ | Ubuntu 24.04 | PASS | +------------------------------+--------------------+ | CentOS Stream 9 | PASS | +------------------------------+--------------------+ | CentOS Stream 10 | PASS | +------------------------------+--------------------+ Red Hat Enterprise Linux 9.5 Kernel: 5.4 Compiler: gcc gcc (GCC) 11.5.0 20240719 (Red Hat 11.5.0-2) Ubuntu 20.04 Kernel: 5.15 Compiler: aarch64-linux-gnu-gcc gcc (Ubuntu 9.4.0-1ubuntu1~20.04.2) 9.4.0 Debian GNU/Linux 12 Kernel: 5.4 Compiler: gcc gcc (Debian 12.2.0-14+deb12u1) 12.2.0 Fedora Linux 40 Kernel: 5.4 Compiler: gcc gcc (GCC) 14.2.1 20240912 (Red Hat 14.2.1-3) Fedora Linux 41 Kernel: 5.4 Compiler: clang gcc (GCC) 14.3.1 20250523 (Red Hat 14.3.1-1) Ubuntu 22.04 Kernel: 5.4 Compiler: gcc gcc (Ubuntu 11.4.0-1ubuntu1~22.04) 11.4.0 Ubuntu 24.04 Kernel: 5.4 Compiler: gcc gcc (Ubuntu 13.3.0-6ubuntu2~24.04) 13.3.0 CentOS Stream 9 Kernel: 5.4 Compiler: gcc gcc (GCC) 11.5.0 20240719 (Red Hat 11.5.0-7) CentOS Stream 10 Kernel: 5.4 Compiler: gcc gcc (GCC) 14.2.1 20250110 (Red Hat 14.2.1-8) To view detailed results, visit: https://lab.dpdk.org/results/dashboard/patchsets/33734/ UNH-IOL DPDK Community Lab To manage your email subscriptions, visit: https://lab.dpdk.org/results/dashboard/preferences/subscriptions/