From mboxrd@z Thu Jan 1 00:00:00 1970 Return-Path: Received: from mails.dpdk.org (mails.dpdk.org [217.70.189.124]) by inbox.dpdk.org (Postfix) with ESMTP id ACE2846BF4 for ; Wed, 23 Jul 2025 20:10:37 +0200 (CEST) Received: from mails.dpdk.org (localhost [127.0.0.1]) by mails.dpdk.org (Postfix) with ESMTP id A7E9740267; Wed, 23 Jul 2025 20:10:37 +0200 (CEST) Received: from mail-io1-f97.google.com (mail-io1-f97.google.com [209.85.166.97]) by mails.dpdk.org (Postfix) with ESMTP id 8822440267 for ; Wed, 23 Jul 2025 20:10:36 +0200 (CEST) Received: by mail-io1-f97.google.com with SMTP id ca18e2360f4ac-87c09672708so3088639f.3 for ; Wed, 23 Jul 2025 11:10:36 -0700 (PDT) DKIM-Signature: v=1; a=rsa-sha256; c=relaxed/relaxed; d=iol.unh.edu; s=unh-iol; t=1753294236; x=1753899036; darn=dpdk.org; h=references:in-reply-to:cc:to:from:subject:message-id:date:from:to :cc:subject:date:message-id:reply-to; bh=heCamxtdr9xfieI3mN1XdRRnmfU4GYQSalAXTkG4fc0=; b=BJXIFEXyEfpUMlHDs8F0JKJgXpwk3pghSVfzCEJiRFPIzgg3ZZPc3oNJW2jjFx2LxH 4ldl/7zA6gxs7FdfBCuEHVzEa7LeNxF7EXkodz0KWkhbKLKHaVmj7CdLHQasgRFG2T1z LjjnK0m4ghbIdokPIrCyhKXa2kyoVNkZuaEM4= X-Google-DKIM-Signature: v=1; a=rsa-sha256; c=relaxed/relaxed; d=1e100.net; s=20230601; t=1753294236; x=1753899036; h=references:in-reply-to:cc:to:from:subject:message-id:date :x-gm-message-state:from:to:cc:subject:date:message-id:reply-to; bh=heCamxtdr9xfieI3mN1XdRRnmfU4GYQSalAXTkG4fc0=; b=GO4Lvj2PQ+HSbP6os6z36A3OVtiDMXIRs7oCup/ggJdNCpobBkCtKKFTdoj8NESJkb Rqt97gzJ6macEbyEapNwLOe1HOoxZGDBl0Khutay+n+rzAjKpVLMVGxCPWksTGrD55fl yw7wog40M8RdJvFIhLHFaraTmX+oYa44Zhv4wh+Koja6kyN+KUAbmlbSKvrU7LgbgYMf aOW4mMefPcVJ+USm+KV+A8GC0tvsH3kG1fKsNdtVqxHQmO/+9BQ3JL+e4OazH4nUiaYS 2v7QheqkqbYOzs+sA5oN+z9LLU21jKOOC/oCp4PYqlvHJ0L+kMXkBFC/P4+l04/GrpJj Ew3A== X-Gm-Message-State: AOJu0Yz/tMEr9bXBOomBym7EMHPpcTcgncuT+pmWapfN0xt08aTThpIu R+OkFl/6T4C5LiLtot9IE1kecXzTF0ZSGPhX4/Hqw80g9Li8HkW6oGoSZknFGntP+FThaxY2DkA yg7YMNF324L4WxTECCaECYVFPdQCFIjy+f60LJ5lN+gVEdqjDQ1XvitmIO6vd X-Gm-Gg: ASbGncuwxmsrjl+lC6wc7lopVViOz8BvcpHGjNCBEXItFe0/HiKYTlfsJR2Q10noiGz c25Al0+8etsmJ+w7c7vjjDEjrZdkbTS7mLsjAZPq2iCS1rt4jvGV8qPBOSpprtSCo/zsWdhrY+B afXbVEq4mAvN0YiMhJZclRq0VCog6ETnKoHjkXSvrXWJryj/tgj48+qLEVWxNaC5SGNQIWGIAIR fu4ZfCKZYArdMbOKm6Zb60ecMJ3kKkLFpMNCoehJqtQtMvmB0onjWv/94rOyGHTxHTDUYeh4u8H nwSK9mLHfsSfPpjTEos/QlM0jhaETEpouYFmO8v7t/Hbz1onPA== X-Google-Smtp-Source: AGHT+IFvR/0tqdIH71nAeGtxFA7OJeurQSzLmGgKs7hy1kWbEeVKXkEgxU/Bh6DD1jdjlA0wkB4anDoLsflr X-Received: by 2002:a05:6e02:2484:b0:3e2:c6dd:e796 with SMTP id e9e14a558f8ab-3e32fc5e676mr74663615ab.3.1753294235790; Wed, 23 Jul 2025 11:10:35 -0700 (PDT) Received: from postal.iol.unh.edu (postal.iol.unh.edu. [2606:4100:3880:1234::84]) by smtp-relay.gmail.com with ESMTPS id 8926c6da1cb9f-5084c9769e5sm245824173.59.2025.07.23.11.10.35 (version=TLS1_2 cipher=ECDHE-ECDSA-AES128-GCM-SHA256 bits=128/128); Wed, 23 Jul 2025 11:10:35 -0700 (PDT) X-Relaying-Domain: iol.unh.edu Date: Wed, 23 Jul 2025 11:10:35 -0700 (PDT) Message-ID: <6881259b.050a0220.20dcbc.9db5SMTPIN_ADDED_MISSING@mx.google.com> Received: from [172.21.0.3] (unknown [172.18.0.240]) by postal.iol.unh.edu (Postfix) with ESMTP id 65AF9604D420; Wed, 23 Jul 2025 14:10:35 -0400 (EDT) Subject: |SUCCESS| pw155459 [PATCH] [v3] lib/ethdev: fix segfault in secondar From: dpdklab@iol.unh.edu To: Test Report Cc: dpdk-test-reports@iol.unh.edu In-Reply-To: <20250723131049.1703172-1-14pwcse1224@uetpeshawar.edu.pk> References: <20250723131049.1703172-1-14pwcse1224@uetpeshawar.edu.pk> Content-Type: text/plain X-BeenThere: test-report@dpdk.org X-Mailman-Version: 2.1.29 Precedence: list List-Id: automatic DPDK test reports List-Unsubscribe: , List-Archive: List-Post: List-Help: List-Subscribe: , Errors-To: test-report-bounces@dpdk.org Test-Label: iol-abi-testing Test-Status: SUCCESS http://dpdk.org/patch/155459 _Testing PASS_ Submitter: Khadem Ullah <14pwcse1224@uetpeshawar.edu.pk> Date: Wednesday, July 23 2025 13:10:49 DPDK git baseline: Repo:dpdk Branch: master CommitID:b78afde1fed9e11ee5cdce333a1a69dd7a9cf13e 155459 --> testing pass Upstream job id: Generic-DPDK-Compile-ABI#135507 Test environment and result as below: +-------------------------------+----------+ | Environment | abi_test | +===============================+==========+ | CentOS Stream 9 | PASS | +-------------------------------+----------+ | CentOS Stream 10 | PASS | +-------------------------------+----------+ | Debian GNU/Linux 12 | PASS | +-------------------------------+----------+ | Fedora Linux 40 | PASS | +-------------------------------+----------+ | Fedora Linux 41 | PASS | +-------------------------------+----------+ | openSUSE Leap 15.6 | PASS | +-------------------------------+----------+ | Ubuntu 22.04 | PASS | +-------------------------------+----------+ | Red Hat Enterprise Linux 8.10 | PASS | +-------------------------------+----------+ | Red Hat Enterprise Linux 9.5 | PASS | +-------------------------------+----------+ | Ubuntu 24.04 | PASS | +-------------------------------+----------+ CentOS Stream 9 Kernel: 5.15 Compiler: gcc gcc (GCC) 11.5.0 20240719 (Red Hat 11.5.0-7) CentOS Stream 10 Kernel: 5.15 Compiler: gcc gcc (GCC) 14.2.1 20250110 (Red Hat 14.2.1-8) Debian GNU/Linux 12 Kernel: 5.15 Compiler: gcc gcc (Debian 12.2.0-14+deb12u1) 12.2.0 Fedora Linux 40 Kernel: 5.15 Compiler: clang gcc (GCC) 14.2.1 20240912 (Red Hat 14.2.1-3) Fedora Linux 41 Kernel: 5.15 Compiler: gcc gcc (GCC) 14.3.1 20250523 (Red Hat 14.3.1-1) openSUSE Leap 15.6 Kernel: 5.15 Compiler: gcc gcc (SUSE Linux) 7.5.0 Ubuntu 22.04 Kernel: 5.15 Compiler: gcc gcc (Ubuntu 11.4.0-1ubuntu1~22.04) 11.4.0 Red Hat Enterprise Linux 8.10 Kernel: 5.15 Compiler: gcc gcc (GCC) 8.5.0 20210514 (Red Hat 8.5.0-22) Red Hat Enterprise Linux 9.5 Kernel: 5.15 Compiler: gcc gcc (GCC) 11.5.0 20240719 (Red Hat 11.5.0-2) Ubuntu 24.04 Kernel: 5.15 Compiler: gcc gcc (Ubuntu 13.3.0-6ubuntu2~24.04) 13.3.0 To view detailed results, visit: https://lab.dpdk.org/results/dashboard/patchsets/33737/ UNH-IOL DPDK Community Lab To manage your email subscriptions, visit: https://lab.dpdk.org/results/dashboard/preferences/subscriptions/