From mboxrd@z Thu Jan 1 00:00:00 1970 Return-Path: Received: from mails.dpdk.org (mails.dpdk.org [217.70.189.124]) by inbox.dpdk.org (Postfix) with ESMTP id 82AC446BF4 for ; Wed, 23 Jul 2025 20:18:28 +0200 (CEST) Received: from mails.dpdk.org (localhost [127.0.0.1]) by mails.dpdk.org (Postfix) with ESMTP id 7CDB740267; Wed, 23 Jul 2025 20:18:28 +0200 (CEST) Received: from mail-il1-f228.google.com (mail-il1-f228.google.com [209.85.166.228]) by mails.dpdk.org (Postfix) with ESMTP id DC2B940267 for ; Wed, 23 Jul 2025 20:18:26 +0200 (CEST) Received: by mail-il1-f228.google.com with SMTP id e9e14a558f8ab-3e2ab85e0b4so5571765ab.1 for ; Wed, 23 Jul 2025 11:18:26 -0700 (PDT) DKIM-Signature: v=1; a=rsa-sha256; c=relaxed/relaxed; d=iol.unh.edu; s=unh-iol; t=1753294706; x=1753899506; darn=dpdk.org; h=references:in-reply-to:cc:to:from:subject:message-id:date:from:to :cc:subject:date:message-id:reply-to; bh=VZ6g/MBKSksdqPtdcQ8oT0fUjnpmFh6IMGjdqQq7GnA=; b=EH47Dbc5fydyzhWARWObTpi52alov2CkV9uzfnklMb/aDH3382GoLKCU0lDzDmu8RY Z92OWc6EHAnYy1uoJWK0iLFbbR9Nt6aOh08Sa93We/MU0FB3rRQ8IWUdQo/HxIXn309+ baSh6ln4RcoDVCeG5oFgH8YkVPQkdq73t1bTw= X-Google-DKIM-Signature: v=1; a=rsa-sha256; c=relaxed/relaxed; d=1e100.net; s=20230601; t=1753294706; x=1753899506; h=references:in-reply-to:cc:to:from:subject:message-id:date :x-gm-message-state:from:to:cc:subject:date:message-id:reply-to; bh=VZ6g/MBKSksdqPtdcQ8oT0fUjnpmFh6IMGjdqQq7GnA=; b=g45K9twzpjQ2+FPmDBEDcs/tch9XrRqaVwVl1NKdvn0lwaQhrkgeqwJL48yWQbojiV r8BfxX3mCZghVBbCM0WOhl5LMfn0mFfLRA6PLz+vGjjAhDsL19BvaZMSw4EQF0NEFF6f avwQmgmJZWACo6uke7Lu4I2eEqUPQaLVEbjLGrNW8fUVa4s21wmRi7oMhGck5IBakmOV +pdIHYbrciG2VhF47JeqVuTGkoPK1GHHHUMt/hAqR2KM9qqHLq8S6hbMm10OVitacp8H LzC6oqYTPLrlLHFTmEiLyjIZSkAERKogCmoZrexPt4kH6fI6NH4RAFDKMFbAdsBYA0xD aR/w== X-Gm-Message-State: AOJu0YypKZEhtkM6X3RJBYMVz1speacYODcyF2T5g1nb3L18nn3QlJe7 hIk1MkIEkFdl9faY+a0ruNorLN1SicrRAnfqb+kiOnKrmzPxesnsfXyIG66kW0u20S/Kv7bmt9O A4o/dnvAVMa7BDWMO8MjQvEkaT+y6CDizuJMI0JeB8dnbegIv3n4h2t06CWbT X-Gm-Gg: ASbGnctkceNRRAm7gijkJvITOI7RUK1LyiJRup2VvJUKgJ0PeACioIXpKZO99p0BYtj 66nMjahOhTSvSjBti4hv10oEu6wcwht4jivfDf9ZSXIJHafbWAI73dUgtFSFrmdYGbV/AvwjXRn wWdgEMlqQl5/i6i+V0/F2x/zQKPsEDlQd5TsCRZSdl7nHr77ymNX2dvyffRcYLNXz+8i2n0LJQA DdrmzjeksnEwrePWbH8WERg+bLA/XHsod8A+RwuZYzesCYxQeMjAglnbStsqKz826K7Y7XUAH7z J803H6lu3imlfyQLq35/zCFJuLOSuni0iHuE2MWoqUI+8KZOqA== X-Google-Smtp-Source: AGHT+IGw/EZw9CuXEV/wBQGWJOJpHVj3B182QGo/wZsIQhKrTqy1wI+tTtKzlv9taS5e57w8Xrr044xb+kQ0 X-Received: by 2002:a05:6e02:216e:b0:3e2:c21d:ea12 with SMTP id e9e14a558f8ab-3e357bc7b88mr47606345ab.7.1753294706015; Wed, 23 Jul 2025 11:18:26 -0700 (PDT) Received: from postal.iol.unh.edu (postal.iol.unh.edu. [2606:4100:3880:1234::84]) by smtp-relay.gmail.com with ESMTPS id e9e14a558f8ab-3e2983827aasm8504895ab.54.2025.07.23.11.18.25 (version=TLS1_2 cipher=ECDHE-ECDSA-AES128-GCM-SHA256 bits=128/128); Wed, 23 Jul 2025 11:18:26 -0700 (PDT) X-Relaying-Domain: iol.unh.edu Date: Wed, 23 Jul 2025 11:18:26 -0700 (PDT) Message-ID: <68812772.050a0220.17db4e.bb55SMTPIN_ADDED_MISSING@mx.google.com> Received: from [172.21.0.3] (unknown [172.18.0.240]) by postal.iol.unh.edu (Postfix) with ESMTP id 92D64604D420; Wed, 23 Jul 2025 14:18:25 -0400 (EDT) Subject: |SUCCESS| pw155461-155481 [PATCH] [v5,22/22] ci: extend coverage wit From: dpdklab@iol.unh.edu To: Test Report Cc: dpdk-test-reports@iol.unh.edu In-Reply-To: <20250723133157.159825-23-david.marchand@redhat.com> References: <20250723133157.159825-23-david.marchand@redhat.com> Content-Type: text/plain X-BeenThere: test-report@dpdk.org X-Mailman-Version: 2.1.29 Precedence: list List-Id: automatic DPDK test reports List-Unsubscribe: , List-Archive: List-Post: List-Help: List-Subscribe: , Errors-To: test-report-bounces@dpdk.org Test-Label: iol-unit-amd64-testing Test-Status: SUCCESS http://dpdk.org/patch/155481 _Testing PASS_ Submitter: David Marchand Date: Wednesday, July 23 2025 13:31:55 DPDK git baseline: Repo:dpdk Branch: master CommitID:e3183a6edafdc41bfd71de1517f9e9ec85eb1276 155461-155481 --> testing pass Upstream job id: Generic-Unit-Test-DPDK#357804 Test environment and result as below: +-------------------------------+----------------+ | Environment | dpdk_unit_test | +===============================+================+ | CentOS Stream 10 | PASS | +-------------------------------+----------------+ | CentOS Stream 9 | PASS | +-------------------------------+----------------+ | Fedora Linux 40 | PASS | +-------------------------------+----------------+ | Fedora Linux 41 | PASS | +-------------------------------+----------------+ | Red Hat Enterprise Linux 8.10 | PASS | +-------------------------------+----------------+ | Red Hat Enterprise Linux 9.5 | PASS | +-------------------------------+----------------+ | Ubuntu 22.04 | PASS | +-------------------------------+----------------+ | Debian GNU/Linux 12 | PASS | +-------------------------------+----------------+ | Ubuntu 20.04 | PASS | +-------------------------------+----------------+ | Ubuntu 24.04 | PASS | +-------------------------------+----------------+ | Windows Server 2022 | PASS | +-------------------------------+----------------+ CentOS Stream 10 Kernel: 5.15 Compiler: gcc gcc (GCC) 14.2.1 20250110 (Red Hat 14.2.1-8) CentOS Stream 9 Kernel: 5.15 Compiler: gcc gcc (GCC) 11.5.0 20240719 (Red Hat 11.5.0-7) Fedora Linux 40 Kernel: 5.15 Compiler: gcc gcc (GCC) 14.2.1 20240912 (Red Hat 14.2.1-3) Fedora Linux 41 Kernel: 5.15 Compiler: clang gcc (GCC) 14.3.1 20250523 (Red Hat 14.3.1-1) Red Hat Enterprise Linux 8.10 Kernel: 5.15 Compiler: gcc gcc (GCC) 8.5.0 20210514 (Red Hat 8.5.0-22) Red Hat Enterprise Linux 9.5 Kernel: 5.15 Compiler: gcc gcc (GCC) 11.5.0 20240719 (Red Hat 11.5.0-2) Ubuntu 22.04 Kernel: 5.15 Compiler: gcc gcc (Ubuntu 11.4.0-1ubuntu1~22.04) 11.4.0 Debian GNU/Linux 12 Kernel: 5.15 Compiler: gcc gcc (Debian 12.2.0-14+deb12u1) 12.2.0 Ubuntu 20.04 Kernel: 5.15 Compiler: gcc gcc (Ubuntu 9.4.0-1ubuntu1~20.04.2) 9.4.0 Ubuntu 24.04 Kernel: 5.15 Compiler: gcc gcc (Ubuntu 13.3.0-6ubuntu2~24.04) 13.3.0 Windows Server 2022 Kernel: 10.0.20348.2031 Compiler: clang 15.0.7, gcc 14.1.0 (MinGW), and MSVC VS 19.39.33521 To view detailed results, visit: https://lab.dpdk.org/results/dashboard/patchsets/33738/ UNH-IOL DPDK Community Lab To manage your email subscriptions, visit: https://lab.dpdk.org/results/dashboard/preferences/subscriptions/