From mboxrd@z Thu Jan 1 00:00:00 1970 Return-Path: Received: from mails.dpdk.org (mails.dpdk.org [217.70.189.124]) by inbox.dpdk.org (Postfix) with ESMTP id 1E5E946BF4 for ; Wed, 23 Jul 2025 20:34:30 +0200 (CEST) Received: from mails.dpdk.org (localhost [127.0.0.1]) by mails.dpdk.org (Postfix) with ESMTP id 05A5540267; Wed, 23 Jul 2025 20:34:30 +0200 (CEST) Received: from mail-yw1-f225.google.com (mail-yw1-f225.google.com [209.85.128.225]) by mails.dpdk.org (Postfix) with ESMTP id B0EC240267 for ; Wed, 23 Jul 2025 20:34:28 +0200 (CEST) Received: by mail-yw1-f225.google.com with SMTP id 00721157ae682-70e4043c5b7so2271767b3.1 for ; Wed, 23 Jul 2025 11:34:28 -0700 (PDT) DKIM-Signature: v=1; a=rsa-sha256; c=relaxed/relaxed; d=iol.unh.edu; s=unh-iol; t=1753295668; x=1753900468; darn=dpdk.org; h=references:in-reply-to:cc:to:from:subject:message-id:date:from:to :cc:subject:date:message-id:reply-to; bh=owgxuk/dghRdt7F1x6YDK6ipBAKdO2LwjL8yYBN+YHQ=; b=LUjcyXWiRqwKEx4ud2NXkCzaFyLpNb5Y96CVp10JgmU/CetH1fUrEDNzGZnOFX2NQv IiIQ7WxXMHNhtU2/hF8/UO1yDodZM6ebTal6IDLc3t9AVVnVRxvfOXFOz43B7tysPVG6 AuQzBOW88/1PZIfQTiY2o5WcGMZToAAESMrSM= X-Google-DKIM-Signature: v=1; a=rsa-sha256; c=relaxed/relaxed; d=1e100.net; s=20230601; t=1753295668; x=1753900468; h=references:in-reply-to:cc:to:from:subject:message-id:date :x-gm-message-state:from:to:cc:subject:date:message-id:reply-to; bh=owgxuk/dghRdt7F1x6YDK6ipBAKdO2LwjL8yYBN+YHQ=; b=szALcrBRUz+orQOMqP5CMZ9X/3ZTXdjEGgl1kLCopUabR+zZ5ETay2droJ5QG4BirM QmMHaWmh7vAuy3Ggazm32SF237U54EyhgCPbLGKTkzoAxRgHnaiQ42gO8ErQ+i9aQM+D rKBvYg8nkLPDm92eDRLEWxO3CzneGUmGS1VXBwbDfPmwIre2BOfqDpRRZaHVmXeQivYd 8xEfOtEMu35pMMfjjVQKMgOkW5tcOvFKHLtrQQPq0Gy8MS+bNsph4hzkw5LI81y0YcqM iblnVz83rM+DrCan5wxT5cJkw6iRo4D8vNWn0O4DQfiIl77sPMswef2yI4I+Hyn5ZF6L 8p7g== X-Gm-Message-State: AOJu0YwWK5wq9wDhZX7/tLv6blJJ605ljgzVaK1knoUJksTH3BrYI2Tq OtucYgn3Ogc2dHc+VlQyU9sO+9zhyEB/7MUANd5I8UzX9nZglg3sEHuVU5IsBDA8Qlfguhlt4Bs abLmdSlfp6/+2McxQBpQ9LWscLfyAjoq+zKFLePFn5nun X-Gm-Gg: ASbGnctxyttFmuuO1o12UfIO1wJiKfHGckCquRtRDTFH2mGEonpQ51GjrmXnjRENUXI NJiEQ071VlQLF2zFbbWMsIR+PWdKF9SmST2zWJMgxI/IwX50JQlzekfpHw3AUdxzGV875q5rx2e STbOWYk9/svTAIA/tXniXbL1YFQezr52iTrkJaAvki2m4SkTcBf1rFsDXU2ku9R0Vo0KgAeZqMG wCkBHH32Z56F7j+/txamfiIzhosINGeeJ0as6iymDgxOLFxr0QIYXL5aZwV2TfkNPSG3CDxKyvZ zyyKYQlNGaRJPF00K/ZCQAHqAroWp9S+9qJxOT7Sa6rz+C9SkT6NnSHFOzD/WP4RCgq7prIb X-Google-Smtp-Source: AGHT+IHngmt4rbz1wPkrjUcT+pCn1F0DiFQ8qLefLqreyl49NIu++LrPQDug+J49gcw5qiCzTLzxhU4E0/xv X-Received: by 2002:a05:690c:14:b0:715:2081:f2f8 with SMTP id 00721157ae682-719b42271acmr47195187b3.27.1753295667996; Wed, 23 Jul 2025 11:34:27 -0700 (PDT) Received: from postal.iol.unh.edu (postal.iol.unh.edu. [132.177.123.84]) by smtp-relay.gmail.com with ESMTPS id 00721157ae682-719532cd378sm7193407b3.38.2025.07.23.11.34.27 (version=TLS1_2 cipher=ECDHE-ECDSA-AES128-GCM-SHA256 bits=128/128); Wed, 23 Jul 2025 11:34:27 -0700 (PDT) X-Relaying-Domain: iol.unh.edu Date: Wed, 23 Jul 2025 11:34:27 -0700 (PDT) Message-ID: <68812b33.050a0220.27b265.61beSMTPIN_ADDED_MISSING@mx.google.com> Received: from [172.21.0.2] (unknown [172.18.0.240]) by postal.iol.unh.edu (Postfix) with ESMTP id B617D6051830; Wed, 23 Jul 2025 14:34:27 -0400 (EDT) Subject: |SUCCESS| pw155484-155496 [PATCH] [v7,13/13] eal: add warnings about From: dpdklab@iol.unh.edu To: Test Report Cc: dpdk-test-reports@iol.unh.edu In-Reply-To: <20250723162013.2392-14-bruce.richardson@intel.com> References: <20250723162013.2392-14-bruce.richardson@intel.com> Content-Type: text/plain X-BeenThere: test-report@dpdk.org X-Mailman-Version: 2.1.29 Precedence: list List-Id: automatic DPDK test reports List-Unsubscribe: , List-Archive: List-Post: List-Help: List-Subscribe: , Errors-To: test-report-bounces@dpdk.org Test-Label: iol-compile-amd64-testing Test-Status: SUCCESS http://dpdk.org/patch/155496 _Testing PASS_ Submitter: Bruce Richardson Date: Wednesday, July 23 2025 16:20:11 DPDK git baseline: Repo:dpdk Branch: master CommitID:e3183a6edafdc41bfd71de1517f9e9ec85eb1276 155484-155496 --> testing pass Upstream job id: Windows-Compile-DPDK-VS#6449 Test environment and result as below: +---------------------+--------------------+-------------------+ | Environment | dpdk_meson_compile | dpdk_msvc_compile | +=====================+====================+===================+ | FreeBSD 14.2 | PASS | SKIPPED | +---------------------+--------------------+-------------------+ | Ubuntu 20.04 | PASS | SKIPPED | +---------------------+--------------------+-------------------+ | Windows Server 2022 | SKIPPED | PASS | +---------------------+--------------------+-------------------+ FreeBSD 14.2 Kernel: 14.2-RELEASE Compiler: clang 18.1.6 Ubuntu 20.04 Kernel: 4.19 Compiler: gcc gcc (Ubuntu 9.4.0-1ubuntu1~20.04.2) 9.4.0 Windows Server 2022 Kernel: 10.0.20348.2031 Compiler: clang 15.0.7, gcc 14.1.0 (MinGW), and MSVC VS 19.39.33521 To view detailed results, visit: https://lab.dpdk.org/results/dashboard/patchsets/33741/ UNH-IOL DPDK Community Lab To manage your email subscriptions, visit: https://lab.dpdk.org/results/dashboard/preferences/subscriptions/