From mboxrd@z Thu Jan 1 00:00:00 1970 Return-Path: Received: from mails.dpdk.org (mails.dpdk.org [217.70.189.124]) by inbox.dpdk.org (Postfix) with ESMTP id 8F88446BF4 for ; Wed, 23 Jul 2025 20:37:52 +0200 (CEST) Received: from mails.dpdk.org (localhost [127.0.0.1]) by mails.dpdk.org (Postfix) with ESMTP id 6C80240267; Wed, 23 Jul 2025 20:37:52 +0200 (CEST) Received: from mail-pl1-f225.google.com (mail-pl1-f225.google.com [209.85.214.225]) by mails.dpdk.org (Postfix) with ESMTP id 2939C40267 for ; Wed, 23 Jul 2025 20:37:51 +0200 (CEST) Received: by mail-pl1-f225.google.com with SMTP id d9443c01a7336-23dea2e01e4so1805885ad.1 for ; Wed, 23 Jul 2025 11:37:51 -0700 (PDT) DKIM-Signature: v=1; a=rsa-sha256; c=relaxed/relaxed; d=iol.unh.edu; s=unh-iol; t=1753295870; x=1753900670; darn=dpdk.org; h=references:in-reply-to:cc:to:from:subject:message-id:date:from:to :cc:subject:date:message-id:reply-to; bh=jzvCWg5fwWR0kilQv2I9n4XsmO0aUQH+b6J3CaDmfZQ=; b=EtaKUXUE8L32bNcXPNwc62vwTfzuo78wl177ie8tX4JCmw3L/cSawnhYcg3W3pJM2K XcM13arLgyXk2+lAsNnTQ3ewWxIcd2RBa/HRS9IgHdFh9fzC3C9kjxbf5A0NC6J6vDLh mGM8IMcl1ApCN83yXtUtLWH0AoI1i1jRi0ras= X-Google-DKIM-Signature: v=1; a=rsa-sha256; c=relaxed/relaxed; d=1e100.net; s=20230601; t=1753295870; x=1753900670; h=references:in-reply-to:cc:to:from:subject:message-id:date :x-gm-message-state:from:to:cc:subject:date:message-id:reply-to; bh=jzvCWg5fwWR0kilQv2I9n4XsmO0aUQH+b6J3CaDmfZQ=; b=MKAQOCiVHDgAtJ8ttTOcoXsE15GR8oLovydaiYVl2XAGOgKfSSWxpUF2C8f2SUokra EqLWVwJYCjkVaVB1CWqB+p4/fAuqifktbdi7w2V586cI/XBe8Uxndgg9l31MKS9As+Vk eDXNf4Cwk9rwuTa/PlgBybzVs2cEW6DErRZqmQlp1+pBgz6EBB4gxEmBpoHDt0I3UPu6 tG9hQ3sWgajuONGJbRp3yYT4ETlxx75O+OocMf8exJuXGdR2jw+CKFs0l20ovRtGZFDy ia6fG/oB4eQ2U04n0ouUWuV4XurPEYgbHaAAKP1M0shH7fSAByxNPidkUX1pmigIDSR4 pvCw== X-Gm-Message-State: AOJu0Yym8uXEj+H3C2H8xRVuXJjYLUBhY1soOXYubFnkWJBMkG/6lufV yHzKIJP64EACQW4Lm+nZ/dVBQjG2KbkCK6KW4mX+/AAiN/dX1ZvwJS4zhbQJ+Am2mZSTCXSNVzF aKITvEIL3fIqA5wOnmSyWB+4JvMzMhDGnnsF/xENoYuqu39TQWApZIQDjKYD8 X-Gm-Gg: ASbGncvb97d9dufSoKpxCGv9prXf/lzC5Cze33EUX/hexFRmfVf6xlr/Ph/hDCM4AL4 siy9jbVkY4IDzkTVvHtCNixi36p0tV/Roc0jiM+XM1QoR9DgaVxHs2NFFjj+qBgMLlpPA9BJIzC N4pVaFX/wYdayLldUIhgZkiXPFjM26+bwgM5f7HOrnd9siOr69mjS4ObSwA8efJCiVfJB3TbGDk XvhxsIwNG687bUPq1ayxuojWB4zigFhwIbNmAcTHF37IADyQs5erPWBB+1MWnuOcGL/dfCQVF3E vwBHL7URxqOgAezsaU4cakBEUzAwdfAsFjSYHa9i25ofGSaYAA== X-Google-Smtp-Source: AGHT+IE8Wr1rJmvq7QRacSSi3oqOX7F0DMWWhkzskQs8zCkkNsGiTspd7xy75W6wsTiwCRejyc9LHjG88rGy X-Received: by 2002:a17:90a:ec8b:b0:31c:bfac:9e25 with SMTP id 98e67ed59e1d1-31e506fdc08mr6793261a91.14.1753295870205; Wed, 23 Jul 2025 11:37:50 -0700 (PDT) Received: from postal.iol.unh.edu (postal.iol.unh.edu. [2606:4100:3880:1234::84]) by smtp-relay.gmail.com with ESMTPS id 41be03b00d2f7-b3f2ff7e2fesm778078a12.21.2025.07.23.11.37.50 (version=TLS1_2 cipher=ECDHE-ECDSA-AES128-GCM-SHA256 bits=128/128); Wed, 23 Jul 2025 11:37:50 -0700 (PDT) X-Relaying-Domain: iol.unh.edu Date: Wed, 23 Jul 2025 11:37:50 -0700 (PDT) Message-ID: <68812bfe.650a0220.10faa0.7296SMTPIN_ADDED_MISSING@mx.google.com> Received: from [172.21.0.2] (unknown [172.18.0.240]) by postal.iol.unh.edu (Postfix) with ESMTP id 79CD56051835; Wed, 23 Jul 2025 14:37:49 -0400 (EDT) Subject: |SUCCESS| pw155483 [PATCH] net/tap: fix BPF build failure in cross-c From: dpdklab@iol.unh.edu To: Test Report Cc: dpdk-test-reports@iol.unh.edu In-Reply-To: <20250723125702.3787183-1-ashok.k.kaladi@intel.com> References: <20250723125702.3787183-1-ashok.k.kaladi@intel.com> Content-Type: text/plain X-BeenThere: test-report@dpdk.org X-Mailman-Version: 2.1.29 Precedence: list List-Id: automatic DPDK test reports List-Unsubscribe: , List-Archive: List-Post: List-Help: List-Subscribe: , Errors-To: test-report-bounces@dpdk.org Test-Label: iol-unit-amd64-testing Test-Status: SUCCESS http://dpdk.org/patch/155483 _Testing PASS_ Submitter: Ashok Kaladi Date: Wednesday, July 23 2025 12:57:02 DPDK git baseline: Repo:dpdk Branch: master CommitID:899bc9e500ccc718c12b1df4b920dcf0cbeb6265 155483 --> testing pass Upstream job id: Generic-Unit-Test-DPDK#357838 Test environment and result as below: +-------------------------------+----------------+ | Environment | dpdk_unit_test | +===============================+================+ | CentOS Stream 9 | PASS | +-------------------------------+----------------+ | CentOS Stream 10 | PASS | +-------------------------------+----------------+ | Fedora Linux 40 | PASS | +-------------------------------+----------------+ | Debian GNU/Linux 12 | PASS | +-------------------------------+----------------+ | Ubuntu 20.04 | PASS | +-------------------------------+----------------+ | Fedora Linux 41 | PASS | +-------------------------------+----------------+ | Red Hat Enterprise Linux 9.5 | PASS | +-------------------------------+----------------+ | Red Hat Enterprise Linux 8.10 | PASS | +-------------------------------+----------------+ | Ubuntu 22.04 | PASS | +-------------------------------+----------------+ | Ubuntu 24.04 | PASS | +-------------------------------+----------------+ | Windows Server 2022 | PASS | +-------------------------------+----------------+ CentOS Stream 9 Kernel: 5.15 Compiler: gcc gcc (GCC) 11.5.0 20240719 (Red Hat 11.5.0-7) CentOS Stream 10 Kernel: 5.15 Compiler: gcc gcc (GCC) 14.2.1 20250110 (Red Hat 14.2.1-8) Fedora Linux 40 Kernel: 5.15 Compiler: clang gcc (GCC) 14.2.1 20240912 (Red Hat 14.2.1-3) Debian GNU/Linux 12 Kernel: 5.15 Compiler: gcc gcc (Debian 12.2.0-14+deb12u1) 12.2.0 Ubuntu 20.04 Kernel: 5.15 Compiler: gcc gcc (Ubuntu 9.4.0-1ubuntu1~20.04.2) 9.4.0 Fedora Linux 41 Kernel: 5.15 Compiler: clang gcc (GCC) 14.3.1 20250523 (Red Hat 14.3.1-1) Red Hat Enterprise Linux 9.5 Kernel: 5.15 Compiler: gcc gcc (GCC) 11.5.0 20240719 (Red Hat 11.5.0-2) Red Hat Enterprise Linux 8.10 Kernel: 5.15 Compiler: gcc gcc (GCC) 8.5.0 20210514 (Red Hat 8.5.0-22) Ubuntu 22.04 Kernel: 5.15 Compiler: gcc gcc (Ubuntu 11.4.0-1ubuntu1~22.04) 11.4.0 Ubuntu 24.04 Kernel: 5.15 Compiler: gcc gcc (Ubuntu 13.3.0-6ubuntu2~24.04) 13.3.0 Windows Server 2022 Kernel: 10.0.20348.2031 Compiler: clang 15.0.7, gcc 14.1.0 (MinGW), and MSVC VS 19.39.33521 To view detailed results, visit: https://lab.dpdk.org/results/dashboard/patchsets/33740/ UNH-IOL DPDK Community Lab To manage your email subscriptions, visit: https://lab.dpdk.org/results/dashboard/preferences/subscriptions/