From mboxrd@z Thu Jan 1 00:00:00 1970 Return-Path: Received: from mails.dpdk.org (mails.dpdk.org [217.70.189.124]) by inbox.dpdk.org (Postfix) with ESMTP id 0A91B46BF4 for ; Wed, 23 Jul 2025 20:44:05 +0200 (CEST) Received: from mails.dpdk.org (localhost [127.0.0.1]) by mails.dpdk.org (Postfix) with ESMTP id 0601840267; Wed, 23 Jul 2025 20:44:05 +0200 (CEST) Received: from mail-yw1-f227.google.com (mail-yw1-f227.google.com [209.85.128.227]) by mails.dpdk.org (Postfix) with ESMTP id 65C9840267 for ; Wed, 23 Jul 2025 20:44:03 +0200 (CEST) Received: by mail-yw1-f227.google.com with SMTP id 00721157ae682-718425f1172so2697207b3.0 for ; Wed, 23 Jul 2025 11:44:03 -0700 (PDT) DKIM-Signature: v=1; a=rsa-sha256; c=relaxed/relaxed; d=iol.unh.edu; s=unh-iol; t=1753296243; x=1753901043; darn=dpdk.org; h=references:in-reply-to:cc:to:from:subject:message-id:date:from:to :cc:subject:date:message-id:reply-to; bh=xr0LTS9MrYOxV+OFnlaOXlatnv6XjgJ0meoEoxnLEFA=; b=cPlwwhGaLoXPEtqO/bdknZ+++fBfgkhjbSiV49VNpcXhc2AMiG5PW3eEvGeVU4r1LH dBHexdCSQYFZ12w0pb5DANu+qTOMv6ABhoK9FY2IgxrKQZtlACLxWfTHPsFC4qL2NG1+ vJxsAQRbywvJ9uWJWwqe/v8B4EaZxRS2eOp3E= X-Google-DKIM-Signature: v=1; a=rsa-sha256; c=relaxed/relaxed; d=1e100.net; s=20230601; t=1753296243; x=1753901043; h=references:in-reply-to:cc:to:from:subject:message-id:date :x-gm-message-state:from:to:cc:subject:date:message-id:reply-to; bh=xr0LTS9MrYOxV+OFnlaOXlatnv6XjgJ0meoEoxnLEFA=; b=SSYqo48a/n4o3NWlL0+kcDY2bIgHrNJrhj+BrcRGvJcQtqRC/eWxNPW2O8XDQRxKGV HC+VBVOglwAte5q4ZyC8dxhv/lXINHKeoiGne1ckQW5qklKZ0gi9mfkrhesp4R0kSLh0 Og8KkvAgoaB3qHyBcXSqiaG/Yy5OdryAsiEWTdNR8eiqRMQCqx/wLj0QI/AHMIiRCVC4 a7TXfro7T1eNHZiHrXnv0b2ZClUoDC2Jw75NuJgEBNee8tUhCRruiPP5F3+rA0BJZ5oE +o/PXG4M5B1BQn9SD1YDAnW2RzwKyWSp39ZYtOywe6W9MkltFcG8FsDMczo5cgKZwPr+ a2sg== X-Gm-Message-State: AOJu0YyQthxtzxrcYGQ30eAGSpcewAcYjVlx/Lfcoqstl1XnLbA+MzMy T/Rqi2jSJmlVCr5ZzpEdtKJstKYlynvCmrk6xJbbM/wsO8A1FAXmZQWX4Dpc0dKmBFGmU+rQzz3 inJ578LDdFtOekWakBnn9JnD1fWXBWHUyz3nGqv9ikKTehPFmI7BfRFLVhZME X-Gm-Gg: ASbGnctuSOYoMDgu+bKkDg1E811xK1xkFs5uUX/DXkG9E9DMUL4+ht9LYZZVK5tVjcZ 1um8tIEkp+WJpiFSb4NsLVNeCb3B9hNZ+0r+7vroMQUHM4wQz55AluQ40p3OH9+I/Z9Pj0/8spd MU6AV7uH3RHLYGjCeQWWWCGexZN1UlcydAilygKpkHyFHXbGz1pZMtFZnge3EnaV4kUeJlehblH OQDafdTQIvU4Lph7KYIexOrEPQEv9KV7oq0ujbJ+LVKR/aSVHPvCKBFDgujSBmnYE5KBvbRF3iA CK1O4ew+d6aiEhNFs/86w7CUk3PPNIzCg30ElOZxyi9ij2CzEQ== X-Google-Smtp-Source: AGHT+IEoCxBrIG+N2ioWAprjsYV9QNx8filUTWXz+32g5RX7L68H3rvggpMlCiW0BqqnfSwYBwvV7fzmUhFV X-Received: by 2002:a05:690c:480b:b0:719:93a1:60aa with SMTP id 00721157ae682-719b43536e2mr43095467b3.42.1753296242779; Wed, 23 Jul 2025 11:44:02 -0700 (PDT) Received: from postal.iol.unh.edu (postal.iol.unh.edu. [2606:4100:3880:1234::84]) by smtp-relay.gmail.com with ESMTPS id 00721157ae682-71953105e12sm6917257b3.5.2025.07.23.11.44.02 (version=TLS1_2 cipher=ECDHE-ECDSA-AES128-GCM-SHA256 bits=128/128); Wed, 23 Jul 2025 11:44:02 -0700 (PDT) X-Relaying-Domain: iol.unh.edu Date: Wed, 23 Jul 2025 11:44:02 -0700 (PDT) Message-ID: <68812d72.050a0220.1b9156.381eSMTPIN_ADDED_MISSING@mx.google.com> Received: from [172.21.0.4] (unknown [172.18.0.240]) by postal.iol.unh.edu (Postfix) with ESMTP id 709366050A61; Wed, 23 Jul 2025 14:44:02 -0400 (EDT) Subject: |SUCCESS| pw155457 [PATCH] net/af_xdp: enable AF_XDP program attachm From: dpdklab@iol.unh.edu To: Test Report Cc: dpdk-test-reports@iol.unh.edu In-Reply-To: <20250723074249.3264675-1-shivajikant@google.com> References: <20250723074249.3264675-1-shivajikant@google.com> Content-Type: text/plain X-BeenThere: test-report@dpdk.org X-Mailman-Version: 2.1.29 Precedence: list List-Id: automatic DPDK test reports List-Unsubscribe: , List-Archive: List-Post: List-Help: List-Subscribe: , Errors-To: test-report-bounces@dpdk.org Test-Label: iol-unit-arm64-testing Test-Status: SUCCESS http://dpdk.org/patch/155457 _Testing PASS_ Submitter: Shivaji Kant Date: Wednesday, July 23 2025 07:42:49 DPDK git baseline: Repo:dpdk Branch: master CommitID:b78afde1fed9e11ee5cdce333a1a69dd7a9cf13e 155457 --> testing pass Upstream job id: Generic-Unit-Test-DPDK#357725 Test environment and result as below: +------------------------------+--------------+------------------------------+---------------------------+----------------+ | Environment | lpm_autotest | cryptodev_sw_snow3g_autotest | cryptodev_sw_zuc_autotest | dpdk_unit_test | +==============================+==============+==============================+===========================+================+ | Ubuntu 20.04 | PASS | SKIPPED | SKIPPED | PASS | +------------------------------+--------------+------------------------------+---------------------------+----------------+ | Debian 12 (arm) | SKIPPED | PASS | PASS | SKIPPED | +------------------------------+--------------+------------------------------+---------------------------+----------------+ | CentOS Stream 9 | SKIPPED | SKIPPED | SKIPPED | PASS | +------------------------------+--------------+------------------------------+---------------------------+----------------+ | Fedora Linux 40 | SKIPPED | SKIPPED | SKIPPED | PASS | +------------------------------+--------------+------------------------------+---------------------------+----------------+ | CentOS Stream 10 | SKIPPED | SKIPPED | SKIPPED | PASS | +------------------------------+--------------+------------------------------+---------------------------+----------------+ | Red Hat Enterprise Linux 9.5 | SKIPPED | SKIPPED | SKIPPED | PASS | +------------------------------+--------------+------------------------------+---------------------------+----------------+ | Debian GNU/Linux 12 | SKIPPED | SKIPPED | SKIPPED | PASS | +------------------------------+--------------+------------------------------+---------------------------+----------------+ | Fedora Linux 41 | SKIPPED | SKIPPED | SKIPPED | PASS | +------------------------------+--------------+------------------------------+---------------------------+----------------+ | Ubuntu 22.04 | SKIPPED | SKIPPED | SKIPPED | PASS | +------------------------------+--------------+------------------------------+---------------------------+----------------+ | Ubuntu 24.04 | SKIPPED | SKIPPED | SKIPPED | PASS | +------------------------------+--------------+------------------------------+---------------------------+----------------+ Ubuntu 20.04 Kernel: 5.4 Compiler: gcc gcc (Ubuntu 9.4.0-1ubuntu1~20.04.2) 9.4.0 Debian 12 (arm) Kernel: Depends on container host Compiler: gcc (Debian 12.2.0-14) 12.2.0 CentOS Stream 9 Kernel: 5.4 Compiler: gcc gcc (GCC) 11.5.0 20240719 (Red Hat 11.5.0-7) Fedora Linux 40 Kernel: 5.4 Compiler: gcc gcc (GCC) 14.2.1 20240912 (Red Hat 14.2.1-3) CentOS Stream 10 Kernel: 5.4 Compiler: gcc gcc (GCC) 14.2.1 20250110 (Red Hat 14.2.1-8) Red Hat Enterprise Linux 9.5 Kernel: 5.4 Compiler: gcc gcc (GCC) 11.5.0 20240719 (Red Hat 11.5.0-2) Debian GNU/Linux 12 Kernel: 5.4 Compiler: gcc gcc (Debian 12.2.0-14+deb12u1) 12.2.0 Fedora Linux 41 Kernel: 5.4 Compiler: gcc gcc (GCC) 14.3.1 20250523 (Red Hat 14.3.1-1) Ubuntu 22.04 Kernel: 5.4 Compiler: gcc gcc (Ubuntu 11.4.0-1ubuntu1~22.04) 11.4.0 Ubuntu 24.04 Kernel: 5.4 Compiler: gcc gcc (Ubuntu 13.3.0-6ubuntu2~24.04) 13.3.0 To view detailed results, visit: https://lab.dpdk.org/results/dashboard/patchsets/33735/ UNH-IOL DPDK Community Lab To manage your email subscriptions, visit: https://lab.dpdk.org/results/dashboard/preferences/subscriptions/