From mboxrd@z Thu Jan 1 00:00:00 1970 Return-Path: Received: from mails.dpdk.org (mails.dpdk.org [217.70.189.124]) by inbox.dpdk.org (Postfix) with ESMTP id 1B8E946BF4 for ; Wed, 23 Jul 2025 21:23:15 +0200 (CEST) Received: from mails.dpdk.org (localhost [127.0.0.1]) by mails.dpdk.org (Postfix) with ESMTP id 14EC940267; Wed, 23 Jul 2025 21:23:15 +0200 (CEST) Received: from mail-pf1-f226.google.com (mail-pf1-f226.google.com [209.85.210.226]) by mails.dpdk.org (Postfix) with ESMTP id 616DC40267 for ; Wed, 23 Jul 2025 21:23:13 +0200 (CEST) Received: by mail-pf1-f226.google.com with SMTP id d2e1a72fcca58-7494999de5cso215428b3a.3 for ; Wed, 23 Jul 2025 12:23:13 -0700 (PDT) DKIM-Signature: v=1; a=rsa-sha256; c=relaxed/relaxed; d=iol.unh.edu; s=unh-iol; t=1753298592; x=1753903392; darn=dpdk.org; h=references:in-reply-to:cc:to:from:subject:message-id:date:from:to :cc:subject:date:message-id:reply-to; bh=Vt1kksn/4pYRxkMagHkFrbtr9PvyevMs5uiw0uvUufk=; b=GlfA8KRUNl+RVfsX/kT3xcX2e0uxgagyjCD+YlYTdledYO3RwjcPYbKRSNHWNilQw2 IXS2uPyOxbUbzmAGscPW4SW8uUPPRz704dYhjSZP/2HDHz6nyigAv7N9nb1XjLVBebtz EEYB7fv1bcoBy3+wwx+hzlyUPYynqigZkxm08= X-Google-DKIM-Signature: v=1; a=rsa-sha256; c=relaxed/relaxed; d=1e100.net; s=20230601; t=1753298592; x=1753903392; h=references:in-reply-to:cc:to:from:subject:message-id:date :x-gm-message-state:from:to:cc:subject:date:message-id:reply-to; bh=Vt1kksn/4pYRxkMagHkFrbtr9PvyevMs5uiw0uvUufk=; b=a0XYgOcDnTT9UVIkHh+q5nyYsftDttfPZDCu2WzjbEzjCJ7jKEDzIXAV747KPeDU5V HaTxwB2jU3HmSmQFU2wglDcWazzUs8j0ohE+Zj7ZGdNUinuX5U3GUCbZ+0+zCS5aMMpv d+jBWjPbKG8Eb+usrNMWlHGQzN2XMh+xK1BrqqREo4c4evOSnWwauuOkf7+ELdd8Es4j ZkSnA7/1mVk86T4sND44lji+GUFUDsQnh3xRcQdPBAA8gF9AZEZ583EzJWHPJEzcjRiG t4PydUJ6MS4Pdvv9bI3LHhtmr40w/M5hhHf4d3SMHryP771gHuzKMsQqe9Ox4ZHkd/Yh qgBQ== X-Gm-Message-State: AOJu0YxF+6fRACOH/fKxHaap2xH+sIpgIzw5cH9J/HMRTroW9rotTFS3 x+Yim1sgWd9n6COyX1VW1Tw8YsnNx9Nm+RRdCRmxlNo1ZdEORu6hIL2EHHr+mascfTnyHqbvwLx +tq8HRuBFYcwbqMkW/9cx3HlpOvoHoil7BfJID9Q4hwYU X-Gm-Gg: ASbGnculgqJ51ke1704ZIvI7rDB/swijvb/7cZPv5W9XOD6/QYskG+pS+ZKuqctuyUk gA13zjOluoaoI22MHODORq8HQnEcBehsePDkeoUKIhadKOBPe0kC1TpcGZkgzKukljbWE38/MNT k637GxKyY1lviDltyO8kMYo18M4zoAYykmiqLzqyqwK3+0XaMTrumTy9haAjAlm2njBTVHwqSZG elMmmeobZr40VfyuWThI6PVuNkIFcN8kAgpVp7h4oc5pt2a3PRlCkb/PCdx9rb2Tsl2otRDGPyy p1OCmclkP7nsM6LZ4U1GXvW4RI7Del+WX64SKBIJZlLzKpiGmgdMeVVk3gpiaxOnzl9B5YJA X-Google-Smtp-Source: AGHT+IHpckf+QpL5lONs/xj2Pnj+io1k+Z1b09Zdtv7odqiDZNO4kVQKsZOw2UyW1wLju/9I5fW+kMXkstns X-Received: by 2002:a05:6a00:3d43:b0:748:2fa4:14c0 with SMTP id d2e1a72fcca58-7603224a09cmr6082600b3a.0.1753298592445; Wed, 23 Jul 2025 12:23:12 -0700 (PDT) Received: from postal.iol.unh.edu (postal.iol.unh.edu. [132.177.123.84]) by smtp-relay.gmail.com with ESMTPS id d2e1a72fcca58-759c84dae44sm768267b3a.4.2025.07.23.12.23.12 (version=TLS1_2 cipher=ECDHE-ECDSA-AES128-GCM-SHA256 bits=128/128); Wed, 23 Jul 2025 12:23:12 -0700 (PDT) X-Relaying-Domain: iol.unh.edu Date: Wed, 23 Jul 2025 12:23:12 -0700 (PDT) Message-ID: <688136a0.050a0220.399f0b.72a4SMTPIN_ADDED_MISSING@mx.google.com> Received: from [172.21.0.2] (unknown [172.18.0.240]) by postal.iol.unh.edu (Postfix) with ESMTP id AFD4C604D420; Wed, 23 Jul 2025 15:23:11 -0400 (EDT) Subject: |SUCCESS| pw155484-155496 [PATCH] [v7,13/13] eal: add warnings about From: dpdklab@iol.unh.edu To: Test Report Cc: dpdk-test-reports@iol.unh.edu In-Reply-To: <20250723162013.2392-14-bruce.richardson@intel.com> References: <20250723162013.2392-14-bruce.richardson@intel.com> Content-Type: text/plain X-BeenThere: test-report@dpdk.org X-Mailman-Version: 2.1.29 Precedence: list List-Id: automatic DPDK test reports List-Unsubscribe: , List-Archive: List-Post: List-Help: List-Subscribe: , Errors-To: test-report-bounces@dpdk.org Test-Label: iol-unit-amd64-testing Test-Status: SUCCESS http://dpdk.org/patch/155496 _Testing PASS_ Submitter: Bruce Richardson Date: Wednesday, July 23 2025 16:20:11 DPDK git baseline: Repo:dpdk Branch: master CommitID:e3183a6edafdc41bfd71de1517f9e9ec85eb1276 155484-155496 --> testing pass Upstream job id: Generic-Unit-Test-DPDK#357857 Test environment and result as below: +-------------------------------+----------------+ | Environment | dpdk_unit_test | +===============================+================+ | CentOS Stream 9 | PASS | +-------------------------------+----------------+ | Debian GNU/Linux 12 | PASS | +-------------------------------+----------------+ | Fedora Linux 40 | PASS | +-------------------------------+----------------+ | CentOS Stream 10 | PASS | +-------------------------------+----------------+ | Fedora Linux 41 | PASS | +-------------------------------+----------------+ | Red Hat Enterprise Linux 9.5 | PASS | +-------------------------------+----------------+ | Ubuntu 20.04 | PASS | +-------------------------------+----------------+ | Red Hat Enterprise Linux 8.10 | PASS | +-------------------------------+----------------+ | Ubuntu 24.04 | PASS | +-------------------------------+----------------+ | Ubuntu 22.04 | PASS | +-------------------------------+----------------+ CentOS Stream 9 Kernel: 5.15 Compiler: gcc gcc (GCC) 11.5.0 20240719 (Red Hat 11.5.0-7) Debian GNU/Linux 12 Kernel: 5.15 Compiler: gcc gcc (Debian 12.2.0-14+deb12u1) 12.2.0 Fedora Linux 40 Kernel: 5.15 Compiler: clang gcc (GCC) 14.2.1 20240912 (Red Hat 14.2.1-3) CentOS Stream 10 Kernel: 5.15 Compiler: gcc gcc (GCC) 14.2.1 20250110 (Red Hat 14.2.1-8) Fedora Linux 41 Kernel: 5.15 Compiler: gcc gcc (GCC) 14.3.1 20250523 (Red Hat 14.3.1-1) Red Hat Enterprise Linux 9.5 Kernel: 5.15 Compiler: gcc gcc (GCC) 11.5.0 20240719 (Red Hat 11.5.0-2) Ubuntu 20.04 Kernel: 5.15 Compiler: gcc gcc (Ubuntu 9.4.0-1ubuntu1~20.04.2) 9.4.0 Red Hat Enterprise Linux 8.10 Kernel: 5.15 Compiler: gcc gcc (GCC) 8.5.0 20210514 (Red Hat 8.5.0-22) Ubuntu 24.04 Kernel: 5.15 Compiler: gcc gcc (Ubuntu 13.3.0-6ubuntu2~24.04) 13.3.0 Ubuntu 22.04 Kernel: 5.15 Compiler: gcc gcc (Ubuntu 11.4.0-1ubuntu1~22.04) 11.4.0 To view detailed results, visit: https://lab.dpdk.org/results/dashboard/patchsets/33741/ UNH-IOL DPDK Community Lab To manage your email subscriptions, visit: https://lab.dpdk.org/results/dashboard/preferences/subscriptions/