From mboxrd@z Thu Jan 1 00:00:00 1970 Return-Path: Received: from mails.dpdk.org (mails.dpdk.org [217.70.189.124]) by inbox.dpdk.org (Postfix) with ESMTP id E59E446BF5 for ; Wed, 23 Jul 2025 22:01:22 +0200 (CEST) Received: from mails.dpdk.org (localhost [127.0.0.1]) by mails.dpdk.org (Postfix) with ESMTP id CF92B40151; Wed, 23 Jul 2025 22:01:22 +0200 (CEST) Received: from mail-vk1-f226.google.com (mail-vk1-f226.google.com [209.85.221.226]) by mails.dpdk.org (Postfix) with ESMTP id 46EC540151 for ; Wed, 23 Jul 2025 22:01:22 +0200 (CEST) Received: by mail-vk1-f226.google.com with SMTP id 71dfb90a1353d-531b4407cfbso101085e0c.1 for ; Wed, 23 Jul 2025 13:01:22 -0700 (PDT) DKIM-Signature: v=1; a=rsa-sha256; c=relaxed/relaxed; d=iol.unh.edu; s=unh-iol; t=1753300881; x=1753905681; darn=dpdk.org; h=references:in-reply-to:cc:to:from:subject:message-id:date:from:to :cc:subject:date:message-id:reply-to; bh=Xfa15/oXiy4LK82rHVburGkbD4oc74KblUwVtzIWLIM=; b=NrBdje53alKhJ5xwIj9rHJvY0wM2nLrEBi25M9Xcjaf3vQxTTyR0M3rXHQDfgMTtxN YbKb1GbG/I+jpYlE7bQ3trSPZdeAI4518Umlp2UO90aQvQwj6680lvDN2VzgEqQd3gBH GaRP46It8hb7/yp/ukW/KdZ7v5eVvHxCJDvRw= X-Google-DKIM-Signature: v=1; a=rsa-sha256; c=relaxed/relaxed; d=1e100.net; s=20230601; t=1753300881; x=1753905681; h=references:in-reply-to:cc:to:from:subject:message-id:date :x-gm-message-state:from:to:cc:subject:date:message-id:reply-to; bh=Xfa15/oXiy4LK82rHVburGkbD4oc74KblUwVtzIWLIM=; b=EwXfumxratdW3TGSzejfdDpcxCxxttO9FwgXRV1ajHkOpepQ9RZ6l+LWcwPQSV4Ul0 y8Cc7N2z9+ocB3t5Vn82Ngn1x3fKbh6q2BEUuZztmFFG5qw6gUOwSy97yGb6yDyYinsN 64jqQHFe4AJ9FZYg53sx294l8plysfOOtbrX8eh9JfX9YTG7SpuYOOG/8y3l8kUZiDKj Ml7QKCzsTJZc/72kaY//NSlZsaFnqTdqzxesGHCHASjKDkhMzWjepm1bae/mXAvgxl4S LmCqJwyu+Xo3sYcvTTQ5JkvIx/e6gLP43N4pP1l0Nc4aHSmEKDipBmvoqZJje/pW8q8y 8F7g== X-Gm-Message-State: AOJu0YwK7QnlsDAsptF/q4aPgCV/cHEbIwdGTCJQRcQfMmxLjy8OdlQh KwOtH1v6HJZ8a+gh7Q8JmkUVZ1UvAzLrlZvi0oz6HshM1Nj9Q0cSuSXrUtuuegams8YLzI9/BqK p370roSQtLDUi4px69BEoR71JCx2fE/yf51ZeAwyKJi9S X-Gm-Gg: ASbGncspo8uIOKFjWxxpQ8zg/1dopyh0jeaKOOPyanc4Y5n+/sIimdk0LNAmbewL903 rS7/8FxJ9kWw2S9GXCu+faeL+0w1VV/12KuecXJ59hbPZBVxi5v8PFnRPIEclL7Q3RLdqzBRDEB AGYUbE5gNqNOwkSvB1Tsl9VUxnC6G4IGxQkMObdGx7xUiw1ycJeEUvZnnSyDCSbk91wLuzYMxCg 1ODAlhJtm2ZbLfTdWcLuKHjnrYrAZJ5o7ZMARCFTeZOX9F+53UMyP0AjZgSZu9ephzqFGQz0PAd A31ySD+qnzQ8SDhfCl/LsRVnhcR/NlePqqRI6Ez9htzADnCKFvgqQr3+ja3nZc6N18a71A7z X-Google-Smtp-Source: AGHT+IGlHcDl6s2KzAt+Kf7FOOYzkvivFGF6gI26iSju+vhggtt+TeeD3MAzomg48CdnIWPPr5/tJK0dUi8O X-Received: by 2002:a05:6122:d8c:b0:531:2afc:4628 with SMTP id 71dfb90a1353d-537af44b95amr2431276e0c.2.1753300875514; Wed, 23 Jul 2025 13:01:15 -0700 (PDT) Received: from postal.iol.unh.edu (postal.iol.unh.edu. [132.177.123.84]) by smtp-relay.gmail.com with ESMTPS id 6a1803df08f44-7070fe1e18bsm35906d6.20.2025.07.23.13.01.15 (version=TLS1_2 cipher=ECDHE-ECDSA-AES128-GCM-SHA256 bits=128/128); Wed, 23 Jul 2025 13:01:15 -0700 (PDT) X-Relaying-Domain: iol.unh.edu Date: Wed, 23 Jul 2025 13:01:15 -0700 (PDT) Message-ID: <68813f8b.d40a0220.2b9e14.02deSMTPIN_ADDED_MISSING@mx.google.com> Received: from [172.21.0.2] (unknown [172.18.0.240]) by postal.iol.unh.edu (Postfix) with ESMTP id 3C5516050A61; Wed, 23 Jul 2025 16:01:15 -0400 (EDT) Subject: |SUCCESS| pw155497-155498 [PATCH] [2/2] graph: add callback in dispa From: dpdklab@iol.unh.edu To: Test Report Cc: dpdk-test-reports@iol.unh.edu In-Reply-To: <20250723165001.11162-3-cfontain@redhat.com> References: <20250723165001.11162-3-cfontain@redhat.com> Content-Type: text/plain X-BeenThere: test-report@dpdk.org X-Mailman-Version: 2.1.29 Precedence: list List-Id: automatic DPDK test reports List-Unsubscribe: , List-Archive: List-Post: List-Help: List-Subscribe: , Errors-To: test-report-bounces@dpdk.org Test-Label: iol-compile-amd64-testing Test-Status: SUCCESS http://dpdk.org/patch/155498 _Testing PASS_ Submitter: Christophe Fontaine Date: Wednesday, July 23 2025 16:50:01 DPDK git baseline: Repo:dpdk Branch: master CommitID:e3183a6edafdc41bfd71de1517f9e9ec85eb1276 155497-155498 --> testing pass Upstream job id: Windows-Compile-DPDK-VS#6450 Test environment and result as below: +---------------------+-------------------+--------------------+ | Environment | dpdk_msvc_compile | dpdk_meson_compile | +=====================+===================+====================+ | Windows Server 2022 | PASS | SKIPPED | +---------------------+-------------------+--------------------+ | FreeBSD 14.2 | SKIPPED | PASS | +---------------------+-------------------+--------------------+ | Ubuntu 20.04 | SKIPPED | PASS | +---------------------+-------------------+--------------------+ Windows Server 2022 Kernel: 10.0.20348.2031 Compiler: clang 15.0.7, gcc 14.1.0 (MinGW), and MSVC VS 19.39.33521 FreeBSD 14.2 Kernel: 14.2-RELEASE Compiler: clang 18.1.6 Ubuntu 20.04 Kernel: 4.19 Compiler: gcc gcc (Ubuntu 9.4.0-1ubuntu1~20.04.2) 9.4.0 To view detailed results, visit: https://lab.dpdk.org/results/dashboard/patchsets/33742/ UNH-IOL DPDK Community Lab To manage your email subscriptions, visit: https://lab.dpdk.org/results/dashboard/preferences/subscriptions/