From mboxrd@z Thu Jan 1 00:00:00 1970 Return-Path: Received: from mails.dpdk.org (mails.dpdk.org [217.70.189.124]) by inbox.dpdk.org (Postfix) with ESMTP id 1359A46BF5 for ; Wed, 23 Jul 2025 22:13:14 +0200 (CEST) Received: from mails.dpdk.org (localhost [127.0.0.1]) by mails.dpdk.org (Postfix) with ESMTP id 0CFE140151; Wed, 23 Jul 2025 22:13:14 +0200 (CEST) Received: from mail-pl1-f228.google.com (mail-pl1-f228.google.com [209.85.214.228]) by mails.dpdk.org (Postfix) with ESMTP id 9BC4A4066C for ; Wed, 23 Jul 2025 22:13:12 +0200 (CEST) Received: by mail-pl1-f228.google.com with SMTP id d9443c01a7336-2350b1b9129so1597755ad.0 for ; Wed, 23 Jul 2025 13:13:12 -0700 (PDT) DKIM-Signature: v=1; a=rsa-sha256; c=relaxed/relaxed; d=iol.unh.edu; s=unh-iol; t=1753301592; x=1753906392; darn=dpdk.org; h=references:in-reply-to:cc:to:from:subject:message-id:date:from:to :cc:subject:date:message-id:reply-to; bh=BWNWRbBW4Tm1vAhQe2s4hW6joIS8jdoYHWwzKMLdFZI=; b=Y5lxgviVFyRzlvUQlNEjNE557RBh5Z76QvzT7L7D5zlYOIJX/M+lu8l7iHp5lO7rkH NYRVviRsxIcw57gi+P8SvQUbgcy4tH0wSVw6320SPryzNeTHDTS9wgClXguzdVigxmqr gDJ2WVyv1zoi7bIkK/YNXySDBLoHz//GVUtVI= X-Google-DKIM-Signature: v=1; a=rsa-sha256; c=relaxed/relaxed; d=1e100.net; s=20230601; t=1753301592; x=1753906392; h=references:in-reply-to:cc:to:from:subject:message-id:date :x-gm-message-state:from:to:cc:subject:date:message-id:reply-to; bh=BWNWRbBW4Tm1vAhQe2s4hW6joIS8jdoYHWwzKMLdFZI=; b=OB4PFI4MaAIXShIOTabzEWdXio0APm1Ur7fJMOIQ0YgcGO/72JCaEwpPnUei+tAkyR 2tYxosnUoXV3aN7izxfrLuByn8EM/BCmeCK63myyEFuhxen83VGXEIuJAVmmmebFpoFh XT6l4XEm7r0eaVrCVXOStP0K2d0W2nCStJ6b7Gge+ACYbR3d0sOaLzD+UL6roHtj6Uu8 oTYiQstHf8ePjvPCrBC+7wQY8/ptSZOnrwzqnK4ZJobSxdwb+HVQuJavhlYZnHn0mD6Y ms/rz1cOhcwYBf6isgwjDlmyg8cQlRkJ9Mc/+N0BJupGqi4RgrPlWUSlNw4UyrWIJdg+ a6rQ== X-Gm-Message-State: AOJu0Yz4CC/xEfXYBjFaCxW0oVPX39GVRrLXmRYmnKA1mm5r6XDHwAKU QrO6VBDtpuibqIM3THT8OjlZhPUEd9FtSEwtLF7LJgyLmMHMRvykK0OABnBNOqEnEMOmx7moXJt qKJeHpgXzEtUHi/5jePcUbo2SSaY74Zj8CISsG4GQ1+gp X-Gm-Gg: ASbGnctIObFyWEQTR50xhq64JQT3R/gcrqLBpXy5ASrG1JxOMF8lfXE9aAceMBBqdK4 5sVC7rDEZZOD7FMaJ45Roveo7Et5Gz/YFFLhR70w+ERM5FXk8hj3VA+vkm7lAs1t/SBuDxTo5wT A9jFt77DJJFIHaeED+VNI8xNbhO8XcZQZuqoE9ZVa0hx0RYCARx5t99iRLahBewqGiAIvxGvs8L l87pr2wEHE0G/68x8WsGr9gQzqWBdYgPy+rKeA/VA++LHDhfrxCuKN8gIlNn4cOO5ENdEetjPr9 XqZsKuwrGRC/4NYoz887mbPatyWwE1SXtmJhcVcIh2+/4mywtTPH0XHFzcqHyutXN+m4s0FR X-Google-Smtp-Source: AGHT+IHW4hcdHBn1VM9H2D4cASF2466/QUJRFFkHK0fo3oMxkIY82p75ADX9OLGKBGW3Xda5MZrGeuZU2p8p X-Received: by 2002:a17:903:244e:b0:235:2799:640 with SMTP id d9443c01a7336-23f9820d007mr57935445ad.25.1753301591816; Wed, 23 Jul 2025 13:13:11 -0700 (PDT) Received: from postal.iol.unh.edu (postal.iol.unh.edu. [132.177.123.84]) by smtp-relay.gmail.com with ESMTPS id 98e67ed59e1d1-31e519acf2asm139960a91.1.2025.07.23.13.13.11 (version=TLS1_2 cipher=ECDHE-ECDSA-AES128-GCM-SHA256 bits=128/128); Wed, 23 Jul 2025 13:13:11 -0700 (PDT) X-Relaying-Domain: iol.unh.edu Date: Wed, 23 Jul 2025 13:13:11 -0700 (PDT) Message-ID: <68814257.170a0220.33ff4a.6eb3SMTPIN_ADDED_MISSING@mx.google.com> Received: from [172.21.0.2] (unknown [172.18.0.240]) by postal.iol.unh.edu (Postfix) with ESMTP id 51AA36050A61; Wed, 23 Jul 2025 16:13:11 -0400 (EDT) Subject: |SUCCESS| pw155484-155496 [PATCH] [v7,13/13] eal: add warnings about From: dpdklab@iol.unh.edu To: Test Report Cc: dpdk-test-reports@iol.unh.edu In-Reply-To: <20250723162013.2392-14-bruce.richardson@intel.com> References: <20250723162013.2392-14-bruce.richardson@intel.com> Content-Type: text/plain X-BeenThere: test-report@dpdk.org X-Mailman-Version: 2.1.29 Precedence: list List-Id: automatic DPDK test reports List-Unsubscribe: , List-Archive: List-Post: List-Help: List-Subscribe: , Errors-To: test-report-bounces@dpdk.org Test-Label: iol-unit-amd64-testing Test-Status: SUCCESS http://dpdk.org/patch/155496 _Testing PASS_ Submitter: Bruce Richardson Date: Wednesday, July 23 2025 16:20:11 DPDK git baseline: Repo:dpdk Branch: master CommitID:e3183a6edafdc41bfd71de1517f9e9ec85eb1276 155484-155496 --> testing pass Upstream job id: Generic-VM-Unit-Test-DPDK#30144 Test environment and result as below: +-------------------------------+----------------+ | Environment | dpdk_unit_test | +===============================+================+ | CentOS Stream 9 | PASS | +-------------------------------+----------------+ | Debian GNU/Linux 12 | PASS | +-------------------------------+----------------+ | Fedora Linux 40 | PASS | +-------------------------------+----------------+ | CentOS Stream 10 | PASS | +-------------------------------+----------------+ | Fedora Linux 41 | PASS | +-------------------------------+----------------+ | Red Hat Enterprise Linux 9.5 | PASS | +-------------------------------+----------------+ | Ubuntu 20.04 | PASS | +-------------------------------+----------------+ | Red Hat Enterprise Linux 8.10 | PASS | +-------------------------------+----------------+ | Ubuntu 24.04 | PASS | +-------------------------------+----------------+ | Ubuntu 22.04 | PASS | +-------------------------------+----------------+ | Windows Server 2022 | PASS | +-------------------------------+----------------+ CentOS Stream 9 Kernel: 5.15 Compiler: gcc gcc (GCC) 11.5.0 20240719 (Red Hat 11.5.0-7) Debian GNU/Linux 12 Kernel: 5.15 Compiler: gcc gcc (Debian 12.2.0-14+deb12u1) 12.2.0 Fedora Linux 40 Kernel: 5.15 Compiler: clang gcc (GCC) 14.2.1 20240912 (Red Hat 14.2.1-3) CentOS Stream 10 Kernel: 5.15 Compiler: gcc gcc (GCC) 14.2.1 20250110 (Red Hat 14.2.1-8) Fedora Linux 41 Kernel: 5.15 Compiler: gcc gcc (GCC) 14.3.1 20250523 (Red Hat 14.3.1-1) Red Hat Enterprise Linux 9.5 Kernel: 5.15 Compiler: gcc gcc (GCC) 11.5.0 20240719 (Red Hat 11.5.0-2) Ubuntu 20.04 Kernel: 5.15 Compiler: gcc gcc (Ubuntu 9.4.0-1ubuntu1~20.04.2) 9.4.0 Red Hat Enterprise Linux 8.10 Kernel: 5.15 Compiler: gcc gcc (GCC) 8.5.0 20210514 (Red Hat 8.5.0-22) Ubuntu 24.04 Kernel: 5.15 Compiler: gcc gcc (Ubuntu 13.3.0-6ubuntu2~24.04) 13.3.0 Ubuntu 22.04 Kernel: 5.15 Compiler: gcc gcc (Ubuntu 11.4.0-1ubuntu1~22.04) 11.4.0 Windows Server 2022 Kernel: 10.0.20348.2031 Compiler: clang 15.0.7, gcc 14.1.0 (MinGW), and MSVC VS 19.39.33521 To view detailed results, visit: https://lab.dpdk.org/results/dashboard/patchsets/33741/ UNH-IOL DPDK Community Lab To manage your email subscriptions, visit: https://lab.dpdk.org/results/dashboard/preferences/subscriptions/