From mboxrd@z Thu Jan 1 00:00:00 1970 Return-Path: Received: from mails.dpdk.org (mails.dpdk.org [217.70.189.124]) by inbox.dpdk.org (Postfix) with ESMTP id C256A46BF5 for ; Wed, 23 Jul 2025 22:29:51 +0200 (CEST) Received: from mails.dpdk.org (localhost [127.0.0.1]) by mails.dpdk.org (Postfix) with ESMTP id BC88840151; Wed, 23 Jul 2025 22:29:51 +0200 (CEST) Received: from mail-oa1-f98.google.com (mail-oa1-f98.google.com [209.85.160.98]) by mails.dpdk.org (Postfix) with ESMTP id EF67940151 for ; Wed, 23 Jul 2025 22:29:49 +0200 (CEST) Received: by mail-oa1-f98.google.com with SMTP id 586e51a60fabf-2ea080f900cso131929fac.2 for ; Wed, 23 Jul 2025 13:29:49 -0700 (PDT) DKIM-Signature: v=1; a=rsa-sha256; c=relaxed/relaxed; d=iol.unh.edu; s=unh-iol; t=1753302589; x=1753907389; darn=dpdk.org; h=references:in-reply-to:cc:to:from:subject:message-id:date:from:to :cc:subject:date:message-id:reply-to; bh=oR9tkhNjsEnguMFSqLW3ul3+SdqqYaODHAcMxS9oijg=; b=cVeWxcp6NyJbecKdh0rg7QOzMNrZLeWMZJtPU3vJJ2BP3BUrQFB+9wWnr48ZOfcd9Q gcUMzQ+wuKGwy3z/CZLuPf1KuVhXjLOPg2j1n7aZhnS9PibFaR7SDbidLBNZZ2JeBM5c BDSI652Dh5Mu8QEw27umT6N/WUPtZ+YNmDPi4= X-Google-DKIM-Signature: v=1; a=rsa-sha256; c=relaxed/relaxed; d=1e100.net; s=20230601; t=1753302589; x=1753907389; h=references:in-reply-to:cc:to:from:subject:message-id:date :x-gm-message-state:from:to:cc:subject:date:message-id:reply-to; bh=oR9tkhNjsEnguMFSqLW3ul3+SdqqYaODHAcMxS9oijg=; b=XixOV3bgaj+agLJloh8VzlN4L4CQkXfLZBL0TLKFXH+RHbuuBvkBFDCb4MQqq6pfyR tmYBb8UhnldcP38dfvmGPZYkWHJQEFgL10Q+o5C2lRaa4rvnt3E84NEi/ybNp5MOjZb6 HwWaKeNs+NUVLV5Q02qzEFqRWAO1bW5+ccPwtiFusypTIZTP0v5Mc56O5pm8BdVFUq8N 6a90Sc1aCUSvwCAj3LZThfyLljCm85NA2fIDTasbF7s8GZxG9KYcRmTrObWLBTsL+q6J YfGXmdAA2DpwtpEGiP9nGvD/BEbNZ3zcy6p9m9me7qbR/v4mDBVnJ8xoE7UFClePcgNv WQKQ== X-Gm-Message-State: AOJu0YyGga9Wr6f+ry6cziwxrX9XfLPMhL/67UntpHEvYDwpjxrecwVE xoHlxtWjr0Jf7pMkrgFH5egsZsV+tcnMoWE1wkuBoy6i8boXlAlAGF3cLElgJF2oQcmosESU9Om 1tIg3ui2SEA5yAHw7i4UDsBcp/RU565Ds1r2cGGlsIAMe X-Gm-Gg: ASbGnctMdLe065nNghunEwDwsitDCj4lvotU0h7mY038a/x/KwOXNLMtsZ32FERTA6K ojAqjG2hylDubPzDpDyOLz9whNWP8709p1tNocnSLdXzIpLC+tpMtuAm4DKwOAM/4Ib4oCIaf+i 3AyJj96I4j1RpppB90TnTCfJ6tEN0lf6SF8GKpE/dikMx5RuA1BB/mxEu2YYlraNSPbvBLJ3gK1 WRPKBnku6mKpZrg+Ns3dIwum7UNlCQe9Gm+J+K6DUwxYOE4oQYbNMgL+TnGb+SZdhopZ3HGRNaI BAZs5Tkd0nh6aXI/FyCcre5IGAKESbRaAfJT3s6V3Z2ZFZyQYkIFfIiIcYwlm7s9v+RKxtrv X-Google-Smtp-Source: AGHT+IFeSZiBMjp1U9rAUvRS8+7PbIT/C4WQ36j0TyNDSBQXLF9NQFMg8lrtWG3Sjrk85Ck8h7XiPQKVhruw X-Received: by 2002:a05:6870:2b1c:b0:2e8:eccb:fe1c with SMTP id 586e51a60fabf-306c72a1478mr3414466fac.31.1753302589068; Wed, 23 Jul 2025 13:29:49 -0700 (PDT) Received: from postal.iol.unh.edu (postal.iol.unh.edu. [132.177.123.84]) by smtp-relay.gmail.com with ESMTPS id 586e51a60fabf-306e1a3504fsm13913fac.6.2025.07.23.13.29.48 (version=TLS1_2 cipher=ECDHE-ECDSA-AES128-GCM-SHA256 bits=128/128); Wed, 23 Jul 2025 13:29:49 -0700 (PDT) X-Relaying-Domain: iol.unh.edu Date: Wed, 23 Jul 2025 13:29:49 -0700 (PDT) Message-ID: <6881463d.050a0220.2a69bb.0aacSMTPIN_ADDED_MISSING@mx.google.com> Received: from [172.21.0.2] (unknown [172.18.0.240]) by postal.iol.unh.edu (Postfix) with ESMTP id 93E456051830; Wed, 23 Jul 2025 16:29:48 -0400 (EDT) Subject: |SUCCESS| pw155459 [PATCH] [v3] lib/ethdev: fix segfault in secondar From: dpdklab@iol.unh.edu To: Test Report Cc: dpdk-test-reports@iol.unh.edu In-Reply-To: <20250723131049.1703172-1-14pwcse1224@uetpeshawar.edu.pk> References: <20250723131049.1703172-1-14pwcse1224@uetpeshawar.edu.pk> Content-Type: text/plain X-BeenThere: test-report@dpdk.org X-Mailman-Version: 2.1.29 Precedence: list List-Id: automatic DPDK test reports List-Unsubscribe: , List-Archive: List-Post: List-Help: List-Subscribe: , Errors-To: test-report-bounces@dpdk.org Test-Label: iol-unit-arm64-testing Test-Status: SUCCESS http://dpdk.org/patch/155459 _Testing PASS_ Submitter: Khadem Ullah <14pwcse1224@uetpeshawar.edu.pk> Date: Wednesday, July 23 2025 13:10:49 DPDK git baseline: Repo:dpdk Branch: master CommitID:b78afde1fed9e11ee5cdce333a1a69dd7a9cf13e 155459 --> testing pass Upstream job id: Generic-Unit-Test-DPDK#357778 Test environment and result as below: +------------------------------+----------------+--------------+------------------------------+---------------------------+ | Environment | dpdk_unit_test | lpm_autotest | cryptodev_sw_snow3g_autotest | cryptodev_sw_zuc_autotest | +==============================+================+==============+==============================+===========================+ | CentOS Stream 9 | PASS | SKIPPED | SKIPPED | SKIPPED | +------------------------------+----------------+--------------+------------------------------+---------------------------+ | Fedora Linux 40 | PASS | SKIPPED | SKIPPED | SKIPPED | +------------------------------+----------------+--------------+------------------------------+---------------------------+ | Debian GNU/Linux 12 | PASS | SKIPPED | SKIPPED | SKIPPED | +------------------------------+----------------+--------------+------------------------------+---------------------------+ | Fedora Linux 41 | PASS | SKIPPED | SKIPPED | SKIPPED | +------------------------------+----------------+--------------+------------------------------+---------------------------+ | CentOS Stream 10 | PASS | SKIPPED | SKIPPED | SKIPPED | +------------------------------+----------------+--------------+------------------------------+---------------------------+ | Ubuntu 20.04 | PASS | PASS | SKIPPED | SKIPPED | +------------------------------+----------------+--------------+------------------------------+---------------------------+ | Red Hat Enterprise Linux 9.5 | PASS | SKIPPED | SKIPPED | SKIPPED | +------------------------------+----------------+--------------+------------------------------+---------------------------+ | Ubuntu 22.04 | PASS | SKIPPED | SKIPPED | SKIPPED | +------------------------------+----------------+--------------+------------------------------+---------------------------+ | Ubuntu 24.04 | PASS | SKIPPED | SKIPPED | SKIPPED | +------------------------------+----------------+--------------+------------------------------+---------------------------+ | Debian 12 (arm) | SKIPPED | SKIPPED | PASS | PASS | +------------------------------+----------------+--------------+------------------------------+---------------------------+ CentOS Stream 9 Kernel: 5.4 Compiler: gcc gcc (GCC) 11.5.0 20240719 (Red Hat 11.5.0-7) Fedora Linux 40 Kernel: 5.4 Compiler: clang gcc (GCC) 14.2.1 20240912 (Red Hat 14.2.1-3) Debian GNU/Linux 12 Kernel: 5.4 Compiler: gcc gcc (Debian 12.2.0-14+deb12u1) 12.2.0 Fedora Linux 41 Kernel: 5.4 Compiler: clang gcc (GCC) 14.3.1 20250523 (Red Hat 14.3.1-1) CentOS Stream 10 Kernel: 5.4 Compiler: gcc gcc (GCC) 14.2.1 20250110 (Red Hat 14.2.1-8) Ubuntu 20.04 Kernel: 5.4 Compiler: gcc gcc (Ubuntu 9.4.0-1ubuntu1~20.04.2) 9.4.0 Red Hat Enterprise Linux 9.5 Kernel: 5.4 Compiler: gcc gcc (GCC) 11.5.0 20240719 (Red Hat 11.5.0-2) Ubuntu 22.04 Kernel: 5.4 Compiler: gcc gcc (Ubuntu 11.4.0-1ubuntu1~22.04) 11.4.0 Ubuntu 24.04 Kernel: 5.4 Compiler: gcc gcc (Ubuntu 13.3.0-6ubuntu2~24.04) 13.3.0 Debian 12 (arm) Kernel: Depends on container host Compiler: gcc (Debian 12.2.0-14) 12.2.0 To view detailed results, visit: https://lab.dpdk.org/results/dashboard/patchsets/33737/ UNH-IOL DPDK Community Lab To manage your email subscriptions, visit: https://lab.dpdk.org/results/dashboard/preferences/subscriptions/