From mboxrd@z Thu Jan 1 00:00:00 1970 Return-Path: Received: from mails.dpdk.org (mails.dpdk.org [217.70.189.124]) by inbox.dpdk.org (Postfix) with ESMTP id E171546BF5 for ; Wed, 23 Jul 2025 22:30:57 +0200 (CEST) Received: from mails.dpdk.org (localhost [127.0.0.1]) by mails.dpdk.org (Postfix) with ESMTP id DB1A840151; Wed, 23 Jul 2025 22:30:57 +0200 (CEST) Received: from mail-pl1-f225.google.com (mail-pl1-f225.google.com [209.85.214.225]) by mails.dpdk.org (Postfix) with ESMTP id 570A040151 for ; Wed, 23 Jul 2025 22:30:56 +0200 (CEST) Received: by mail-pl1-f225.google.com with SMTP id d9443c01a7336-235f9ea8d08so1792185ad.1 for ; Wed, 23 Jul 2025 13:30:56 -0700 (PDT) DKIM-Signature: v=1; a=rsa-sha256; c=relaxed/relaxed; d=iol.unh.edu; s=unh-iol; t=1753302655; x=1753907455; darn=dpdk.org; h=references:in-reply-to:cc:to:from:subject:message-id:date:from:to :cc:subject:date:message-id:reply-to; bh=iCE1nR348t3nRqeYQcK2vMKlYsufPw/HwlbFi9NwrNA=; b=bRqxuepPBzn7by0lTSOhPWce6VduJkD1KtUfdIdCvKfba1Vyv8wPETEjgOfz0NfmXW nBj8eEA/CCX28kTTGiYUY3QcHUYuaa1/oY1cFMRhc4RyAEDhk4oDcvmmeI1R24zTGh+g V/VpLN4ybZOeahISK6lLQ954oTiCzsY9A1y2Y= X-Google-DKIM-Signature: v=1; a=rsa-sha256; c=relaxed/relaxed; d=1e100.net; s=20230601; t=1753302655; x=1753907455; h=references:in-reply-to:cc:to:from:subject:message-id:date :x-gm-message-state:from:to:cc:subject:date:message-id:reply-to; bh=iCE1nR348t3nRqeYQcK2vMKlYsufPw/HwlbFi9NwrNA=; b=DyQKd+RnK+V9oECjnw3N2MK+Y+jNu/zHYMvJQUzHZavGNTrK0VYaAlviAZzhnc/ny5 rNfVso6yQFkT7gWypyIF1Qt+vfi4idIVBkIETaTCICKUAnySh5uB3LLdhRKTzjfpZd3J d4BBprgDxMNCNiOpaEFeBe+Aa1nU2EA9tR/tk+Z5xndF9wnsK8q6SQHKRg1lRcXsX8WY lrY8Pd4oKKR6WuEanoUHcvZFw/1JaThNNwVzXjM6mqntCijfUxxiwjuTxJTv0cWdwByZ OgXEdjnUo5KEyycx1ZG0wf1rFtHIcc1UOOGi1M4Wvx7yiYZjO4QKRPZNNKF4/+wON1RL lcWw== X-Gm-Message-State: AOJu0YxujgfnaLcMP7aRZZH+Q/RbRELRQzSmNz+Ny7LeixIT551hUzPc F0w4j19KKXrN1zh/lvxu7Zd4jlBr7lnjJSLMf02XfLzv6ALFBSk/LpMjx1tHGxky5HT91Y5fCQS pw5tT3UlEIfZqQKD94OZMFWffZrcHNOABSpjGCNWOxGaLxQskmSIkg80kp0YR X-Gm-Gg: ASbGncuxl2ZdLCft61OHHs8sxcaz6XzBY7AN92ThLO/gkev4Z07RmUnMhyVlCxHPB75 RSiKNs7c9Ig0JLsswP2kCo1l0pPN0gE+7UoqSjnio7mCraK0WqAumLBiUkaK8RNL1viPrRTHOvJ 3AE3egNVJq5dkqLTYl2lGp6xt04Q0oiX0oiPbG4ed0Hm2JzDc5JqLW4sw3MdTtA3UuxstctTNkF 4VUokFHdyFVBMvE4dSYZTbsWMuSAaaAF/UPwh0r7/YFZDnv6L0uWdOxLzc5fnoDiO+e4QaAVDfg H6T61QG/p2rQRNIQMSBkyLY+FJGEdPlfWoH6/1xRanq00FOliQ== X-Google-Smtp-Source: AGHT+IFxfjKwklWjrGmpG37GsS9yKph2xpPETmnZaZ973geXfjKbstfAPfOdzOQRkGPKvqdMvyVnzep7KLne X-Received: by 2002:a17:903:3c24:b0:234:c5c1:9b73 with SMTP id d9443c01a7336-23f981df863mr62262485ad.36.1753302655478; Wed, 23 Jul 2025 13:30:55 -0700 (PDT) Received: from postal.iol.unh.edu (postal.iol.unh.edu. [2606:4100:3880:1234::84]) by smtp-relay.gmail.com with ESMTPS id d9443c01a7336-23e3b6b6f57sm7401755ad.72.2025.07.23.13.30.55 (version=TLS1_2 cipher=ECDHE-ECDSA-AES128-GCM-SHA256 bits=128/128); Wed, 23 Jul 2025 13:30:55 -0700 (PDT) X-Relaying-Domain: iol.unh.edu Date: Wed, 23 Jul 2025 13:30:55 -0700 (PDT) Message-ID: <6881467f.170a0220.54d74.61e6SMTPIN_ADDED_MISSING@mx.google.com> Received: from [172.21.0.2] (unknown [172.18.0.240]) by postal.iol.unh.edu (Postfix) with ESMTP id E70A66051830; Wed, 23 Jul 2025 16:30:54 -0400 (EDT) Subject: |SUCCESS| pw155484-155496 [PATCH] [v7,13/13] eal: add warnings about From: dpdklab@iol.unh.edu To: Test Report Cc: dpdk-test-reports@iol.unh.edu In-Reply-To: <20250723162013.2392-14-bruce.richardson@intel.com> References: <20250723162013.2392-14-bruce.richardson@intel.com> Content-Type: text/plain X-BeenThere: test-report@dpdk.org X-Mailman-Version: 2.1.29 Precedence: list List-Id: automatic DPDK test reports List-Unsubscribe: , List-Archive: List-Post: List-Help: List-Subscribe: , Errors-To: test-report-bounces@dpdk.org Test-Label: iol-unit-amd64-testing Test-Status: SUCCESS http://dpdk.org/patch/155496 _Testing PASS_ Submitter: Bruce Richardson Date: Wednesday, July 23 2025 16:20:11 DPDK git baseline: Repo:dpdk Branch: master CommitID:e3183a6edafdc41bfd71de1517f9e9ec85eb1276 155484-155496 --> testing pass Upstream job id: Generic-VM-Unit-Test-DPDK#30145 Test environment and result as below: +-------------------------------+----------------+ | Environment | dpdk_unit_test | +===============================+================+ | CentOS Stream 9 | PASS | +-------------------------------+----------------+ | Debian GNU/Linux 12 | PASS | +-------------------------------+----------------+ | Fedora Linux 40 | PASS | +-------------------------------+----------------+ | CentOS Stream 10 | PASS | +-------------------------------+----------------+ | Fedora Linux 41 | PASS | +-------------------------------+----------------+ | Red Hat Enterprise Linux 9.5 | PASS | +-------------------------------+----------------+ | Ubuntu 20.04 | PASS | +-------------------------------+----------------+ | Red Hat Enterprise Linux 8.10 | PASS | +-------------------------------+----------------+ | Ubuntu 24.04 | PASS | +-------------------------------+----------------+ | Ubuntu 22.04 | PASS | +-------------------------------+----------------+ | Windows Server 2022 | PASS | +-------------------------------+----------------+ CentOS Stream 9 Kernel: 5.15 Compiler: gcc gcc (GCC) 11.5.0 20240719 (Red Hat 11.5.0-7) Debian GNU/Linux 12 Kernel: 5.15 Compiler: gcc gcc (Debian 12.2.0-14+deb12u1) 12.2.0 Fedora Linux 40 Kernel: 5.15 Compiler: clang gcc (GCC) 14.2.1 20240912 (Red Hat 14.2.1-3) CentOS Stream 10 Kernel: 5.15 Compiler: gcc gcc (GCC) 14.2.1 20250110 (Red Hat 14.2.1-8) Fedora Linux 41 Kernel: 5.15 Compiler: gcc gcc (GCC) 14.3.1 20250523 (Red Hat 14.3.1-1) Red Hat Enterprise Linux 9.5 Kernel: 5.15 Compiler: gcc gcc (GCC) 11.5.0 20240719 (Red Hat 11.5.0-2) Ubuntu 20.04 Kernel: 5.15 Compiler: gcc gcc (Ubuntu 9.4.0-1ubuntu1~20.04.2) 9.4.0 Red Hat Enterprise Linux 8.10 Kernel: 5.15 Compiler: gcc gcc (GCC) 8.5.0 20210514 (Red Hat 8.5.0-22) Ubuntu 24.04 Kernel: 5.15 Compiler: gcc gcc (Ubuntu 13.3.0-6ubuntu2~24.04) 13.3.0 Ubuntu 22.04 Kernel: 5.15 Compiler: gcc gcc (Ubuntu 11.4.0-1ubuntu1~22.04) 11.4.0 Windows Server 2022 Kernel: 10.0.20348.2031 Compiler: clang 15.0.7, gcc 14.1.0 (MinGW), and MSVC VS 19.39.33521 To view detailed results, visit: https://lab.dpdk.org/results/dashboard/patchsets/33741/ UNH-IOL DPDK Community Lab To manage your email subscriptions, visit: https://lab.dpdk.org/results/dashboard/preferences/subscriptions/