From mboxrd@z Thu Jan 1 00:00:00 1970 Return-Path: Received: from mails.dpdk.org (mails.dpdk.org [217.70.189.124]) by inbox.dpdk.org (Postfix) with ESMTP id CB32246BF5 for ; Wed, 23 Jul 2025 22:37:34 +0200 (CEST) Received: from mails.dpdk.org (localhost [127.0.0.1]) by mails.dpdk.org (Postfix) with ESMTP id A376640151; Wed, 23 Jul 2025 22:37:34 +0200 (CEST) Received: from mail-yw1-f227.google.com (mail-yw1-f227.google.com [209.85.128.227]) by mails.dpdk.org (Postfix) with ESMTP id 33F7740151 for ; Wed, 23 Jul 2025 22:37:34 +0200 (CEST) Received: by mail-yw1-f227.google.com with SMTP id 00721157ae682-7184015180fso3804957b3.2 for ; Wed, 23 Jul 2025 13:37:34 -0700 (PDT) DKIM-Signature: v=1; a=rsa-sha256; c=relaxed/relaxed; d=iol.unh.edu; s=unh-iol; t=1753303053; x=1753907853; darn=dpdk.org; h=references:in-reply-to:cc:to:from:subject:message-id:date:from:to :cc:subject:date:message-id:reply-to; bh=VDORzYlusqsFj07B/NIpoJkWiy9/dLMnimRcE+IvVcU=; b=QBHo1GJudEXxQTCpa2Y/E4EhEjncHJcUrPrrP0FZuoEpMXoOSqBsdxEy0LP2HerzLx oSRRo24fKDFZ92oJM9jvLr88PhPfY9qmCS5ZLMPPrp8NynvUmy6twl4eOBm7qxwlBDfr 84hZmfGZv7W2dt8VbRDe7Rc1EX1dUzUQWvV/Y= X-Google-DKIM-Signature: v=1; a=rsa-sha256; c=relaxed/relaxed; d=1e100.net; s=20230601; t=1753303053; x=1753907853; h=references:in-reply-to:cc:to:from:subject:message-id:date :x-gm-message-state:from:to:cc:subject:date:message-id:reply-to; bh=VDORzYlusqsFj07B/NIpoJkWiy9/dLMnimRcE+IvVcU=; b=gvf7VlwaxOOGttWByeTVN7o+rsMbd4PgJ2lNryMh+eqgyqyM78VxbZSit9rebkQ8Tv sc7BBZgroQGNwWcbk+rbvbXhH9PEirsK1pbEEQG8mQahcgzYdXNaYnOhluFXc9ArCvRF kuoUFXQXQAw+EBfn81WF3fS10TBcKmjbMp+tDiEkC9b5vvg/CI5KRI9DXXWWxxcX95LG Cl1GgueuquL4SQIp1o21QRmnim059EtpfILVANy4xYR8osg8VTEo9hUKIy8OP7U7d/YR htA7f3/rTFfGVcZzOC49in6UT2KIRZhDZfWNrVAsaMphXXSO8qIR1Ox+Hp6kIYHvp4go PA3g== X-Gm-Message-State: AOJu0Yz2B+SCABmdXsoBC3Uy6tzzvaktHISZbz6fGIAVr/wLyZ4BUQkt y/AYXV+yjku5TmRfI+9TKalRQ/t5TShoNrG9ikDwMMqZMsXZ3Y0qWbpUfdEdJXu44Q9jJR6glNe oXUlLIlAW3fRAAhIljBUu6VU6Hv65hQMX/SMU95Ry30j7osr1Xm5m0O0krabs X-Gm-Gg: ASbGncsj92IVfFdVmd7SRBjYt7zYM+1sxekEnr2rRuCoozNhhp097IQH6dvexrviKiO sEhZs/QEYPaQqUPpF90wc9Ir4r6NH18VhNqcc3APbweI+1jxbnWtiOS/WGHNTmrVQ7XWqrgXkwx 5L6s8avLuAevkbLFQqgrM6mT6NrQpZOvrNV7jLBnPprpDTaYwagE0trtYI9rpR9kCGTOgfj7mF1 so5mMz0kT3WwqSHhSnr1hqWOLhGQvYPyoSAKMI/4bj8ZXN3ZRvpXVWVOX/Ijxc8/esKBUR7Ktkw IqEcWHOWjkGdo0nVi+1KsgXgWnIe70cUESqoK+HHdKc1WFSbrQ== X-Google-Smtp-Source: AGHT+IHi5/fDr2TiN0B1MN+CVF1W/5bHEKQYi8ZOt+wvpjUoQWXF2tJULV7dCq5mYyZ+tauu4rVbxm5DR8yI X-Received: by 2002:a05:690c:388:b0:70e:73ae:766c with SMTP id 00721157ae682-719b41f6f15mr54279587b3.22.1753303053250; Wed, 23 Jul 2025 13:37:33 -0700 (PDT) Received: from postal.iol.unh.edu (postal.iol.unh.edu. [2606:4100:3880:1234::84]) by smtp-relay.gmail.com with ESMTPS id 3f1490d57ef6-e8d7cc0ee71sm695347276.1.2025.07.23.13.37.33 (version=TLS1_2 cipher=ECDHE-ECDSA-AES128-GCM-SHA256 bits=128/128); Wed, 23 Jul 2025 13:37:33 -0700 (PDT) X-Relaying-Domain: iol.unh.edu Date: Wed, 23 Jul 2025 13:37:33 -0700 (PDT) Message-ID: <6881480d.050a0220.354f65.2927SMTPIN_ADDED_MISSING@mx.google.com> Received: from [172.21.0.2] (unknown [172.18.0.240]) by postal.iol.unh.edu (Postfix) with ESMTP id E8C7E6050A61; Wed, 23 Jul 2025 16:37:32 -0400 (EDT) Subject: |SUCCESS| pw155497-155498 [PATCH] [2/2] graph: add callback in dispa From: dpdklab@iol.unh.edu To: Test Report Cc: dpdk-test-reports@iol.unh.edu In-Reply-To: <20250723165001.11162-3-cfontain@redhat.com> References: <20250723165001.11162-3-cfontain@redhat.com> Content-Type: text/plain X-BeenThere: test-report@dpdk.org X-Mailman-Version: 2.1.29 Precedence: list List-Id: automatic DPDK test reports List-Unsubscribe: , List-Archive: List-Post: List-Help: List-Subscribe: , Errors-To: test-report-bounces@dpdk.org Test-Label: iol-compile-amd64-testing Test-Status: SUCCESS http://dpdk.org/patch/155498 _Testing PASS_ Submitter: Christophe Fontaine Date: Wednesday, July 23 2025 16:50:01 DPDK git baseline: Repo:dpdk Branch: master CommitID:e3183a6edafdc41bfd71de1517f9e9ec85eb1276 155497-155498 --> testing pass Upstream job id: Windows-Compile-DPDK-Native#29984 Test environment and result as below: +---------------------+-------------------+--------------------+-------------------------+ | Environment | dpdk_msvc_compile | dpdk_meson_compile | dpdk_llvm_clang_compile | +=====================+===================+====================+=========================+ | Windows Server 2022 | PASS | SKIPPED | PASS | +---------------------+-------------------+--------------------+-------------------------+ | FreeBSD 14.2 | SKIPPED | PASS | SKIPPED | +---------------------+-------------------+--------------------+-------------------------+ | Ubuntu 20.04 | SKIPPED | PASS | SKIPPED | +---------------------+-------------------+--------------------+-------------------------+ Windows Server 2022 Kernel: 10.0.20348.2031 Compiler: clang 15.0.7, gcc 14.1.0 (MinGW), and MSVC VS 19.39.33521 FreeBSD 14.2 Kernel: 14.2-RELEASE Compiler: clang 18.1.6 Ubuntu 20.04 Kernel: 4.19 Compiler: gcc gcc (Ubuntu 9.4.0-1ubuntu1~20.04.2) 9.4.0 To view detailed results, visit: https://lab.dpdk.org/results/dashboard/patchsets/33742/ UNH-IOL DPDK Community Lab To manage your email subscriptions, visit: https://lab.dpdk.org/results/dashboard/preferences/subscriptions/