From mboxrd@z Thu Jan 1 00:00:00 1970 Return-Path: Received: from mails.dpdk.org (mails.dpdk.org [217.70.189.124]) by inbox.dpdk.org (Postfix) with ESMTP id 638E646BF5 for ; Wed, 23 Jul 2025 22:44:31 +0200 (CEST) Received: from mails.dpdk.org (localhost [127.0.0.1]) by mails.dpdk.org (Postfix) with ESMTP id 5C08940151; Wed, 23 Jul 2025 22:44:31 +0200 (CEST) Received: from mail-pl1-f225.google.com (mail-pl1-f225.google.com [209.85.214.225]) by mails.dpdk.org (Postfix) with ESMTP id 1979B40151 for ; Wed, 23 Jul 2025 22:44:30 +0200 (CEST) Received: by mail-pl1-f225.google.com with SMTP id d9443c01a7336-23c8a5053c2so2053935ad.1 for ; Wed, 23 Jul 2025 13:44:30 -0700 (PDT) DKIM-Signature: v=1; a=rsa-sha256; c=relaxed/relaxed; d=iol.unh.edu; s=unh-iol; t=1753303469; x=1753908269; darn=dpdk.org; h=references:in-reply-to:cc:to:from:subject:message-id:date:from:to :cc:subject:date:message-id:reply-to; bh=xSd8J0YL+s9CllOnNXSvQCfipZHsj7C2QjdC6oK/W1o=; b=L6f/hCvQck83+j5XTbU5BXXl/vcmSbU5oZwWYQHNkkBUZj/w/qqtzaeH63lKrjXoQr 4pUNep8vI31ucoAxC7XoS/8qi0UECJkzn+UxOvPcM62nNK+5XmTFRui9F17RHu4oiraQ XObWDAAumFnv0+i2dlVLPp9dZnfxAWcz44Kww= X-Google-DKIM-Signature: v=1; a=rsa-sha256; c=relaxed/relaxed; d=1e100.net; s=20230601; t=1753303469; x=1753908269; h=references:in-reply-to:cc:to:from:subject:message-id:date :x-gm-message-state:from:to:cc:subject:date:message-id:reply-to; bh=xSd8J0YL+s9CllOnNXSvQCfipZHsj7C2QjdC6oK/W1o=; b=R4ngB+bARir5YsySUqPjIC0W18uR2EbcXdWmt6km7+IjzH6uon1u5VoN4btWI/tpbV aIXgcqSL7EX6o4/JM3b4ToZePVdnkfjT5mfPA5CILZ1L/drNH44i7aq4a5G5e5V7RgRY TjnTQOC80Yr0AwyGcZYOcI++w3lbwNZ34kIe3/Kdbs2I4Aj2gnrcBaO98poH74Uj+mX9 rG4kcBDCF+OYG5bVQVTh00F6XTbgY29UfuT1NWBV4QYHk+T/CA9TZGkbaMxM61AYPr6O nnkZsbCjvOf/kqVj0wgVurSL5SDE8szVt+DteZnwJDv+2k2s1GEDP59w0489sFspV8M9 X6oA== X-Gm-Message-State: AOJu0YxhSJ0nvm0GeMjQ1FZ8pkAPUFwQ92n9aR8bW4ziQ2IvRZVRc8fP qj/A9ejgkIbZ/F4MEfOoRDmruvLP6/4jl5p8zXVwjiyeSB6kLXx36tYWKcXqxw60fMXFSDVMjXf 74n6cQvCKv4fQ7m1wVyU/HKAImmK1ovKILSf/Wvvr/ZhESjQjd0p4wmojjoZG X-Gm-Gg: ASbGncu4/3Num1Z6/+hEZxTwglTa7Y5dC64/HOm5oRRnMWSjbuCiBeRoNGusCnrTrdv ppjsxAn3I6rWFLtunN33TobHLKTwuURNTUuVAIgulrB0Tvy9k8eY5xZB7qUJqljQkoO3leN1Art 8RHhJzoUs8kxsI5QMzvrJkVD8tzvxunIqaCd5KtkmMRRzHlQa84QHoyMp2xGXqXQQU4XMID6ldh o1esU+f/Q0kbmQRFDACL+nTKlP5UBGNUsNjeZrgNSzdGfD4FQhJUiTFLwwdEZAqZv6V3TjboKBG 9s/aoxb/4VbfYWHyQcpQxJ0wjr6xsH50pv3l+wZawEWouZvzkg== X-Google-Smtp-Source: AGHT+IHRpz/MwcL0E40iKfl62K070KBOeuu7m0mmc6p3uIO6qQQUpSYiYwCicC8oysqffAJn4E80IoqM68jr X-Received: by 2002:a17:902:e78f:b0:234:b41e:37a2 with SMTP id d9443c01a7336-23f98161dfamr48519565ad.11.1753303469230; Wed, 23 Jul 2025 13:44:29 -0700 (PDT) Received: from postal.iol.unh.edu (postal.iol.unh.edu. [2606:4100:3880:1234::84]) by smtp-relay.gmail.com with ESMTPS id d9443c01a7336-23e3b6d7f53sm7265925ad.81.2025.07.23.13.44.29 (version=TLS1_2 cipher=ECDHE-ECDSA-AES128-GCM-SHA256 bits=128/128); Wed, 23 Jul 2025 13:44:29 -0700 (PDT) X-Relaying-Domain: iol.unh.edu Date: Wed, 23 Jul 2025 13:44:29 -0700 (PDT) Message-ID: <688149ad.170a0220.91222.4a4bSMTPIN_ADDED_MISSING@mx.google.com> Received: from [172.21.0.2] (unknown [172.18.0.240]) by postal.iol.unh.edu (Postfix) with ESMTP id B38C1604D420; Wed, 23 Jul 2025 16:44:28 -0400 (EDT) Subject: |SUCCESS| pw155497-155498 [PATCH] [2/2] graph: add callback in dispa From: dpdklab@iol.unh.edu To: Test Report Cc: dpdk-test-reports@iol.unh.edu In-Reply-To: <20250723165001.11162-3-cfontain@redhat.com> References: <20250723165001.11162-3-cfontain@redhat.com> Content-Type: text/plain X-BeenThere: test-report@dpdk.org X-Mailman-Version: 2.1.29 Precedence: list List-Id: automatic DPDK test reports List-Unsubscribe: , List-Archive: List-Post: List-Help: List-Subscribe: , Errors-To: test-report-bounces@dpdk.org Test-Label: iol-compile-amd64-testing Test-Status: SUCCESS http://dpdk.org/patch/155498 _Testing PASS_ Submitter: Christophe Fontaine Date: Wednesday, July 23 2025 16:50:01 DPDK git baseline: Repo:dpdk Branch: master CommitID:e3183a6edafdc41bfd71de1517f9e9ec85eb1276 155497-155498 --> testing pass Upstream job id: Windows-Compile-DPDK-Native#29985 Test environment and result as below: +---------------------+-------------------+--------------------+-------------------------+----------------------+ | Environment | dpdk_msvc_compile | dpdk_meson_compile | dpdk_llvm_clang_compile | dpdk_mingw64_compile | +=====================+===================+====================+=========================+======================+ | Windows Server 2022 | PASS | SKIPPED | PASS | PASS | +---------------------+-------------------+--------------------+-------------------------+----------------------+ | FreeBSD 14.2 | SKIPPED | PASS | SKIPPED | SKIPPED | +---------------------+-------------------+--------------------+-------------------------+----------------------+ | Ubuntu 20.04 | SKIPPED | PASS | SKIPPED | SKIPPED | +---------------------+-------------------+--------------------+-------------------------+----------------------+ Windows Server 2022 Kernel: 10.0.20348.2031 Compiler: clang 15.0.7, gcc 14.1.0 (MinGW), and MSVC VS 19.39.33521 FreeBSD 14.2 Kernel: 14.2-RELEASE Compiler: clang 18.1.6 Ubuntu 20.04 Kernel: 4.19 Compiler: gcc gcc (Ubuntu 9.4.0-1ubuntu1~20.04.2) 9.4.0 To view detailed results, visit: https://lab.dpdk.org/results/dashboard/patchsets/33742/ UNH-IOL DPDK Community Lab To manage your email subscriptions, visit: https://lab.dpdk.org/results/dashboard/preferences/subscriptions/