From mboxrd@z Thu Jan 1 00:00:00 1970 Return-Path: Received: from mails.dpdk.org (mails.dpdk.org [217.70.189.124]) by inbox.dpdk.org (Postfix) with ESMTP id 783A446BF5 for ; Wed, 23 Jul 2025 23:28:26 +0200 (CEST) Received: from mails.dpdk.org (localhost [127.0.0.1]) by mails.dpdk.org (Postfix) with ESMTP id 743B140151; Wed, 23 Jul 2025 23:28:26 +0200 (CEST) Received: from mail-pg1-f227.google.com (mail-pg1-f227.google.com [209.85.215.227]) by mails.dpdk.org (Postfix) with ESMTP id 8176F40151 for ; Wed, 23 Jul 2025 23:28:24 +0200 (CEST) Received: by mail-pg1-f227.google.com with SMTP id 41be03b00d2f7-b31c84b8052so444175a12.1 for ; Wed, 23 Jul 2025 14:28:24 -0700 (PDT) DKIM-Signature: v=1; a=rsa-sha256; c=relaxed/relaxed; d=iol.unh.edu; s=unh-iol; t=1753306103; x=1753910903; darn=dpdk.org; h=references:in-reply-to:cc:to:from:subject:message-id:date:from:to :cc:subject:date:message-id:reply-to; bh=q7AcnkN0hOlFqJDz/J/QQBhiXiqyPNzpggXayt81zzE=; b=NmVIQ8IX+FbH9gOBlXsdrJNWUHRWmcGnYuKKm/R1AaF3FtMmw5l2jem030eaXVqU1N bdiIcCUyk3xemiZK8FlEQuTe5BbJtAxgcnwPkYunpx0E6TNMwXKp5nm457PTskANFNFX lxN8L32u4pzwSe3ud5AonlH07UCfI/MsNU8ys= X-Google-DKIM-Signature: v=1; a=rsa-sha256; c=relaxed/relaxed; d=1e100.net; s=20230601; t=1753306103; x=1753910903; h=references:in-reply-to:cc:to:from:subject:message-id:date :x-gm-message-state:from:to:cc:subject:date:message-id:reply-to; bh=q7AcnkN0hOlFqJDz/J/QQBhiXiqyPNzpggXayt81zzE=; b=ZiXCnL0rA8IlUfyvPwmZrG8GXhMzvnaBveTzz6/epQ2z2YOEr3geKUjydsHdLb5T4O /28QRxKLH+1LiJ40SFTgpvBPYa4HcRfEz6uRkyOBTaLKck8vzQyZbXKGYzabGysrgvCV emT482YmjtCdy4fmFWOtTF/dXXPNbKsqmKkcJGXQbHAYtc9UYeaRUTgruyEAH1IRhZWK jLZ/gcwrlVF4d2xj8LC9ywz6F5ks0k/t4ogTVZGnSfqtEt2J/hfph3gcQ1yV/KTcLQGE b86CMEcymm/pu25fagXQQXaAjuvebX2XChVdL4QI4a0V6Jz9LeppqzLjiPcw6f4Rp9/r huiQ== X-Gm-Message-State: AOJu0Yyok++bwEeSFQjACTSHBx/ZLE95k61TogDmOXw//ufFLDuPQ9e7 aB27zh2jhOWgiZZgxPx3KJSnz+HDPp71e4urgU28f84OCXy1v6Bydl4iuxN7/vu5IPbKoxk6ufP X7G3eyWtCHPffL8TlriaLUwcLDNp4gsFDNBCsOt6LN+NA X-Gm-Gg: ASbGncsQ6ILfG7AfSafa5O7qjuTz+JryqbzUJ6geY45rxJwFFJPOuuQ6SdQ5sJF+BKr zPFacFhYmJsmA1CwaR96bZRtpmr8CRLiVxbSfD4N7YsKD6lCX8dhaye2zKe4HLI41N6P4I/YnnL x/7Vu/nlbXu4Z31z5S7bb737E1MsIara9IZoQ8mVLq2t7iUMHSfqfFnbW0CCuW8y5uCFTZ+yBxm M3fECr7oPGR0FGUWQP7g8aXsBMd+LHdD9va/Er0LhUDQp9vnjG94KNN5NHOCD9tVLpSE9mmLIvf 0+p0MV+a8YnwSjIjxesJO1zcldwKGXHtRkiIL1K1JSaOs22zvOCImrTN/CHSnR8sauSj4GmW X-Google-Smtp-Source: AGHT+IHn5NK/VTvPzTISAA82xhzGRxoBilMM8j2APmMQe+QElQB9widWRS3EPZOPrx7rwVrEIqAYFs+BoWb3 X-Received: by 2002:a05:6a21:9989:b0:233:3036:6fae with SMTP id adf61e73a8af0-23d491311e2mr6728383637.27.1753306103559; Wed, 23 Jul 2025 14:28:23 -0700 (PDT) Received: from postal.iol.unh.edu (postal.iol.unh.edu. [132.177.123.84]) by smtp-relay.gmail.com with ESMTPS id 41be03b00d2f7-b3f6c0f1032sm630a12.22.2025.07.23.14.28.23 (version=TLS1_2 cipher=ECDHE-ECDSA-AES128-GCM-SHA256 bits=128/128); Wed, 23 Jul 2025 14:28:23 -0700 (PDT) X-Relaying-Domain: iol.unh.edu Date: Wed, 23 Jul 2025 14:28:23 -0700 (PDT) Message-ID: <688153f7.050a0220.1ca63c.0088SMTPIN_ADDED_MISSING@mx.google.com> Received: from [172.21.0.5] (unknown [172.18.0.240]) by postal.iol.unh.edu (Postfix) with ESMTP id 86B3A6051830; Wed, 23 Jul 2025 17:28:22 -0400 (EDT) Subject: |SUCCESS| pw155459 [PATCH] [v3] lib/ethdev: fix segfault in secondar From: dpdklab@iol.unh.edu To: Test Report Cc: dpdk-test-reports@iol.unh.edu In-Reply-To: <20250723131049.1703172-1-14pwcse1224@uetpeshawar.edu.pk> References: <20250723131049.1703172-1-14pwcse1224@uetpeshawar.edu.pk> Content-Type: text/plain X-BeenThere: test-report@dpdk.org X-Mailman-Version: 2.1.29 Precedence: list List-Id: automatic DPDK test reports List-Unsubscribe: , List-Archive: List-Post: List-Help: List-Subscribe: , Errors-To: test-report-bounces@dpdk.org Test-Label: iol-compile-amd64-testing Test-Status: SUCCESS http://dpdk.org/patch/155459 _Testing PASS_ Submitter: Khadem Ullah <14pwcse1224@uetpeshawar.edu.pk> Date: Wednesday, July 23 2025 13:10:49 DPDK git baseline: Repo:dpdk Branch: master CommitID:b78afde1fed9e11ee5cdce333a1a69dd7a9cf13e 155459 --> testing pass Upstream job id: Generic-DPDK-Compile-Meson#411617 Test environment and result as below: +-------------------------------+-------------------+-------------------------+--------------------+----------------------+-------------------+------------------+ | Environment | dpdk_msvc_compile | dpdk_llvm_clang_compile | dpdk_meson_compile | dpdk_mingw64_compile | dpdk_compile_spdk | dpdk_compile_ovs | +===============================+===================+=========================+====================+======================+===================+==================+ | Windows Server 2022 | PASS | PASS | SKIPPED | PASS | SKIPPED | SKIPPED | +-------------------------------+-------------------+-------------------------+--------------------+----------------------+-------------------+------------------+ | FreeBSD 14.2 | SKIPPED | SKIPPED | PASS | SKIPPED | SKIPPED | SKIPPED | +-------------------------------+-------------------+-------------------------+--------------------+----------------------+-------------------+------------------+ | Ubuntu 20.04 | SKIPPED | SKIPPED | PASS | SKIPPED | SKIPPED | SKIPPED | +-------------------------------+-------------------+-------------------------+--------------------+----------------------+-------------------+------------------+ | CentOS Stream 9 | SKIPPED | SKIPPED | PASS | SKIPPED | PASS | SKIPPED | +-------------------------------+-------------------+-------------------------+--------------------+----------------------+-------------------+------------------+ | CentOS Stream 10 | SKIPPED | SKIPPED | PASS | SKIPPED | SKIPPED | SKIPPED | +-------------------------------+-------------------+-------------------------+--------------------+----------------------+-------------------+------------------+ | Debian GNU/Linux 12 | SKIPPED | SKIPPED | PASS | SKIPPED | PASS | SKIPPED | +-------------------------------+-------------------+-------------------------+--------------------+----------------------+-------------------+------------------+ | Fedora Linux 40 | SKIPPED | SKIPPED | PASS | SKIPPED | PASS | SKIPPED | +-------------------------------+-------------------+-------------------------+--------------------+----------------------+-------------------+------------------+ | Fedora Linux 41 | SKIPPED | SKIPPED | PASS | SKIPPED | PASS | PASS | +-------------------------------+-------------------+-------------------------+--------------------+----------------------+-------------------+------------------+ | openSUSE Leap 15.6 | SKIPPED | SKIPPED | PASS | SKIPPED | SKIPPED | SKIPPED | +-------------------------------+-------------------+-------------------------+--------------------+----------------------+-------------------+------------------+ | Red Hat Enterprise Linux 8.10 | SKIPPED | SKIPPED | PASS | SKIPPED | SKIPPED | SKIPPED | +-------------------------------+-------------------+-------------------------+--------------------+----------------------+-------------------+------------------+ | Red Hat Enterprise Linux 9.5 | SKIPPED | SKIPPED | PASS | SKIPPED | SKIPPED | SKIPPED | +-------------------------------+-------------------+-------------------------+--------------------+----------------------+-------------------+------------------+ | Ubuntu 22.04 | SKIPPED | SKIPPED | PASS | SKIPPED | PASS | SKIPPED | +-------------------------------+-------------------+-------------------------+--------------------+----------------------+-------------------+------------------+ | Ubuntu 24.04 | SKIPPED | SKIPPED | PASS | SKIPPED | PASS | PASS | +-------------------------------+-------------------+-------------------------+--------------------+----------------------+-------------------+------------------+ | Alpine Linux 3.22.0 | SKIPPED | SKIPPED | PASS | SKIPPED | SKIPPED | SKIPPED | +-------------------------------+-------------------+-------------------------+--------------------+----------------------+-------------------+------------------+ Windows Server 2022 Kernel: 10.0.20348.2031 Compiler: clang 15.0.7, gcc 14.1.0 (MinGW), and MSVC VS 19.39.33521 FreeBSD 14.2 Kernel: 14.2-RELEASE Compiler: clang 18.1.6 Ubuntu 20.04 Kernel: 4.19 Compiler: gcc gcc (Ubuntu 9.4.0-1ubuntu1~20.04.2) 9.4.0 CentOS Stream 9 Kernel: 5.15 Compiler: gcc gcc (GCC) 11.5.0 20240719 (Red Hat 11.5.0-7) CentOS Stream 10 Kernel: 5.15 Compiler: gcc gcc (GCC) 14.2.1 20250110 (Red Hat 14.2.1-8) Debian GNU/Linux 12 Kernel: 5.15 Compiler: gcc gcc (Debian 12.2.0-14+deb12u1) 12.2.0 Fedora Linux 40 Kernel: 5.15 Compiler: clang gcc (GCC) 14.2.1 20240912 (Red Hat 14.2.1-3) Fedora Linux 41 Kernel: 5.15 Compiler: clang gcc (GCC) 14.3.1 20250523 (Red Hat 14.3.1-1) openSUSE Leap 15.6 Kernel: 5.15 Compiler: gcc gcc (SUSE Linux) 7.5.0 Red Hat Enterprise Linux 8.10 Kernel: 5.15 Compiler: gcc gcc (GCC) 8.5.0 20210514 (Red Hat 8.5.0-22) Red Hat Enterprise Linux 9.5 Kernel: 5.15 Compiler: gcc gcc (GCC) 11.5.0 20240719 (Red Hat 11.5.0-2) Ubuntu 22.04 Kernel: 5.15 Compiler: gcc gcc (Ubuntu 11.4.0-1ubuntu1~22.04) 11.4.0 Ubuntu 24.04 Kernel: 5.15 Compiler: gcc gcc (Ubuntu 13.3.0-6ubuntu2~24.04) 13.3.0 Alpine Linux 3.22.0 Kernel: 5.15 Compiler: gcc gcc (Alpine 14.2.0) 14.2.0 To view detailed results, visit: https://lab.dpdk.org/results/dashboard/patchsets/33737/ UNH-IOL DPDK Community Lab To manage your email subscriptions, visit: https://lab.dpdk.org/results/dashboard/preferences/subscriptions/