From mboxrd@z Thu Jan 1 00:00:00 1970 Return-Path: Received: from mails.dpdk.org (mails.dpdk.org [217.70.189.124]) by inbox.dpdk.org (Postfix) with ESMTP id 8968E46BF5 for ; Wed, 23 Jul 2025 23:28:36 +0200 (CEST) Received: from mails.dpdk.org (localhost [127.0.0.1]) by mails.dpdk.org (Postfix) with ESMTP id 8592540151; Wed, 23 Jul 2025 23:28:36 +0200 (CEST) Received: from mail-pg1-f227.google.com (mail-pg1-f227.google.com [209.85.215.227]) by mails.dpdk.org (Postfix) with ESMTP id 69BD940151 for ; Wed, 23 Jul 2025 23:28:35 +0200 (CEST) Received: by mail-pg1-f227.google.com with SMTP id 41be03b00d2f7-b2c2c762a89so383161a12.0 for ; Wed, 23 Jul 2025 14:28:35 -0700 (PDT) DKIM-Signature: v=1; a=rsa-sha256; c=relaxed/relaxed; d=iol.unh.edu; s=unh-iol; t=1753306114; x=1753910914; darn=dpdk.org; h=references:in-reply-to:cc:to:from:subject:message-id:date:from:to :cc:subject:date:message-id:reply-to; bh=ty9cKmjM7vkHHVLGzHufFaBLLi+veRzilEOQvelIPaU=; b=RlCRLr3Mj8HL5bk4ltVaLMnEG/PvPQt5o6tVlLOpkQiTHE49MFDjJiY84TVrv1bI+q fBrzCH7GDSd07KHdDFpWBzKTSty6ieR3H3rG2gvLDWmPtQTVlaB8LQvX42EDseZSRkeu 7q2T+IboYr2QQr527GGiGMreoncGXgPIICPxI= X-Google-DKIM-Signature: v=1; a=rsa-sha256; c=relaxed/relaxed; d=1e100.net; s=20230601; t=1753306114; x=1753910914; h=references:in-reply-to:cc:to:from:subject:message-id:date :x-gm-message-state:from:to:cc:subject:date:message-id:reply-to; bh=ty9cKmjM7vkHHVLGzHufFaBLLi+veRzilEOQvelIPaU=; b=hEW2ty9xiJKSkDlmxsEG6FzVE80gC8YpkyHgTQrBPa+hXRskw8Ql1W7+bxyQ2K8Xgi RfQacg6h1MgAJrIEJqB9i40RYGmylXPT4oFHaSIPtvmWXCNRcTgMXJRr91I6zHKJjk9l Rh3nQwH7/Qw+jdFnCgqFXPz1SlQi2Psdor9JACINgZtnH1EEA+uCwxMRch6EIwRpvKep ffXtJ90sr5Uwi8rQ/sY1USikuuK2qRMeoo/6XZaoGZ3XnnUOkXO3I1HpSbrNDQiT1JxJ 7DAQQdZP6eWWYJhfrIxylRJZiXfilveQj1VmqD0EWWttakLITMYXY2uSrU+fepSQWanZ SCow== X-Gm-Message-State: AOJu0YwgQDJ84zvqLagkWoktuhdE+dvR0WBGXFLJLktW89vQdwD/0Nix bj2OD45+IqYrxqFDsRmGV0fXTH33LQYemznExxzOWT+zsbGQ03m9L1ggp8PN0sh03nVz5H+UFwX n6DpFINHXmFBn3rBtakAguYlSfIteSYkL3f38sdtDH4f9fAjveOkbCfRqxTT6 X-Gm-Gg: ASbGnct7ttrh4A6Yt8/gwi+KFcBVCRSnQST6eC26G3mZXv/EeXt1V6TsCta2Moqjf41 5I+Sc4UswYWmj1X/t7gIOd2B4wFg9edK667070mTIJBJFZNeWbT7BUzKN0RR5QklW+t47rYEHha mOj3vHQGj3YdRUXKBn3JKbhLHoMp6YO7NGwQiJ91bTL7aFHvfjdwWtYlfaxejCnjiTYODqi8NKf tgwjBSTPSasPXrEyCU6KIKquUTtxaY5n56eKjCU2JynOr2f2FuRXYD0i88yQ3xvEKUc1pPyHbKO EuhELE4XVILE5cYUZCDJdZXwJC04X1ZAjl8sbDRH/81hA/WrIw== X-Google-Smtp-Source: AGHT+IGxX9pTcN8KI+F7m+M2fUUdU/kNrFDPgDZq6+IRTg+Vu17JrSptB/PiD+Mmu2p1FMGkEaDc8lv88+Am X-Received: by 2002:a05:6a20:734a:b0:232:36e3:9a4e with SMTP id adf61e73a8af0-23d4916df49mr7268656637.40.1753306114668; Wed, 23 Jul 2025 14:28:34 -0700 (PDT) Received: from postal.iol.unh.edu (postal.iol.unh.edu. [2606:4100:3880:1234::84]) by smtp-relay.gmail.com with ESMTPS id d2e1a72fcca58-761ad97f76fsm10634b3a.1.2025.07.23.14.28.34 (version=TLS1_2 cipher=ECDHE-ECDSA-AES128-GCM-SHA256 bits=128/128); Wed, 23 Jul 2025 14:28:34 -0700 (PDT) X-Relaying-Domain: iol.unh.edu Date: Wed, 23 Jul 2025 14:28:34 -0700 (PDT) Message-ID: <68815402.050a0220.60d66.0831SMTPIN_ADDED_MISSING@mx.google.com> Received: from [172.21.0.11] (unknown [172.18.0.240]) by postal.iol.unh.edu (Postfix) with ESMTP id DEAB76051830; Wed, 23 Jul 2025 17:28:33 -0400 (EDT) Subject: |SUCCESS| pw155459 [PATCH] [v3] lib/ethdev: fix segfault in secondar From: dpdklab@iol.unh.edu To: Test Report Cc: dpdk-test-reports@iol.unh.edu In-Reply-To: <20250723131049.1703172-1-14pwcse1224@uetpeshawar.edu.pk> References: <20250723131049.1703172-1-14pwcse1224@uetpeshawar.edu.pk> Content-Type: text/plain X-BeenThere: test-report@dpdk.org X-Mailman-Version: 2.1.29 Precedence: list List-Id: automatic DPDK test reports List-Unsubscribe: , List-Archive: List-Post: List-Help: List-Subscribe: , Errors-To: test-report-bounces@dpdk.org Test-Label: iol-compile-amd64-testing Test-Status: SUCCESS http://dpdk.org/patch/155459 _Testing PASS_ Submitter: Khadem Ullah <14pwcse1224@uetpeshawar.edu.pk> Date: Wednesday, July 23 2025 13:10:49 DPDK git baseline: Repo:dpdk Branch: master CommitID:b78afde1fed9e11ee5cdce333a1a69dd7a9cf13e 155459 --> testing pass Upstream job id: Generic-DPDK-Compile-Meson#411606 Test environment and result as below: +-------------------------------+-------------------+-------------------------+--------------------+----------------------+-------------------+------------------+ | Environment | dpdk_msvc_compile | dpdk_llvm_clang_compile | dpdk_meson_compile | dpdk_mingw64_compile | dpdk_compile_spdk | dpdk_compile_ovs | +===============================+===================+=========================+====================+======================+===================+==================+ | Windows Server 2022 | PASS | PASS | SKIPPED | PASS | SKIPPED | SKIPPED | +-------------------------------+-------------------+-------------------------+--------------------+----------------------+-------------------+------------------+ | FreeBSD 14.2 | SKIPPED | SKIPPED | PASS | SKIPPED | SKIPPED | SKIPPED | +-------------------------------+-------------------+-------------------------+--------------------+----------------------+-------------------+------------------+ | Ubuntu 20.04 | SKIPPED | SKIPPED | PASS | SKIPPED | SKIPPED | SKIPPED | +-------------------------------+-------------------+-------------------------+--------------------+----------------------+-------------------+------------------+ | CentOS Stream 9 | SKIPPED | SKIPPED | PASS | SKIPPED | PASS | SKIPPED | +-------------------------------+-------------------+-------------------------+--------------------+----------------------+-------------------+------------------+ | CentOS Stream 10 | SKIPPED | SKIPPED | PASS | SKIPPED | SKIPPED | SKIPPED | +-------------------------------+-------------------+-------------------------+--------------------+----------------------+-------------------+------------------+ | Debian GNU/Linux 12 | SKIPPED | SKIPPED | PASS | SKIPPED | PASS | SKIPPED | +-------------------------------+-------------------+-------------------------+--------------------+----------------------+-------------------+------------------+ | Fedora Linux 40 | SKIPPED | SKIPPED | PASS | SKIPPED | PASS | SKIPPED | +-------------------------------+-------------------+-------------------------+--------------------+----------------------+-------------------+------------------+ | Fedora Linux 41 | SKIPPED | SKIPPED | PASS | SKIPPED | PASS | PASS | +-------------------------------+-------------------+-------------------------+--------------------+----------------------+-------------------+------------------+ | openSUSE Leap 15.6 | SKIPPED | SKIPPED | PASS | SKIPPED | SKIPPED | SKIPPED | +-------------------------------+-------------------+-------------------------+--------------------+----------------------+-------------------+------------------+ | Red Hat Enterprise Linux 8.10 | SKIPPED | SKIPPED | PASS | SKIPPED | SKIPPED | SKIPPED | +-------------------------------+-------------------+-------------------------+--------------------+----------------------+-------------------+------------------+ | Red Hat Enterprise Linux 9.5 | SKIPPED | SKIPPED | PASS | SKIPPED | SKIPPED | SKIPPED | +-------------------------------+-------------------+-------------------------+--------------------+----------------------+-------------------+------------------+ | Ubuntu 22.04 | SKIPPED | SKIPPED | PASS | SKIPPED | PASS | SKIPPED | +-------------------------------+-------------------+-------------------------+--------------------+----------------------+-------------------+------------------+ | Ubuntu 24.04 | SKIPPED | SKIPPED | PASS | SKIPPED | PASS | PASS | +-------------------------------+-------------------+-------------------------+--------------------+----------------------+-------------------+------------------+ | Alpine Linux 3.22.0 | SKIPPED | SKIPPED | PASS | SKIPPED | SKIPPED | SKIPPED | +-------------------------------+-------------------+-------------------------+--------------------+----------------------+-------------------+------------------+ Windows Server 2022 Kernel: 10.0.20348.2031 Compiler: clang 15.0.7, gcc 14.1.0 (MinGW), and MSVC VS 19.39.33521 FreeBSD 14.2 Kernel: 14.2-RELEASE Compiler: clang 18.1.6 Ubuntu 20.04 Kernel: 4.19 Compiler: gcc gcc (Ubuntu 9.4.0-1ubuntu1~20.04.2) 9.4.0 CentOS Stream 9 Kernel: 5.15 Compiler: gcc gcc (GCC) 11.5.0 20240719 (Red Hat 11.5.0-7) CentOS Stream 10 Kernel: 5.15 Compiler: gcc gcc (GCC) 14.2.1 20250110 (Red Hat 14.2.1-8) Debian GNU/Linux 12 Kernel: 5.15 Compiler: gcc gcc (Debian 12.2.0-14+deb12u1) 12.2.0 Fedora Linux 40 Kernel: 5.15 Compiler: clang gcc (GCC) 14.2.1 20240912 (Red Hat 14.2.1-3) Fedora Linux 41 Kernel: 5.15 Compiler: clang gcc (GCC) 14.3.1 20250523 (Red Hat 14.3.1-1) openSUSE Leap 15.6 Kernel: 5.15 Compiler: gcc gcc (SUSE Linux) 7.5.0 Red Hat Enterprise Linux 8.10 Kernel: 5.15 Compiler: gcc gcc (GCC) 8.5.0 20210514 (Red Hat 8.5.0-22) Red Hat Enterprise Linux 9.5 Kernel: 5.15 Compiler: gcc gcc (GCC) 11.5.0 20240719 (Red Hat 11.5.0-2) Ubuntu 22.04 Kernel: 5.15 Compiler: gcc gcc (Ubuntu 11.4.0-1ubuntu1~22.04) 11.4.0 Ubuntu 24.04 Kernel: 5.15 Compiler: gcc gcc (Ubuntu 13.3.0-6ubuntu2~24.04) 13.3.0 Alpine Linux 3.22.0 Kernel: 5.15 Compiler: gcc gcc (Alpine 14.2.0) 14.2.0 To view detailed results, visit: https://lab.dpdk.org/results/dashboard/patchsets/33737/ UNH-IOL DPDK Community Lab To manage your email subscriptions, visit: https://lab.dpdk.org/results/dashboard/preferences/subscriptions/