From mboxrd@z Thu Jan 1 00:00:00 1970 Return-Path: Received: from mails.dpdk.org (mails.dpdk.org [217.70.189.124]) by inbox.dpdk.org (Postfix) with ESMTP id 9B1D546BF5 for ; Wed, 23 Jul 2025 23:29:05 +0200 (CEST) Received: from mails.dpdk.org (localhost [127.0.0.1]) by mails.dpdk.org (Postfix) with ESMTP id 975A540151; Wed, 23 Jul 2025 23:29:05 +0200 (CEST) Received: from mail-qv1-f100.google.com (mail-qv1-f100.google.com [209.85.219.100]) by mails.dpdk.org (Postfix) with ESMTP id 0D37C40151 for ; Wed, 23 Jul 2025 23:29:04 +0200 (CEST) Received: by mail-qv1-f100.google.com with SMTP id 6a1803df08f44-702cbfe860cso3316736d6.1 for ; Wed, 23 Jul 2025 14:29:03 -0700 (PDT) DKIM-Signature: v=1; a=rsa-sha256; c=relaxed/relaxed; d=iol.unh.edu; s=unh-iol; t=1753306143; x=1753910943; darn=dpdk.org; h=references:in-reply-to:cc:to:from:subject:message-id:date:from:to :cc:subject:date:message-id:reply-to; bh=4d+UPhv4ZOSuEl/SfZaQc9PlsYQqiJ4265Ww4QhD/64=; b=TzN7cbS0lCOxnFIOY1wC+ixswkPOx2LT1N/cEoix6rpLyyygpS4u82jwuw8QCAk/CI HAOhrs9ra+I0wm3VA7k02IFtnTC2QawLfk1zDl6KXhNC45mdkba0Flb5wb/kk17Ksd1D 2fk/C6Q5H4ugHXWdSgNBx87MYuTaPlMX8UGMA= X-Google-DKIM-Signature: v=1; a=rsa-sha256; c=relaxed/relaxed; d=1e100.net; s=20230601; t=1753306143; x=1753910943; h=references:in-reply-to:cc:to:from:subject:message-id:date :x-gm-message-state:from:to:cc:subject:date:message-id:reply-to; bh=4d+UPhv4ZOSuEl/SfZaQc9PlsYQqiJ4265Ww4QhD/64=; b=RKgVoKNc8GW3lKXQXSzboXvmRpTG4RD+UjKg7ngxOveqgctFtCIjJlvtdw3az7bYgr Ye7QfuihywnT1x1kzV8Cng1np94t5ihLO+n9sB9l04Qz3/cD9kv8zHgIHyeQ0U2LhgqI ijqS+ih4XQDGEVnXVNA+vwnCUmcQ4Kwm925T3bvkURylNGnOolbwWWmyjRk/rAIBKiWC F+a4HRJO05wc3/PyVZZdegbHhyY61/LPJ+leIdEJGS0y4j4gJeic+ule2QNH84qL6SZr vZ/1E7oxAPoCMhQZUxZBZOwPTMMAIgKSREBd8jGmCWYFa10TpbiTvxyxbcQtNL3mItbC 5u1g== X-Gm-Message-State: AOJu0Yyp4GllF2dprDlaymTMSVqO74pyV3KwuXdrkzr2uHgqofzFmsKk aZuqPwp3Ksv0LzJBfXWoNpvTwa79hcpC+ojm6f6TknO+LwwswreG6ZO6YipB5ZMimUYQERd14OU gIyBBNkGsWDGTK/9x2DfsPTA7s7zOWfZwDD0Wc9Igm91j X-Gm-Gg: ASbGnctpHofr7gNK2Ysao/s572U3gNE6Xb78SX3HCSjq46LUm/7oOmeLkT9AmrsKMb5 HJxVN136k2G+yLqrLgEi/KZ33XG0Aoxol2DZR4WtgxBWbWoqF+1b7yJdHeR9cmuKO1zyYh1K1nO sgimPRCXhsvCgtkzJTPDqnmBXa1vlgZjlg8NXpqB2VeUQeeXSo8VlQJahiWFUyN/yjPnui2qExz G27uH1PDHQSz/Q78o0r6SUbCiRWoqGI+CKJ3Uyb+OPqYrrKGHZyq+6n1lo8kCMdaOUcAan9pXyD nv3Vl5WR0nYZ1KECfrmFbSxnypi5JJELTlfahhpfWnyUWvTpmtASv0tlt8DnpEES3/fnD0eI X-Google-Smtp-Source: AGHT+IHtvZcQ5jIFSXpCT4SpjhB9/+6hBCx3C96+4hsrRnQxiiHKfao4MHZga+tymNIy+SuiPIWOp9LrzUGU X-Received: by 2002:a05:6214:1d0c:b0:704:e715:3e8c with SMTP id 6a1803df08f44-707006aa935mr74669226d6.40.1753306143370; Wed, 23 Jul 2025 14:29:03 -0700 (PDT) Received: from postal.iol.unh.edu (postal.iol.unh.edu. [132.177.123.84]) by smtp-relay.gmail.com with ESMTPS id 6a1803df08f44-707102fe351sm101076d6.49.2025.07.23.14.29.03 (version=TLS1_2 cipher=ECDHE-ECDSA-AES128-GCM-SHA256 bits=128/128); Wed, 23 Jul 2025 14:29:03 -0700 (PDT) X-Relaying-Domain: iol.unh.edu Date: Wed, 23 Jul 2025 14:29:03 -0700 (PDT) Message-ID: <6881541f.050a0220.304dc9.080fSMTPIN_ADDED_MISSING@mx.google.com> Received: from [172.21.0.7] (unknown [172.18.0.240]) by postal.iol.unh.edu (Postfix) with ESMTP id CA4F16051830; Wed, 23 Jul 2025 17:29:02 -0400 (EDT) Subject: |SUCCESS| pw155459 [PATCH] [v3] lib/ethdev: fix segfault in secondar From: dpdklab@iol.unh.edu To: Test Report Cc: dpdk-test-reports@iol.unh.edu In-Reply-To: <20250723131049.1703172-1-14pwcse1224@uetpeshawar.edu.pk> References: <20250723131049.1703172-1-14pwcse1224@uetpeshawar.edu.pk> Content-Type: text/plain X-BeenThere: test-report@dpdk.org X-Mailman-Version: 2.1.29 Precedence: list List-Id: automatic DPDK test reports List-Unsubscribe: , List-Archive: List-Post: List-Help: List-Subscribe: , Errors-To: test-report-bounces@dpdk.org Test-Label: iol-compile-amd64-testing Test-Status: SUCCESS http://dpdk.org/patch/155459 _Testing PASS_ Submitter: Khadem Ullah <14pwcse1224@uetpeshawar.edu.pk> Date: Wednesday, July 23 2025 13:10:49 DPDK git baseline: Repo:dpdk Branch: master CommitID:b78afde1fed9e11ee5cdce333a1a69dd7a9cf13e 155459 --> testing pass Upstream job id: Generic-DPDK-Compile-Meson#411614 Test environment and result as below: +-------------------------------+-------------------+-------------------------+--------------------+----------------------+-------------------+------------------+ | Environment | dpdk_msvc_compile | dpdk_llvm_clang_compile | dpdk_meson_compile | dpdk_mingw64_compile | dpdk_compile_spdk | dpdk_compile_ovs | +===============================+===================+=========================+====================+======================+===================+==================+ | Windows Server 2022 | PASS | PASS | SKIPPED | PASS | SKIPPED | SKIPPED | +-------------------------------+-------------------+-------------------------+--------------------+----------------------+-------------------+------------------+ | FreeBSD 14.2 | SKIPPED | SKIPPED | PASS | SKIPPED | SKIPPED | SKIPPED | +-------------------------------+-------------------+-------------------------+--------------------+----------------------+-------------------+------------------+ | Ubuntu 20.04 | SKIPPED | SKIPPED | PASS | SKIPPED | SKIPPED | SKIPPED | +-------------------------------+-------------------+-------------------------+--------------------+----------------------+-------------------+------------------+ | CentOS Stream 9 | SKIPPED | SKIPPED | PASS | SKIPPED | PASS | SKIPPED | +-------------------------------+-------------------+-------------------------+--------------------+----------------------+-------------------+------------------+ | CentOS Stream 10 | SKIPPED | SKIPPED | PASS | SKIPPED | SKIPPED | SKIPPED | +-------------------------------+-------------------+-------------------------+--------------------+----------------------+-------------------+------------------+ | Debian GNU/Linux 12 | SKIPPED | SKIPPED | PASS | SKIPPED | PASS | SKIPPED | +-------------------------------+-------------------+-------------------------+--------------------+----------------------+-------------------+------------------+ | Fedora Linux 40 | SKIPPED | SKIPPED | PASS | SKIPPED | PASS | SKIPPED | +-------------------------------+-------------------+-------------------------+--------------------+----------------------+-------------------+------------------+ | Fedora Linux 41 | SKIPPED | SKIPPED | PASS | SKIPPED | PASS | PASS | +-------------------------------+-------------------+-------------------------+--------------------+----------------------+-------------------+------------------+ | openSUSE Leap 15.6 | SKIPPED | SKIPPED | PASS | SKIPPED | SKIPPED | SKIPPED | +-------------------------------+-------------------+-------------------------+--------------------+----------------------+-------------------+------------------+ | Red Hat Enterprise Linux 8.10 | SKIPPED | SKIPPED | PASS | SKIPPED | SKIPPED | SKIPPED | +-------------------------------+-------------------+-------------------------+--------------------+----------------------+-------------------+------------------+ | Red Hat Enterprise Linux 9.5 | SKIPPED | SKIPPED | PASS | SKIPPED | SKIPPED | SKIPPED | +-------------------------------+-------------------+-------------------------+--------------------+----------------------+-------------------+------------------+ | Ubuntu 22.04 | SKIPPED | SKIPPED | PASS | SKIPPED | PASS | SKIPPED | +-------------------------------+-------------------+-------------------------+--------------------+----------------------+-------------------+------------------+ | Ubuntu 24.04 | SKIPPED | SKIPPED | PASS | SKIPPED | PASS | PASS | +-------------------------------+-------------------+-------------------------+--------------------+----------------------+-------------------+------------------+ | Alpine Linux 3.22.0 | SKIPPED | SKIPPED | PASS | SKIPPED | SKIPPED | SKIPPED | +-------------------------------+-------------------+-------------------------+--------------------+----------------------+-------------------+------------------+ Windows Server 2022 Kernel: 10.0.20348.2031 Compiler: clang 15.0.7, gcc 14.1.0 (MinGW), and MSVC VS 19.39.33521 FreeBSD 14.2 Kernel: 14.2-RELEASE Compiler: clang 18.1.6 Ubuntu 20.04 Kernel: 4.19 Compiler: gcc gcc (Ubuntu 9.4.0-1ubuntu1~20.04.2) 9.4.0 CentOS Stream 9 Kernel: 5.15 Compiler: gcc gcc (GCC) 11.5.0 20240719 (Red Hat 11.5.0-7) CentOS Stream 10 Kernel: 5.15 Compiler: gcc gcc (GCC) 14.2.1 20250110 (Red Hat 14.2.1-8) Debian GNU/Linux 12 Kernel: 5.15 Compiler: gcc gcc (Debian 12.2.0-14+deb12u1) 12.2.0 Fedora Linux 40 Kernel: 5.15 Compiler: clang gcc (GCC) 14.2.1 20240912 (Red Hat 14.2.1-3) Fedora Linux 41 Kernel: 5.15 Compiler: clang gcc (GCC) 14.3.1 20250523 (Red Hat 14.3.1-1) openSUSE Leap 15.6 Kernel: 5.15 Compiler: gcc gcc (SUSE Linux) 7.5.0 Red Hat Enterprise Linux 8.10 Kernel: 5.15 Compiler: gcc gcc (GCC) 8.5.0 20210514 (Red Hat 8.5.0-22) Red Hat Enterprise Linux 9.5 Kernel: 5.15 Compiler: gcc gcc (GCC) 11.5.0 20240719 (Red Hat 11.5.0-2) Ubuntu 22.04 Kernel: 5.15 Compiler: gcc gcc (Ubuntu 11.4.0-1ubuntu1~22.04) 11.4.0 Ubuntu 24.04 Kernel: 5.15 Compiler: gcc gcc (Ubuntu 13.3.0-6ubuntu2~24.04) 13.3.0 Alpine Linux 3.22.0 Kernel: 5.15 Compiler: gcc gcc (Alpine 14.2.0) 14.2.0 To view detailed results, visit: https://lab.dpdk.org/results/dashboard/patchsets/33737/ UNH-IOL DPDK Community Lab To manage your email subscriptions, visit: https://lab.dpdk.org/results/dashboard/preferences/subscriptions/