From mboxrd@z Thu Jan 1 00:00:00 1970 Return-Path: Received: from mails.dpdk.org (mails.dpdk.org [217.70.189.124]) by inbox.dpdk.org (Postfix) with ESMTP id 4EC0346B8C for ; Wed, 23 Jul 2025 23:35:23 +0200 (CEST) Received: from mails.dpdk.org (localhost [127.0.0.1]) by mails.dpdk.org (Postfix) with ESMTP id 4A89D40151; Wed, 23 Jul 2025 23:35:23 +0200 (CEST) Received: from mail-oa1-f97.google.com (mail-oa1-f97.google.com [209.85.160.97]) by mails.dpdk.org (Postfix) with ESMTP id 9035140151 for ; Wed, 23 Jul 2025 23:35:21 +0200 (CEST) Received: by mail-oa1-f97.google.com with SMTP id 586e51a60fabf-302effd5978so202391fac.2 for ; Wed, 23 Jul 2025 14:35:21 -0700 (PDT) DKIM-Signature: v=1; a=rsa-sha256; c=relaxed/relaxed; d=iol.unh.edu; s=unh-iol; t=1753306521; x=1753911321; darn=dpdk.org; h=references:in-reply-to:cc:to:from:subject:message-id:date:from:to :cc:subject:date:message-id:reply-to; bh=/+ZhJqhP7EoPCD89OYjQOhDxEsQTceIFGXT+USw3ILI=; b=bXVgZjEPjMwNVieHfyRBvk3aM2Rn4KDGOSsN90NaaftIEI6yLceI9QkYjcnRwDnCv1 5WufSoXDd3R8VKc1t5SUQndM+7Aqzgjt96wiIL6jcyOiYX+/YH8jaTP9EEwseYV64/a2 az1Og+oFNfP4PvocDNF4DmcLOn8FNVbGaoya4= X-Google-DKIM-Signature: v=1; a=rsa-sha256; c=relaxed/relaxed; d=1e100.net; s=20230601; t=1753306521; x=1753911321; h=references:in-reply-to:cc:to:from:subject:message-id:date :x-gm-message-state:from:to:cc:subject:date:message-id:reply-to; bh=/+ZhJqhP7EoPCD89OYjQOhDxEsQTceIFGXT+USw3ILI=; b=As5no8vxZjiqMRVyX0DPYQ+7IJD1abF/985vwDmDjasA4BwPsUgSc5SiuckRtMDTxq 7sv+vw2ba2FLHINOHy2h6Fms26Wgu3VwdBZ/ylKqd8Qzww4dRV0b8Eq9ySfxXTnZaWWU JQ/5uBj0DOvOWe8SpI9ejxFDPpKEXSZBZGnn82zWrQsJpBUjmmvhl1BaTnF653l9bcbU 3vxz2JI2bzZjer3Ac5caIPDEr98ALZxfNuVsrYJ/JEZISKpJXGScB+7KlMVFUqJ8gcff XLCfAzeqUjTnVEzuqt8ngvM7z6dl+xxUPJE9eOXcoxMifdfd5K/BfqtxsdlREG8DhYM7 wnIQ== X-Gm-Message-State: AOJu0Yz3GS5QaG1CBNDLxqyvazkG6VPR87iiBGPIzCwjK+djct3YWlom OiwoznnNVgxKWEF+INBgUJKu+OXVeeZGZrmazXSCGWdK+qj5GwYEn4co+k5/q/esx0uWj0IqLEy pM/3IwMSQ/pMFMCmCxj+tqDuJ03JRDPv2ByAgfzQMfw9B285ixX19k/N2Mzfh X-Gm-Gg: ASbGncsJBJ0yPhKzl2/SLnr3IQLKR/5NJEcw6ixd4pIHCTFY2T8J1sgJXuVSoqWU43y TKUsln5jkqfB+FYgagw0YgwJ0O+o6CbeP9bcyklCKg7QFSSBf2cAvXarcR91JSMOwH5/zA+MMR2 Y2XrkArV4GxJaDLvCyygwjpCrx0hbS6yaVYb1JH75lfkGB0+vDWnElTMt4hHuuT8sCY2XLcXi4D AQvvJQ++EJf7cVRXduSiQl0YS6iqfGSOltNitj5A3t6M8Klisss1aD0vydqDk/MhegC9ad77jQi T8VQ6XAiRnG4nQlmw+OAzHhcs7QiDsxB6p/AeaVl+cKrGiANNQ== X-Google-Smtp-Source: AGHT+IHuygvvgsichbT3I3I8d9wVz7XIeb8taG2PzRgzO/o+En+O1LbMWJ1krbuzzpEOvi15zDZCYDt8/BGB X-Received: by 2002:a05:6870:583:b0:300:cbd2:3d7 with SMTP id 586e51a60fabf-306c6fc029emr3173971fac.10.1753306520769; Wed, 23 Jul 2025 14:35:20 -0700 (PDT) Received: from postal.iol.unh.edu (postal.iol.unh.edu. [2606:4100:3880:1234::84]) by smtp-relay.gmail.com with ESMTPS id 586e51a60fabf-306e1c83270sm22411fac.22.2025.07.23.14.35.20 (version=TLS1_2 cipher=ECDHE-ECDSA-AES128-GCM-SHA256 bits=128/128); Wed, 23 Jul 2025 14:35:20 -0700 (PDT) X-Relaying-Domain: iol.unh.edu Date: Wed, 23 Jul 2025 14:35:20 -0700 (PDT) Message-ID: <68815598.050a0220.340e5c.1246SMTPIN_ADDED_MISSING@mx.google.com> Received: from [172.21.0.7] (unknown [172.18.0.240]) by postal.iol.unh.edu (Postfix) with ESMTP id 4F8516051830; Wed, 23 Jul 2025 17:35:20 -0400 (EDT) Subject: |SUCCESS| pw155459 [PATCH] [v3] lib/ethdev: fix segfault in secondar From: dpdklab@iol.unh.edu To: Test Report Cc: dpdk-test-reports@iol.unh.edu In-Reply-To: <20250723131049.1703172-1-14pwcse1224@uetpeshawar.edu.pk> References: <20250723131049.1703172-1-14pwcse1224@uetpeshawar.edu.pk> Content-Type: text/plain X-BeenThere: test-report@dpdk.org X-Mailman-Version: 2.1.29 Precedence: list List-Id: automatic DPDK test reports List-Unsubscribe: , List-Archive: List-Post: List-Help: List-Subscribe: , Errors-To: test-report-bounces@dpdk.org Test-Label: iol-compile-amd64-testing Test-Status: SUCCESS http://dpdk.org/patch/155459 _Testing PASS_ Submitter: Khadem Ullah <14pwcse1224@uetpeshawar.edu.pk> Date: Wednesday, July 23 2025 13:10:49 DPDK git baseline: Repo:dpdk Branch: master CommitID:b78afde1fed9e11ee5cdce333a1a69dd7a9cf13e 155459 --> testing pass Upstream job id: Generic-DPDK-Compile-Meson#411608 Test environment and result as below: +-------------------------------+-------------------+-------------------------+--------------------+----------------------+-------------------+------------------+ | Environment | dpdk_msvc_compile | dpdk_llvm_clang_compile | dpdk_meson_compile | dpdk_mingw64_compile | dpdk_compile_spdk | dpdk_compile_ovs | +===============================+===================+=========================+====================+======================+===================+==================+ | Windows Server 2022 | PASS | PASS | SKIPPED | PASS | SKIPPED | SKIPPED | +-------------------------------+-------------------+-------------------------+--------------------+----------------------+-------------------+------------------+ | FreeBSD 14.2 | SKIPPED | SKIPPED | PASS | SKIPPED | SKIPPED | SKIPPED | +-------------------------------+-------------------+-------------------------+--------------------+----------------------+-------------------+------------------+ | Ubuntu 20.04 | SKIPPED | SKIPPED | PASS | SKIPPED | SKIPPED | SKIPPED | +-------------------------------+-------------------+-------------------------+--------------------+----------------------+-------------------+------------------+ | CentOS Stream 9 | SKIPPED | SKIPPED | PASS | SKIPPED | PASS | SKIPPED | +-------------------------------+-------------------+-------------------------+--------------------+----------------------+-------------------+------------------+ | CentOS Stream 10 | SKIPPED | SKIPPED | PASS | SKIPPED | SKIPPED | SKIPPED | +-------------------------------+-------------------+-------------------------+--------------------+----------------------+-------------------+------------------+ | Debian GNU/Linux 12 | SKIPPED | SKIPPED | PASS | SKIPPED | PASS | SKIPPED | +-------------------------------+-------------------+-------------------------+--------------------+----------------------+-------------------+------------------+ | Fedora Linux 40 | SKIPPED | SKIPPED | PASS | SKIPPED | PASS | SKIPPED | +-------------------------------+-------------------+-------------------------+--------------------+----------------------+-------------------+------------------+ | Fedora Linux 41 | SKIPPED | SKIPPED | PASS | SKIPPED | PASS | PASS | +-------------------------------+-------------------+-------------------------+--------------------+----------------------+-------------------+------------------+ | openSUSE Leap 15.6 | SKIPPED | SKIPPED | PASS | SKIPPED | SKIPPED | SKIPPED | +-------------------------------+-------------------+-------------------------+--------------------+----------------------+-------------------+------------------+ | Red Hat Enterprise Linux 8.10 | SKIPPED | SKIPPED | PASS | SKIPPED | SKIPPED | SKIPPED | +-------------------------------+-------------------+-------------------------+--------------------+----------------------+-------------------+------------------+ | Red Hat Enterprise Linux 9.5 | SKIPPED | SKIPPED | PASS | SKIPPED | SKIPPED | SKIPPED | +-------------------------------+-------------------+-------------------------+--------------------+----------------------+-------------------+------------------+ | Ubuntu 22.04 | SKIPPED | SKIPPED | PASS | SKIPPED | PASS | SKIPPED | +-------------------------------+-------------------+-------------------------+--------------------+----------------------+-------------------+------------------+ | Ubuntu 24.04 | SKIPPED | SKIPPED | PASS | SKIPPED | PASS | PASS | +-------------------------------+-------------------+-------------------------+--------------------+----------------------+-------------------+------------------+ | Alpine Linux 3.22.0 | SKIPPED | SKIPPED | PASS | SKIPPED | SKIPPED | SKIPPED | +-------------------------------+-------------------+-------------------------+--------------------+----------------------+-------------------+------------------+ Windows Server 2022 Kernel: 10.0.20348.2031 Compiler: clang 15.0.7, gcc 14.1.0 (MinGW), and MSVC VS 19.39.33521 FreeBSD 14.2 Kernel: 14.2-RELEASE Compiler: clang 18.1.6 Ubuntu 20.04 Kernel: 4.19 Compiler: gcc gcc (Ubuntu 9.4.0-1ubuntu1~20.04.2) 9.4.0 CentOS Stream 9 Kernel: 5.15 Compiler: gcc gcc (GCC) 11.5.0 20240719 (Red Hat 11.5.0-7) CentOS Stream 10 Kernel: 5.15 Compiler: gcc gcc (GCC) 14.2.1 20250110 (Red Hat 14.2.1-8) Debian GNU/Linux 12 Kernel: 5.15 Compiler: gcc gcc (Debian 12.2.0-14+deb12u1) 12.2.0 Fedora Linux 40 Kernel: 5.15 Compiler: clang gcc (GCC) 14.2.1 20240912 (Red Hat 14.2.1-3) Fedora Linux 41 Kernel: 5.15 Compiler: clang gcc (GCC) 14.3.1 20250523 (Red Hat 14.3.1-1) openSUSE Leap 15.6 Kernel: 5.15 Compiler: gcc gcc (SUSE Linux) 7.5.0 Red Hat Enterprise Linux 8.10 Kernel: 5.15 Compiler: gcc gcc (GCC) 8.5.0 20210514 (Red Hat 8.5.0-22) Red Hat Enterprise Linux 9.5 Kernel: 5.15 Compiler: gcc gcc (GCC) 11.5.0 20240719 (Red Hat 11.5.0-2) Ubuntu 22.04 Kernel: 5.15 Compiler: gcc gcc (Ubuntu 11.4.0-1ubuntu1~22.04) 11.4.0 Ubuntu 24.04 Kernel: 5.15 Compiler: gcc gcc (Ubuntu 13.3.0-6ubuntu2~24.04) 13.3.0 Alpine Linux 3.22.0 Kernel: 5.15 Compiler: gcc gcc (Alpine 14.2.0) 14.2.0 To view detailed results, visit: https://lab.dpdk.org/results/dashboard/patchsets/33737/ UNH-IOL DPDK Community Lab To manage your email subscriptions, visit: https://lab.dpdk.org/results/dashboard/preferences/subscriptions/