From mboxrd@z Thu Jan 1 00:00:00 1970 Return-Path: Received: from mails.dpdk.org (mails.dpdk.org [217.70.189.124]) by inbox.dpdk.org (Postfix) with ESMTP id 9930C46BF5 for ; Wed, 23 Jul 2025 23:37:33 +0200 (CEST) Received: from mails.dpdk.org (localhost [127.0.0.1]) by mails.dpdk.org (Postfix) with ESMTP id 7B8D640151; Wed, 23 Jul 2025 23:37:33 +0200 (CEST) Received: from mail-il1-f225.google.com (mail-il1-f225.google.com [209.85.166.225]) by mails.dpdk.org (Postfix) with ESMTP id D767C40151 for ; Wed, 23 Jul 2025 23:37:31 +0200 (CEST) Received: by mail-il1-f225.google.com with SMTP id e9e14a558f8ab-3df2d8cb8d2so1444195ab.2 for ; Wed, 23 Jul 2025 14:37:31 -0700 (PDT) DKIM-Signature: v=1; a=rsa-sha256; c=relaxed/relaxed; d=iol.unh.edu; s=unh-iol; t=1753306651; x=1753911451; darn=dpdk.org; h=references:in-reply-to:cc:to:from:subject:message-id:date:from:to :cc:subject:date:message-id:reply-to; bh=w2JFK1RRTpO+YawwmdpdiarWJ+Po84l8wNx0ifn6lIs=; b=PwKo9hidMPODRLHgIDmiVjCmdU90g/tmXyxtVjoM/sOBrwqnDUnA91RoZQSb5STj32 rdl/Etr9LIQZF/DnSr18rxJuLtkIgHMRb0nmfY8nhUHM2/bGIxZp9m6wXxyZVp2XS097 rNp1bDvsIyePag/rJYPl0Yt6Hnc5t298Emvtg= X-Google-DKIM-Signature: v=1; a=rsa-sha256; c=relaxed/relaxed; d=1e100.net; s=20230601; t=1753306651; x=1753911451; h=references:in-reply-to:cc:to:from:subject:message-id:date :x-gm-message-state:from:to:cc:subject:date:message-id:reply-to; bh=w2JFK1RRTpO+YawwmdpdiarWJ+Po84l8wNx0ifn6lIs=; b=MweLsVdpOBtHaePTuToCmmYO+WXW64s4R/9rWrfsB9ZZQPujTvT59J0qCZGk/xLJYq 1TfoAyRPSq6wr1eBFgSiycsjhh4xKyavxhVyUcUF0pXOI8FPvk85aUdcwH9kwgVlHJNU 03BqKCGxaC1GGjummI8f6yeL2kwys3D13XVpBHdlD4rQs1IVJ7I+Ogj3W8C1AdpyPcIx Anj+UjqfCRXxy4rGSoIr6K/BjzllJcqYaJgYGiYnptzG3Qw2jb3cao2rclNcAc/d3nem XQvRiztnLM6uTaRDg1Y5wRaMBf7gq0vIjW9EzpGEikYol0219yp+0tX3vA7COnOOGNKr x/GA== X-Gm-Message-State: AOJu0YwZHxEvS46EzSLUMhw3WqUz/16xdo9xe8y2MRnj7YZTvjnqIqgZ 8Of74I6ccE8A7sh6DzT5/O8sMNgZ3rGbvAN62InQiEoLCGxnh/0dUARx6vmv9klTQvawV/d4Q6e Ssom640O3KsjWqiwOvgj9XE8UhElii9I4uHFmTM159YJ3PmSgUJD0GpkAO5WS X-Gm-Gg: ASbGncs82ppPMoH6SYRipkkpNJWYIF/VbvCKFi/knF2BJb//WQx5Bw3YNs1kBxPJvnP +je/2Q7Hun1H0cLBlVV88iDkELoYm5NKBsiOP2APrsda8xv9Bs9jcixv7tpjNFb5aRNhyujzpen Jcz/lfQfZrZPstxPwExPOWYvdM2Dtq0fSzitqLkJ3joM3ma+3UW+14E/koMe7J9fjujSmOyj5DX WSW+37KFEkDVvgREfJK1ZXdWVGt8wBWUVN4FhqcjLeKKROp/Cd1OGJS40DHTrj8aeqSeFWe7A6J q/XzkAjLG1yZqBey0RI9sSVPylWbpGguUqL6xzSaF372dy8zmA== X-Google-Smtp-Source: AGHT+IEjUwl+t4Es790Ga5vzpMMpmx2p/NRnTNeAR7c/aP8AOq/8mPBTeex/Bqn/YGaIbCPOBsMXlfhMdJch X-Received: by 2002:a05:6e02:9c:b0:3e1:5407:6844 with SMTP id e9e14a558f8ab-3e32fbb6182mr81086955ab.3.1753306651158; Wed, 23 Jul 2025 14:37:31 -0700 (PDT) Received: from postal.iol.unh.edu (postal.iol.unh.edu. [2606:4100:3880:1234::84]) by smtp-relay.gmail.com with ESMTPS id e9e14a558f8ab-3e3b7108687sm128235ab.14.2025.07.23.14.37.31 (version=TLS1_2 cipher=ECDHE-ECDSA-AES128-GCM-SHA256 bits=128/128); Wed, 23 Jul 2025 14:37:31 -0700 (PDT) X-Relaying-Domain: iol.unh.edu Date: Wed, 23 Jul 2025 14:37:31 -0700 (PDT) Message-ID: <6881561b.050a0220.39606c.0a53SMTPIN_ADDED_MISSING@mx.google.com> Received: from [172.21.0.3] (unknown [172.18.0.240]) by postal.iol.unh.edu (Postfix) with ESMTP id A9B1E6051830; Wed, 23 Jul 2025 17:37:30 -0400 (EDT) Subject: |SUCCESS| pw155461-155481 [PATCH] [v5,22/22] ci: extend coverage wit From: dpdklab@iol.unh.edu To: Test Report Cc: dpdk-test-reports@iol.unh.edu In-Reply-To: <20250723133157.159825-23-david.marchand@redhat.com> References: <20250723133157.159825-23-david.marchand@redhat.com> Content-Type: text/plain X-BeenThere: test-report@dpdk.org X-Mailman-Version: 2.1.29 Precedence: list List-Id: automatic DPDK test reports List-Unsubscribe: , List-Archive: List-Post: List-Help: List-Subscribe: , Errors-To: test-report-bounces@dpdk.org Test-Label: iol-compile-amd64-testing Test-Status: SUCCESS http://dpdk.org/patch/155481 _Testing PASS_ Submitter: David Marchand Date: Wednesday, July 23 2025 13:31:55 DPDK git baseline: Repo:dpdk Branch: master CommitID:e3183a6edafdc41bfd71de1517f9e9ec85eb1276 155461-155481 --> testing pass Upstream job id: Generic-DPDK-Compile-Meson#411643 Test environment and result as below: +-------------------------------+--------------------+-------------------------+-------------------+----------------------+-------------------+------------------+ | Environment | dpdk_meson_compile | dpdk_llvm_clang_compile | dpdk_msvc_compile | dpdk_mingw64_compile | dpdk_compile_spdk | dpdk_compile_ovs | +===============================+====================+=========================+===================+======================+===================+==================+ | Ubuntu 20.04 | PASS | SKIPPED | SKIPPED | SKIPPED | SKIPPED | SKIPPED | +-------------------------------+--------------------+-------------------------+-------------------+----------------------+-------------------+------------------+ | FreeBSD 14.2 | PASS | SKIPPED | SKIPPED | SKIPPED | SKIPPED | SKIPPED | +-------------------------------+--------------------+-------------------------+-------------------+----------------------+-------------------+------------------+ | CentOS Stream 9 | PASS | SKIPPED | SKIPPED | SKIPPED | PASS | SKIPPED | +-------------------------------+--------------------+-------------------------+-------------------+----------------------+-------------------+------------------+ | CentOS Stream 10 | PASS | SKIPPED | SKIPPED | SKIPPED | SKIPPED | SKIPPED | +-------------------------------+--------------------+-------------------------+-------------------+----------------------+-------------------+------------------+ | Debian GNU/Linux 12 | PASS | SKIPPED | SKIPPED | SKIPPED | PASS | SKIPPED | +-------------------------------+--------------------+-------------------------+-------------------+----------------------+-------------------+------------------+ | Fedora Linux 40 | PASS | SKIPPED | SKIPPED | SKIPPED | PASS | SKIPPED | +-------------------------------+--------------------+-------------------------+-------------------+----------------------+-------------------+------------------+ | Fedora Linux 41 | PASS | SKIPPED | SKIPPED | SKIPPED | PASS | PASS | +-------------------------------+--------------------+-------------------------+-------------------+----------------------+-------------------+------------------+ | openSUSE Leap 15.6 | PASS | SKIPPED | SKIPPED | SKIPPED | SKIPPED | SKIPPED | +-------------------------------+--------------------+-------------------------+-------------------+----------------------+-------------------+------------------+ | Red Hat Enterprise Linux 8.10 | PASS | SKIPPED | SKIPPED | SKIPPED | SKIPPED | SKIPPED | +-------------------------------+--------------------+-------------------------+-------------------+----------------------+-------------------+------------------+ | Red Hat Enterprise Linux 9.5 | PASS | SKIPPED | SKIPPED | SKIPPED | SKIPPED | SKIPPED | +-------------------------------+--------------------+-------------------------+-------------------+----------------------+-------------------+------------------+ | Ubuntu 22.04 | PASS | SKIPPED | SKIPPED | SKIPPED | PASS | SKIPPED | +-------------------------------+--------------------+-------------------------+-------------------+----------------------+-------------------+------------------+ | Ubuntu 24.04 | PASS | SKIPPED | SKIPPED | SKIPPED | PASS | PASS | +-------------------------------+--------------------+-------------------------+-------------------+----------------------+-------------------+------------------+ | Alpine Linux 3.22.0 | PASS | SKIPPED | SKIPPED | SKIPPED | SKIPPED | SKIPPED | +-------------------------------+--------------------+-------------------------+-------------------+----------------------+-------------------+------------------+ | Windows Server 2022 | SKIPPED | PASS | PASS | PASS | SKIPPED | SKIPPED | +-------------------------------+--------------------+-------------------------+-------------------+----------------------+-------------------+------------------+ Ubuntu 20.04 Kernel: 4.19 Compiler: gcc gcc (Ubuntu 9.4.0-1ubuntu1~20.04.2) 9.4.0 FreeBSD 14.2 Kernel: 14.2-RELEASE Compiler: clang 18.1.6 CentOS Stream 9 Kernel: 5.15 Compiler: gcc gcc (GCC) 11.5.0 20240719 (Red Hat 11.5.0-7) CentOS Stream 10 Kernel: 5.15 Compiler: gcc gcc (GCC) 14.2.1 20250110 (Red Hat 14.2.1-8) Debian GNU/Linux 12 Kernel: 5.15 Compiler: gcc gcc (Debian 12.2.0-14+deb12u1) 12.2.0 Fedora Linux 40 Kernel: 5.15 Compiler: clang gcc (GCC) 14.2.1 20240912 (Red Hat 14.2.1-3) Fedora Linux 41 Kernel: 5.15 Compiler: clang gcc (GCC) 14.3.1 20250523 (Red Hat 14.3.1-1) openSUSE Leap 15.6 Kernel: 5.15 Compiler: gcc gcc (SUSE Linux) 7.5.0 Red Hat Enterprise Linux 8.10 Kernel: 5.15 Compiler: gcc gcc (GCC) 8.5.0 20210514 (Red Hat 8.5.0-22) Red Hat Enterprise Linux 9.5 Kernel: 5.15 Compiler: gcc gcc (GCC) 11.5.0 20240719 (Red Hat 11.5.0-2) Ubuntu 22.04 Kernel: 5.15 Compiler: gcc gcc (Ubuntu 11.4.0-1ubuntu1~22.04) 11.4.0 Ubuntu 24.04 Kernel: 5.15 Compiler: gcc gcc (Ubuntu 13.3.0-6ubuntu2~24.04) 13.3.0 Alpine Linux 3.22.0 Kernel: 5.15 Compiler: gcc gcc (Alpine 14.2.0) 14.2.0 Windows Server 2022 Kernel: 10.0.20348.2031 Compiler: clang 15.0.7, gcc 14.1.0 (MinGW), and MSVC VS 19.39.33521 To view detailed results, visit: https://lab.dpdk.org/results/dashboard/patchsets/33738/ UNH-IOL DPDK Community Lab To manage your email subscriptions, visit: https://lab.dpdk.org/results/dashboard/preferences/subscriptions/