From mboxrd@z Thu Jan 1 00:00:00 1970 Return-Path: Received: from mails.dpdk.org (mails.dpdk.org [217.70.189.124]) by inbox.dpdk.org (Postfix) with ESMTP id A29B946BF5 for ; Wed, 23 Jul 2025 23:38:06 +0200 (CEST) Received: from mails.dpdk.org (localhost [127.0.0.1]) by mails.dpdk.org (Postfix) with ESMTP id 9EFCA40151; Wed, 23 Jul 2025 23:38:06 +0200 (CEST) Received: from mail-yw1-f225.google.com (mail-yw1-f225.google.com [209.85.128.225]) by mails.dpdk.org (Postfix) with ESMTP id 111B240151 for ; Wed, 23 Jul 2025 23:38:06 +0200 (CEST) Received: by mail-yw1-f225.google.com with SMTP id 00721157ae682-712be7e034cso4409867b3.0 for ; Wed, 23 Jul 2025 14:38:06 -0700 (PDT) DKIM-Signature: v=1; a=rsa-sha256; c=relaxed/relaxed; d=iol.unh.edu; s=unh-iol; t=1753306685; x=1753911485; darn=dpdk.org; h=references:in-reply-to:cc:to:from:subject:message-id:date:from:to :cc:subject:date:message-id:reply-to; bh=oBLiPuwpxAPtau4e+DI24Xfi/a7UUregNNhwUrNtY4Y=; b=DXAOcG4WlH1LKN7/aN1zkSKjS69p/TFH8fuerEBXv8ZfYdJ0aKP1ky8EP2RmNMeZ/E FJEIkiH4zRrzsrhD+KwisyKlhpAszfCOwXE/Py+kVqKDDNraRz4qe+zUN1FS9xOZabkx MIsbRTu/i7WPoGh44+j4NfnR5RPcS6fyyAt5k= X-Google-DKIM-Signature: v=1; a=rsa-sha256; c=relaxed/relaxed; d=1e100.net; s=20230601; t=1753306685; x=1753911485; h=references:in-reply-to:cc:to:from:subject:message-id:date :x-gm-message-state:from:to:cc:subject:date:message-id:reply-to; bh=oBLiPuwpxAPtau4e+DI24Xfi/a7UUregNNhwUrNtY4Y=; b=GFbtw7ABCyT3veCph/gdTVbEbqCnZ/5AN/2ho1kFb2B43PEskfixErCfh0xHUtWHDb CwUDoV+jlyJmoAf2b6MRqFWizrBzKMJE8AAnQMTApUj4aPI3Ow6Q8D3oyocHvc8kTdWm aB+Zvqxo7NqFxL8ItwbWz1tZWUEL7lNne9kjsaGUm51ZJEWnIZIsKHB7Au/wn56MCeoF tdZaFz/7DOJ0hm0kV20V6feD1sieLcSaKQukCUpotUGexbM1LQ8D99+0H0DBDWr/YOsE qVFuvwHBxs5p6NVLwxPSUHRgB9m4dnI42btWLVpZrie+K5pr6Oj/Gz/4CzS6p2yGHK0M PhjQ== X-Gm-Message-State: AOJu0Yyhadnu3RynjcT10ualS+d+c2F63G6NDXs6GPEU2OWItcJCthiz prgz2wgTUmYhjHPqIhq67mc27dn5v/VCKnDVZ4Zb2qebo8O8kXYbky/0fBTuFA0RprBO4jUeBW4 0irWS8FnpYU8xkrbHVpFzSY11pXSpL/qoxmHBPQNfDfs93eZCjoGFXp8RZjeR X-Gm-Gg: ASbGncvimT2pjZpsPiOut+9whYDtj0hdcUNHBcnxxBfTgMSj4fBLiREijkDi+tAsL40 xtHkgBgLu/3qhC/I7DrmVjiS80/rpSr2cSHUZaTbpduP041iNcxMSZvnG2N9AOcrQ/dSF3SoJ3P BrIKujEeDaRfKI178BRwrxZkAftLO3xjJONWjHdxz41HT3agM+adxyKsjlcPXXesdKP3GDRNJwu y5SseznlclFekOvxfbJjqsNQKZcoOkhSuzMynJtIhYP/bfBW6ShZyhMZPok9qY+lKeV9N+Sjnr6 7E5C6CN+ESjI015MWc2t3PhqwZDBV+qQJwZTyjfdUKPOkwlYAw== X-Google-Smtp-Source: AGHT+IHfT2jaJpAN9Qpron+m4d3RWQfnfrpeBzjF69f012ZqPIIzdaddpvY9yz1gFShLwUZv47xEa+i4E92I X-Received: by 2002:a05:690c:fc8:b0:708:21e9:a20d with SMTP id 00721157ae682-719b415527fmr67275267b3.16.1753306685406; Wed, 23 Jul 2025 14:38:05 -0700 (PDT) Received: from postal.iol.unh.edu (postal.iol.unh.edu. [2606:4100:3880:1234::84]) by smtp-relay.gmail.com with ESMTPS id 00721157ae682-719cb912607sm45267b3.29.2025.07.23.14.38.05 (version=TLS1_2 cipher=ECDHE-ECDSA-AES128-GCM-SHA256 bits=128/128); Wed, 23 Jul 2025 14:38:05 -0700 (PDT) X-Relaying-Domain: iol.unh.edu Date: Wed, 23 Jul 2025 14:38:05 -0700 (PDT) Message-ID: <6881563d.050a0220.21a51a.03b1SMTPIN_ADDED_MISSING@mx.google.com> Received: from [172.21.0.7] (unknown [172.18.0.240]) by postal.iol.unh.edu (Postfix) with ESMTP id 187666051830; Wed, 23 Jul 2025 17:38:05 -0400 (EDT) Subject: |SUCCESS| pw155461-155481 [PATCH] [v5,22/22] ci: extend coverage wit From: dpdklab@iol.unh.edu To: Test Report Cc: dpdk-test-reports@iol.unh.edu In-Reply-To: <20250723133157.159825-23-david.marchand@redhat.com> References: <20250723133157.159825-23-david.marchand@redhat.com> Content-Type: text/plain X-BeenThere: test-report@dpdk.org X-Mailman-Version: 2.1.29 Precedence: list List-Id: automatic DPDK test reports List-Unsubscribe: , List-Archive: List-Post: List-Help: List-Subscribe: , Errors-To: test-report-bounces@dpdk.org Test-Label: iol-compile-amd64-testing Test-Status: SUCCESS http://dpdk.org/patch/155481 _Testing PASS_ Submitter: David Marchand Date: Wednesday, July 23 2025 13:31:55 DPDK git baseline: Repo:dpdk Branch: master CommitID:e3183a6edafdc41bfd71de1517f9e9ec85eb1276 155461-155481 --> testing pass Upstream job id: Generic-DPDK-Compile-Meson#411635 Test environment and result as below: +-------------------------------+--------------------+-------------------------+-------------------+----------------------+-------------------+------------------+ | Environment | dpdk_meson_compile | dpdk_llvm_clang_compile | dpdk_msvc_compile | dpdk_mingw64_compile | dpdk_compile_spdk | dpdk_compile_ovs | +===============================+====================+=========================+===================+======================+===================+==================+ | Ubuntu 20.04 | PASS | SKIPPED | SKIPPED | SKIPPED | SKIPPED | SKIPPED | +-------------------------------+--------------------+-------------------------+-------------------+----------------------+-------------------+------------------+ | FreeBSD 14.2 | PASS | SKIPPED | SKIPPED | SKIPPED | SKIPPED | SKIPPED | +-------------------------------+--------------------+-------------------------+-------------------+----------------------+-------------------+------------------+ | CentOS Stream 9 | PASS | SKIPPED | SKIPPED | SKIPPED | PASS | SKIPPED | +-------------------------------+--------------------+-------------------------+-------------------+----------------------+-------------------+------------------+ | CentOS Stream 10 | PASS | SKIPPED | SKIPPED | SKIPPED | SKIPPED | SKIPPED | +-------------------------------+--------------------+-------------------------+-------------------+----------------------+-------------------+------------------+ | Debian GNU/Linux 12 | PASS | SKIPPED | SKIPPED | SKIPPED | PASS | SKIPPED | +-------------------------------+--------------------+-------------------------+-------------------+----------------------+-------------------+------------------+ | Fedora Linux 40 | PASS | SKIPPED | SKIPPED | SKIPPED | PASS | SKIPPED | +-------------------------------+--------------------+-------------------------+-------------------+----------------------+-------------------+------------------+ | Fedora Linux 41 | PASS | SKIPPED | SKIPPED | SKIPPED | PASS | PASS | +-------------------------------+--------------------+-------------------------+-------------------+----------------------+-------------------+------------------+ | openSUSE Leap 15.6 | PASS | SKIPPED | SKIPPED | SKIPPED | SKIPPED | SKIPPED | +-------------------------------+--------------------+-------------------------+-------------------+----------------------+-------------------+------------------+ | Red Hat Enterprise Linux 8.10 | PASS | SKIPPED | SKIPPED | SKIPPED | SKIPPED | SKIPPED | +-------------------------------+--------------------+-------------------------+-------------------+----------------------+-------------------+------------------+ | Red Hat Enterprise Linux 9.5 | PASS | SKIPPED | SKIPPED | SKIPPED | SKIPPED | SKIPPED | +-------------------------------+--------------------+-------------------------+-------------------+----------------------+-------------------+------------------+ | Ubuntu 22.04 | PASS | SKIPPED | SKIPPED | SKIPPED | PASS | SKIPPED | +-------------------------------+--------------------+-------------------------+-------------------+----------------------+-------------------+------------------+ | Ubuntu 24.04 | PASS | SKIPPED | SKIPPED | SKIPPED | PASS | PASS | +-------------------------------+--------------------+-------------------------+-------------------+----------------------+-------------------+------------------+ | Alpine Linux 3.22.0 | PASS | SKIPPED | SKIPPED | SKIPPED | SKIPPED | SKIPPED | +-------------------------------+--------------------+-------------------------+-------------------+----------------------+-------------------+------------------+ | Windows Server 2022 | SKIPPED | PASS | PASS | PASS | SKIPPED | SKIPPED | +-------------------------------+--------------------+-------------------------+-------------------+----------------------+-------------------+------------------+ Ubuntu 20.04 Kernel: 4.19 Compiler: gcc gcc (Ubuntu 9.4.0-1ubuntu1~20.04.2) 9.4.0 FreeBSD 14.2 Kernel: 14.2-RELEASE Compiler: clang 18.1.6 CentOS Stream 9 Kernel: 5.15 Compiler: gcc gcc (GCC) 11.5.0 20240719 (Red Hat 11.5.0-7) CentOS Stream 10 Kernel: 5.15 Compiler: gcc gcc (GCC) 14.2.1 20250110 (Red Hat 14.2.1-8) Debian GNU/Linux 12 Kernel: 5.15 Compiler: gcc gcc (Debian 12.2.0-14+deb12u1) 12.2.0 Fedora Linux 40 Kernel: 5.15 Compiler: clang gcc (GCC) 14.2.1 20240912 (Red Hat 14.2.1-3) Fedora Linux 41 Kernel: 5.15 Compiler: clang gcc (GCC) 14.3.1 20250523 (Red Hat 14.3.1-1) openSUSE Leap 15.6 Kernel: 5.15 Compiler: gcc gcc (SUSE Linux) 7.5.0 Red Hat Enterprise Linux 8.10 Kernel: 5.15 Compiler: gcc gcc (GCC) 8.5.0 20210514 (Red Hat 8.5.0-22) Red Hat Enterprise Linux 9.5 Kernel: 5.15 Compiler: gcc gcc (GCC) 11.5.0 20240719 (Red Hat 11.5.0-2) Ubuntu 22.04 Kernel: 5.15 Compiler: gcc gcc (Ubuntu 11.4.0-1ubuntu1~22.04) 11.4.0 Ubuntu 24.04 Kernel: 5.15 Compiler: gcc gcc (Ubuntu 13.3.0-6ubuntu2~24.04) 13.3.0 Alpine Linux 3.22.0 Kernel: 5.15 Compiler: gcc gcc (Alpine 14.2.0) 14.2.0 Windows Server 2022 Kernel: 10.0.20348.2031 Compiler: clang 15.0.7, gcc 14.1.0 (MinGW), and MSVC VS 19.39.33521 To view detailed results, visit: https://lab.dpdk.org/results/dashboard/patchsets/33738/ UNH-IOL DPDK Community Lab To manage your email subscriptions, visit: https://lab.dpdk.org/results/dashboard/preferences/subscriptions/