From mboxrd@z Thu Jan 1 00:00:00 1970 Return-Path: Received: from mails.dpdk.org (mails.dpdk.org [217.70.189.124]) by inbox.dpdk.org (Postfix) with ESMTP id B212446BF5 for ; Wed, 23 Jul 2025 23:38:30 +0200 (CEST) Received: from mails.dpdk.org (localhost [127.0.0.1]) by mails.dpdk.org (Postfix) with ESMTP id AE36740151; Wed, 23 Jul 2025 23:38:30 +0200 (CEST) Received: from mail-pl1-f225.google.com (mail-pl1-f225.google.com [209.85.214.225]) by mails.dpdk.org (Postfix) with ESMTP id 65E7640151 for ; Wed, 23 Jul 2025 23:38:30 +0200 (CEST) Received: by mail-pl1-f225.google.com with SMTP id d9443c01a7336-234bfe37cccso2269795ad.0 for ; Wed, 23 Jul 2025 14:38:30 -0700 (PDT) DKIM-Signature: v=1; a=rsa-sha256; c=relaxed/relaxed; d=iol.unh.edu; s=unh-iol; t=1753306709; x=1753911509; darn=dpdk.org; h=references:in-reply-to:cc:to:from:subject:message-id:date:from:to :cc:subject:date:message-id:reply-to; bh=Ycf0B4H40vRovBRHVlRkUqCppbBSeeIaiQI2GqpFdkg=; b=hvLIpS2eIU9QKO21kMfyWdcyM3YdYdmTnCEnYqd8iabDUkwlRl/3GiW/X3ca6fHxBI W+xf4lXisjUNOTiv1lSYW/ee1a76DtnbWK+ylNyw6IrHT2jigpKTct6DkIArWZaW17YG hO4I+GoKSdioOB0CycChTt87Bh2GFnI/kDYwQ= X-Google-DKIM-Signature: v=1; a=rsa-sha256; c=relaxed/relaxed; d=1e100.net; s=20230601; t=1753306709; x=1753911509; h=references:in-reply-to:cc:to:from:subject:message-id:date :x-gm-message-state:from:to:cc:subject:date:message-id:reply-to; bh=Ycf0B4H40vRovBRHVlRkUqCppbBSeeIaiQI2GqpFdkg=; b=o3fBsya8VHRXIL7WHjqXfLiqjkxa8h4PzAYj9TTCZvsOMq1LniVmxenQnqpNtsif6z 5nE3nw1x77tXPfco73VuInmWKv0XRBDhnuVMBjXprCyJEo8DOYIDqrWwYWJfjOz83b51 +U8O3txZIT93NnkC1wNt3E3aFtNeAYAxo967KMYoYuxiwssE45D2ypEvdHjV/Cbvp5t6 MqKdpoffqK6sv5aBaK7MFZovJb2S/rlmgJMjMTerTSdRxnWBYOPQ/fhVF65VjZBW4puz 0g2/eY1nTcxASWr7qD82/h5KtBKPiQh3dB75PtlCyVldlG94XiFbTE7FiI010v5At6Wb jN+Q== X-Gm-Message-State: AOJu0Yw1Ibzb0gFlwV5ZFD5bl+gC/XvQ/XvzruUbkue/XQkynvCOPnyP qp4dy0xlfSlfaYqMO3mqdnAfy+bA8r1h4uWiIAh262ZR7DR083lxqWfIh9Ky2pydhgQ7VtgAXDy KRSMn12CWSQ+DBybTT4AirekA7S9SsuIlpYmDQ3N/Qc1k X-Gm-Gg: ASbGncsea9aYdxTIzQBtd7AHA79i8Wi8ogFKlzVFc2cYeJd6v0IkIu3Shn6dSwpZGvi dIHtYjpqMaD+ISwBI7dT8surFGErC+NoZHt+A3NQ1JKKT9ef5RP2j++KbuLeznuykGLsAS5PuHS KWnxr7odUqI8IUGlMGvO3mPi5TOSusSsHHTplFGFy2W8PElFgYpKo0aEFvKSqdCS+FYeBRCeLWt QC6ttm/lRlVu9u8BjOfdgoATBkMwGX5Jd9tMV+A9QHvBJCeec42yXJ2B8e1ha2Wzg82QMQhbJ1K lIQKstOxWPpUsHiV4pNKv8lgRee05qONuMJPyeR/xPAa/6qJzSNsPKJiHlUXvLOim5fWZ2kN X-Google-Smtp-Source: AGHT+IGZVe3/dKv+RboeRAnsx2SXSHTch/Qc8vXC6ReloqXtk1o1iFuT3QVLhTvfYxRIEaJmELZdhzgpO3sY X-Received: by 2002:a17:902:f542:b0:234:f4da:7eed with SMTP id d9443c01a7336-23f9822e157mr62425595ad.44.1753306709523; Wed, 23 Jul 2025 14:38:29 -0700 (PDT) Received: from postal.iol.unh.edu (postal.iol.unh.edu. [132.177.123.84]) by smtp-relay.gmail.com with ESMTPS id d9443c01a7336-23fa477463dsm23425ad.40.2025.07.23.14.38.29 (version=TLS1_2 cipher=ECDHE-ECDSA-AES128-GCM-SHA256 bits=128/128); Wed, 23 Jul 2025 14:38:29 -0700 (PDT) X-Relaying-Domain: iol.unh.edu Date: Wed, 23 Jul 2025 14:38:29 -0700 (PDT) Message-ID: <68815655.170a0220.338cb2.01deSMTPIN_ADDED_MISSING@mx.google.com> Received: from [172.21.0.4] (unknown [172.18.0.240]) by postal.iol.unh.edu (Postfix) with ESMTP id 01D2D6051830; Wed, 23 Jul 2025 17:38:29 -0400 (EDT) Subject: |SUCCESS| pw155461-155481 [PATCH] [v5,22/22] ci: extend coverage wit From: dpdklab@iol.unh.edu To: Test Report Cc: dpdk-test-reports@iol.unh.edu In-Reply-To: <20250723133157.159825-23-david.marchand@redhat.com> References: <20250723133157.159825-23-david.marchand@redhat.com> Content-Type: text/plain X-BeenThere: test-report@dpdk.org X-Mailman-Version: 2.1.29 Precedence: list List-Id: automatic DPDK test reports List-Unsubscribe: , List-Archive: List-Post: List-Help: List-Subscribe: , Errors-To: test-report-bounces@dpdk.org Test-Label: iol-compile-amd64-testing Test-Status: SUCCESS http://dpdk.org/patch/155481 _Testing PASS_ Submitter: David Marchand Date: Wednesday, July 23 2025 13:31:55 DPDK git baseline: Repo:dpdk Branch: master CommitID:e3183a6edafdc41bfd71de1517f9e9ec85eb1276 155461-155481 --> testing pass Upstream job id: Generic-DPDK-Compile-Meson#411639 Test environment and result as below: +-------------------------------+--------------------+-------------------------+-------------------+----------------------+-------------------+------------------+ | Environment | dpdk_meson_compile | dpdk_llvm_clang_compile | dpdk_msvc_compile | dpdk_mingw64_compile | dpdk_compile_spdk | dpdk_compile_ovs | +===============================+====================+=========================+===================+======================+===================+==================+ | Ubuntu 20.04 | PASS | SKIPPED | SKIPPED | SKIPPED | SKIPPED | SKIPPED | +-------------------------------+--------------------+-------------------------+-------------------+----------------------+-------------------+------------------+ | FreeBSD 14.2 | PASS | SKIPPED | SKIPPED | SKIPPED | SKIPPED | SKIPPED | +-------------------------------+--------------------+-------------------------+-------------------+----------------------+-------------------+------------------+ | CentOS Stream 9 | PASS | SKIPPED | SKIPPED | SKIPPED | PASS | SKIPPED | +-------------------------------+--------------------+-------------------------+-------------------+----------------------+-------------------+------------------+ | CentOS Stream 10 | PASS | SKIPPED | SKIPPED | SKIPPED | SKIPPED | SKIPPED | +-------------------------------+--------------------+-------------------------+-------------------+----------------------+-------------------+------------------+ | Debian GNU/Linux 12 | PASS | SKIPPED | SKIPPED | SKIPPED | PASS | SKIPPED | +-------------------------------+--------------------+-------------------------+-------------------+----------------------+-------------------+------------------+ | Fedora Linux 40 | PASS | SKIPPED | SKIPPED | SKIPPED | PASS | SKIPPED | +-------------------------------+--------------------+-------------------------+-------------------+----------------------+-------------------+------------------+ | Fedora Linux 41 | PASS | SKIPPED | SKIPPED | SKIPPED | PASS | PASS | +-------------------------------+--------------------+-------------------------+-------------------+----------------------+-------------------+------------------+ | openSUSE Leap 15.6 | PASS | SKIPPED | SKIPPED | SKIPPED | SKIPPED | SKIPPED | +-------------------------------+--------------------+-------------------------+-------------------+----------------------+-------------------+------------------+ | Red Hat Enterprise Linux 8.10 | PASS | SKIPPED | SKIPPED | SKIPPED | SKIPPED | SKIPPED | +-------------------------------+--------------------+-------------------------+-------------------+----------------------+-------------------+------------------+ | Red Hat Enterprise Linux 9.5 | PASS | SKIPPED | SKIPPED | SKIPPED | SKIPPED | SKIPPED | +-------------------------------+--------------------+-------------------------+-------------------+----------------------+-------------------+------------------+ | Ubuntu 22.04 | PASS | SKIPPED | SKIPPED | SKIPPED | PASS | SKIPPED | +-------------------------------+--------------------+-------------------------+-------------------+----------------------+-------------------+------------------+ | Ubuntu 24.04 | PASS | SKIPPED | SKIPPED | SKIPPED | PASS | PASS | +-------------------------------+--------------------+-------------------------+-------------------+----------------------+-------------------+------------------+ | Alpine Linux 3.22.0 | PASS | SKIPPED | SKIPPED | SKIPPED | SKIPPED | SKIPPED | +-------------------------------+--------------------+-------------------------+-------------------+----------------------+-------------------+------------------+ | Windows Server 2022 | SKIPPED | PASS | PASS | PASS | SKIPPED | SKIPPED | +-------------------------------+--------------------+-------------------------+-------------------+----------------------+-------------------+------------------+ Ubuntu 20.04 Kernel: 4.19 Compiler: gcc gcc (Ubuntu 9.4.0-1ubuntu1~20.04.2) 9.4.0 FreeBSD 14.2 Kernel: 14.2-RELEASE Compiler: clang 18.1.6 CentOS Stream 9 Kernel: 5.15 Compiler: gcc gcc (GCC) 11.5.0 20240719 (Red Hat 11.5.0-7) CentOS Stream 10 Kernel: 5.15 Compiler: gcc gcc (GCC) 14.2.1 20250110 (Red Hat 14.2.1-8) Debian GNU/Linux 12 Kernel: 5.15 Compiler: gcc gcc (Debian 12.2.0-14+deb12u1) 12.2.0 Fedora Linux 40 Kernel: 5.15 Compiler: clang gcc (GCC) 14.2.1 20240912 (Red Hat 14.2.1-3) Fedora Linux 41 Kernel: 5.15 Compiler: clang gcc (GCC) 14.3.1 20250523 (Red Hat 14.3.1-1) openSUSE Leap 15.6 Kernel: 5.15 Compiler: gcc gcc (SUSE Linux) 7.5.0 Red Hat Enterprise Linux 8.10 Kernel: 5.15 Compiler: gcc gcc (GCC) 8.5.0 20210514 (Red Hat 8.5.0-22) Red Hat Enterprise Linux 9.5 Kernel: 5.15 Compiler: gcc gcc (GCC) 11.5.0 20240719 (Red Hat 11.5.0-2) Ubuntu 22.04 Kernel: 5.15 Compiler: gcc gcc (Ubuntu 11.4.0-1ubuntu1~22.04) 11.4.0 Ubuntu 24.04 Kernel: 5.15 Compiler: gcc gcc (Ubuntu 13.3.0-6ubuntu2~24.04) 13.3.0 Alpine Linux 3.22.0 Kernel: 5.15 Compiler: gcc gcc (Alpine 14.2.0) 14.2.0 Windows Server 2022 Kernel: 10.0.20348.2031 Compiler: clang 15.0.7, gcc 14.1.0 (MinGW), and MSVC VS 19.39.33521 To view detailed results, visit: https://lab.dpdk.org/results/dashboard/patchsets/33738/ UNH-IOL DPDK Community Lab To manage your email subscriptions, visit: https://lab.dpdk.org/results/dashboard/preferences/subscriptions/