From mboxrd@z Thu Jan 1 00:00:00 1970 Return-Path: Received: from mails.dpdk.org (mails.dpdk.org [217.70.189.124]) by inbox.dpdk.org (Postfix) with ESMTP id 07C2746BF5 for ; Wed, 23 Jul 2025 23:40:30 +0200 (CEST) Received: from mails.dpdk.org (localhost [127.0.0.1]) by mails.dpdk.org (Postfix) with ESMTP id DEA1440151; Wed, 23 Jul 2025 23:40:29 +0200 (CEST) Received: from mail-pl1-f227.google.com (mail-pl1-f227.google.com [209.85.214.227]) by mails.dpdk.org (Postfix) with ESMTP id 7C70C40151 for ; Wed, 23 Jul 2025 23:40:29 +0200 (CEST) Received: by mail-pl1-f227.google.com with SMTP id d9443c01a7336-23dea2e01e4so3986495ad.1 for ; Wed, 23 Jul 2025 14:40:29 -0700 (PDT) DKIM-Signature: v=1; a=rsa-sha256; c=relaxed/relaxed; d=iol.unh.edu; s=unh-iol; t=1753306828; x=1753911628; darn=dpdk.org; h=references:in-reply-to:cc:to:from:subject:message-id:date:from:to :cc:subject:date:message-id:reply-to; bh=mcr90q8k/dFwwUYb7jAnfGxx/6u0RXPOmCgSGKSkuvc=; b=AY2ZdwqDEYQYfkXqCTV5ptuPBF6gHODWcE80bhIWrVaEZPbIGJoCpXd5C9/1tMmR94 BuZ91rSMCSRvmMFbW1KrDMwJ0YeMFg/EymeaqhMxmeVCSMObK+MbyKc4cSA7HfRoq1Ek I6skER+gRDOhnpC4E/epMY2Qwz/eoYU9RP8eA= X-Google-DKIM-Signature: v=1; a=rsa-sha256; c=relaxed/relaxed; d=1e100.net; s=20230601; t=1753306828; x=1753911628; h=references:in-reply-to:cc:to:from:subject:message-id:date :x-gm-message-state:from:to:cc:subject:date:message-id:reply-to; bh=mcr90q8k/dFwwUYb7jAnfGxx/6u0RXPOmCgSGKSkuvc=; b=OnRCW3c7K0lAj8ngo2q+X2R2WdreyX1DMVod465UYTZmRjeh6GiGnbDAUor8LFUnYW EyMQ0WHc9D7YojIS5n6mUw/hFQ/vttpYL0ZHAlHQUBMNQ4Fka7RJslrpYnEAXyD28dQd J6cz1zu6l7xxqMi67To9VQ3BlId+RcVgZPOs2iCI2iJqGcIV/7VipptHgNtDDXpMbhXf b6t/j8xxgL3NwSsgTbSkO7XBqafiubPvfRxDn4qxtJcHXkWryBEqUWg8UGT2bG+NvvMe zrmP07bq9dQgbpBOyZNyFch3ApUX+0zpDyqlOSiePd0GicDxgT1Xf4FPxArIQTx7e5+B GCIg== X-Gm-Message-State: AOJu0YwuXlJywo65emDg9PwBqckAzJ6ECzSwCQYZ7lWP/0se/86B1w9A ik4rfpi3oH7Xkqn111xSlUL8CRiccooDiQLc4CIliGZpwGHfK70U2HOlejt8qTTZ/ekI6ZyxvU9 9kxfA35wZzEvUgQspT7y4iEnRh2TJaXVCLUBYKin5jJ4V X-Gm-Gg: ASbGncuAlJLY2/nOKWBSb3Kzl5I9wpRezb+8gPn6FlrVbWU9iseVRh6kp4ur+XJvZq/ +ji9ZfomxBKMNn1xDBr5248KsGKS0vj+NiUFyCSJQcswyVt8mcw1s0jideJNBcHEYEhGFG26rb6 5JJc+j9L83Hn+YKhKSQzs8xRDadeulj8PVSSgNtPhn/nOBoEbUyNcSoL68dBE3CgTbHSmtNIkdY kYAN/e4pRhgOMMzAIqrqNM1nLIgrkr1R+W54fAKLXxBzVPLhq5VVxTg8hAlcbsxOH089MvPGSth eURypCIKEf/vaDoVogkTY++xYIX5WoxQ7MnaLz/RtSka3v1y9hxmM9Ufb1NRXFcvYNFL0TuN X-Google-Smtp-Source: AGHT+IEaGr9qwxrzHGbA06EW/rb+umwKuJcLp4ivVVopDuVmG/V4BlDNRm5chgA9hm4vf1RRCTIej2sDGMjD X-Received: by 2002:a17:902:f684:b0:234:ed31:fca7 with SMTP id d9443c01a7336-23f981db976mr60254405ad.48.1753306828613; Wed, 23 Jul 2025 14:40:28 -0700 (PDT) Received: from postal.iol.unh.edu (postal.iol.unh.edu. [132.177.123.84]) by smtp-relay.gmail.com with ESMTPS id d9443c01a7336-23fa47746fdsm23245ad.39.2025.07.23.14.40.28 (version=TLS1_2 cipher=ECDHE-ECDSA-AES128-GCM-SHA256 bits=128/128); Wed, 23 Jul 2025 14:40:28 -0700 (PDT) X-Relaying-Domain: iol.unh.edu Date: Wed, 23 Jul 2025 14:40:28 -0700 (PDT) Message-ID: <688156cc.170a0220.217fd4.01e8SMTPIN_ADDED_MISSING@mx.google.com> Received: from [172.21.0.4] (unknown [172.18.0.240]) by postal.iol.unh.edu (Postfix) with ESMTP id B63216050A61; Wed, 23 Jul 2025 17:40:27 -0400 (EDT) Subject: |SUCCESS| pw155483 [PATCH] net/tap: fix BPF build failure in cross-c From: dpdklab@iol.unh.edu To: Test Report Cc: dpdk-test-reports@iol.unh.edu In-Reply-To: <20250723125702.3787183-1-ashok.k.kaladi@intel.com> References: <20250723125702.3787183-1-ashok.k.kaladi@intel.com> Content-Type: text/plain X-BeenThere: test-report@dpdk.org X-Mailman-Version: 2.1.29 Precedence: list List-Id: automatic DPDK test reports List-Unsubscribe: , List-Archive: List-Post: List-Help: List-Subscribe: , Errors-To: test-report-bounces@dpdk.org Test-Label: iol-compile-amd64-testing Test-Status: SUCCESS http://dpdk.org/patch/155483 _Testing PASS_ Submitter: Ashok Kaladi Date: Wednesday, July 23 2025 12:57:02 DPDK git baseline: Repo:dpdk Branch: master CommitID:899bc9e500ccc718c12b1df4b920dcf0cbeb6265 155483 --> testing pass Upstream job id: Generic-DPDK-Compile-Meson#411657 Test environment and result as below: +-------------------------------+-------------------------+--------------------+-------------------+----------------------+-------------------+------------------+ | Environment | dpdk_llvm_clang_compile | dpdk_meson_compile | dpdk_msvc_compile | dpdk_mingw64_compile | dpdk_compile_spdk | dpdk_compile_ovs | +===============================+=========================+====================+===================+======================+===================+==================+ | Windows Server 2022 | PASS | SKIPPED | PASS | PASS | SKIPPED | SKIPPED | +-------------------------------+-------------------------+--------------------+-------------------+----------------------+-------------------+------------------+ | Ubuntu 20.04 | SKIPPED | PASS | SKIPPED | SKIPPED | SKIPPED | SKIPPED | +-------------------------------+-------------------------+--------------------+-------------------+----------------------+-------------------+------------------+ | FreeBSD 14.2 | SKIPPED | PASS | SKIPPED | SKIPPED | SKIPPED | SKIPPED | +-------------------------------+-------------------------+--------------------+-------------------+----------------------+-------------------+------------------+ | CentOS Stream 10 | SKIPPED | PASS | SKIPPED | SKIPPED | SKIPPED | SKIPPED | +-------------------------------+-------------------------+--------------------+-------------------+----------------------+-------------------+------------------+ | Debian GNU/Linux 12 | SKIPPED | PASS | SKIPPED | SKIPPED | PASS | SKIPPED | +-------------------------------+-------------------------+--------------------+-------------------+----------------------+-------------------+------------------+ | Fedora Linux 40 | SKIPPED | PASS | SKIPPED | SKIPPED | PASS | SKIPPED | +-------------------------------+-------------------------+--------------------+-------------------+----------------------+-------------------+------------------+ | Fedora Linux 41 | SKIPPED | PASS | SKIPPED | SKIPPED | PASS | PASS | +-------------------------------+-------------------------+--------------------+-------------------+----------------------+-------------------+------------------+ | openSUSE Leap 15.6 | SKIPPED | PASS | SKIPPED | SKIPPED | SKIPPED | SKIPPED | +-------------------------------+-------------------------+--------------------+-------------------+----------------------+-------------------+------------------+ | Red Hat Enterprise Linux 8.10 | SKIPPED | PASS | SKIPPED | SKIPPED | SKIPPED | SKIPPED | +-------------------------------+-------------------------+--------------------+-------------------+----------------------+-------------------+------------------+ | Red Hat Enterprise Linux 9.5 | SKIPPED | PASS | SKIPPED | SKIPPED | SKIPPED | SKIPPED | +-------------------------------+-------------------------+--------------------+-------------------+----------------------+-------------------+------------------+ | Ubuntu 22.04 | SKIPPED | PASS | SKIPPED | SKIPPED | PASS | SKIPPED | +-------------------------------+-------------------------+--------------------+-------------------+----------------------+-------------------+------------------+ | Ubuntu 24.04 | SKIPPED | PASS | SKIPPED | SKIPPED | PASS | PASS | +-------------------------------+-------------------------+--------------------+-------------------+----------------------+-------------------+------------------+ | Alpine Linux 3.22.0 | SKIPPED | PASS | SKIPPED | SKIPPED | SKIPPED | SKIPPED | +-------------------------------+-------------------------+--------------------+-------------------+----------------------+-------------------+------------------+ | CentOS Stream 9 | SKIPPED | PASS | SKIPPED | SKIPPED | PASS | SKIPPED | +-------------------------------+-------------------------+--------------------+-------------------+----------------------+-------------------+------------------+ Windows Server 2022 Kernel: 10.0.20348.2031 Compiler: clang 15.0.7, gcc 14.1.0 (MinGW), and MSVC VS 19.39.33521 Ubuntu 20.04 Kernel: 4.19 Compiler: gcc gcc (Ubuntu 9.4.0-1ubuntu1~20.04.2) 9.4.0 FreeBSD 14.2 Kernel: 14.2-RELEASE Compiler: clang 18.1.6 CentOS Stream 10 Kernel: 5.15 Compiler: gcc gcc (GCC) 14.2.1 20250110 (Red Hat 14.2.1-8) Debian GNU/Linux 12 Kernel: 5.15 Compiler: gcc gcc (Debian 12.2.0-14+deb12u1) 12.2.0 Fedora Linux 40 Kernel: 5.15 Compiler: clang gcc (GCC) 14.2.1 20240912 (Red Hat 14.2.1-3) Fedora Linux 41 Kernel: 5.15 Compiler: clang gcc (GCC) 14.3.1 20250523 (Red Hat 14.3.1-1) openSUSE Leap 15.6 Kernel: 5.15 Compiler: gcc gcc (SUSE Linux) 7.5.0 Red Hat Enterprise Linux 8.10 Kernel: 5.15 Compiler: gcc gcc (GCC) 8.5.0 20210514 (Red Hat 8.5.0-22) Red Hat Enterprise Linux 9.5 Kernel: 5.15 Compiler: gcc gcc (GCC) 11.5.0 20240719 (Red Hat 11.5.0-2) Ubuntu 22.04 Kernel: 5.15 Compiler: gcc gcc (Ubuntu 11.4.0-1ubuntu1~22.04) 11.4.0 Ubuntu 24.04 Kernel: 5.15 Compiler: gcc gcc (Ubuntu 13.3.0-6ubuntu2~24.04) 13.3.0 Alpine Linux 3.22.0 Kernel: 5.15 Compiler: gcc gcc (Alpine 14.2.0) 14.2.0 CentOS Stream 9 Kernel: 5.15 Compiler: gcc gcc (GCC) 11.5.0 20240719 (Red Hat 11.5.0-7) To view detailed results, visit: https://lab.dpdk.org/results/dashboard/patchsets/33740/ UNH-IOL DPDK Community Lab To manage your email subscriptions, visit: https://lab.dpdk.org/results/dashboard/preferences/subscriptions/