From mboxrd@z Thu Jan 1 00:00:00 1970 Return-Path: Received: from mails.dpdk.org (mails.dpdk.org [217.70.189.124]) by inbox.dpdk.org (Postfix) with ESMTP id F06EC46BF5 for ; Wed, 23 Jul 2025 23:40:35 +0200 (CEST) Received: from mails.dpdk.org (localhost [127.0.0.1]) by mails.dpdk.org (Postfix) with ESMTP id EC73040151; Wed, 23 Jul 2025 23:40:35 +0200 (CEST) Received: from mail-io1-f97.google.com (mail-io1-f97.google.com [209.85.166.97]) by mails.dpdk.org (Postfix) with ESMTP id 30A7E40151 for ; Wed, 23 Jul 2025 23:40:35 +0200 (CEST) Received: by mail-io1-f97.google.com with SMTP id ca18e2360f4ac-86efcef9194so14654939f.0 for ; Wed, 23 Jul 2025 14:40:35 -0700 (PDT) DKIM-Signature: v=1; a=rsa-sha256; c=relaxed/relaxed; d=iol.unh.edu; s=unh-iol; t=1753306834; x=1753911634; darn=dpdk.org; h=references:in-reply-to:cc:to:from:subject:message-id:date:from:to :cc:subject:date:message-id:reply-to; bh=HpuHtHOGY2PGXUu+AQg3vnRI89uHX4bPLQDaDp1fr9c=; b=fgfVgyj4ZVy7Z0iGMj1E6h3EPdys08jaMvT8wSt9hIfKeTkTXPVwnCitgGnYSYR1zP l+6WbHWTmEWOB7LzlVvfyV8uM0C/g6/nf+csrFz6BGNzH9SFL2lO3/d1y5X5jkfLUbzi ZN7P/BnHKl4JvYO257It+lOk6lBpCMSFoAtUY= X-Google-DKIM-Signature: v=1; a=rsa-sha256; c=relaxed/relaxed; d=1e100.net; s=20230601; t=1753306834; x=1753911634; h=references:in-reply-to:cc:to:from:subject:message-id:date :x-gm-message-state:from:to:cc:subject:date:message-id:reply-to; bh=HpuHtHOGY2PGXUu+AQg3vnRI89uHX4bPLQDaDp1fr9c=; b=qEnU3PJLrc7ogsqVCey3Af259DIyaABfA6mHhWUaVy6zainT5FbJjl2fhDgneEEj34 wt9sUtC5jFRIy6i7vcJrBzJC+0neRs4F1dUuwoe3OuayIHloRw0tT0uONfn24e/QTZ0l M6Vs/3pKIYeKbLZ9WaEfOjKDDiuQ1dpNjkIyPfghybjuTDAhR0ohcieWDrMgFEitK8Ph NytcGF95qoEql2CrPSpli9g+haWXNbaJX9Y7stOJpxVCqj7zNZmdTnU3HQ0Sz/N1Jxcg rI/hjJ5lA7wNVLTBLcYEXKqgdALJbEZsJui2w8KsircIILVLACIXmwdi5DrazzTlEjWy K7Lw== X-Gm-Message-State: AOJu0YxVom47VRKlQYYXj0ozokREYrNeXeiA/gOnj/gKUwOmR9GwHgDs 5BT68jzxrekNgs2/VdUgm5XFoayySUTDkEM3v73fi5JX8zEUh3nMzQrLBRC8PUFXarNtcnsb0Di DwRqNjeN5++fTwCUNeeyKfaRU2PFliW24dIObfrVHZC9l X-Gm-Gg: ASbGnctPi5xgUhh3vPJANNcTZcV0WAL7gCsORjStimKo7BHHIpK94lxjC04nDy+gWBX zH8tfLzOiBeOqqy/LsG1Mbmz0kE/engIbHbMxNXWEM40yosOiSGqMISD/GQxiB9KMHU8OJmh6Ic TgV93F0IjE1bAMWuE1RR7s1YKYdgzZV8QsfrIp0VXPThBJ8QjqLeqS7ZMXljAJPN3Nh07euO+Pm yEkZlHNyEIGDwzPbFKIIa3lLktjS8nTMmT1QVzpIgcmzlBfQhTIK3oWUltnrKyR37XrmcU9iLOI +GVnk9WD4lm6BaB1EDqEvu1SF62zaWtqHxaCsEJCzuHoh0lUpDIXF1/WE8IOIPrV4Q8l4S/3 X-Google-Smtp-Source: AGHT+IHI8Bcv6LyXrHsEWFmBE924wm2XB8biWKBrVXFnkdko1QvoG1rBjUnY36SrSl/xYALWDi6vGE8iC2cH X-Received: by 2002:a05:6e02:12cb:b0:3e2:9b9e:ab85 with SMTP id e9e14a558f8ab-3e32fc98260mr75721865ab.11.1753306834494; Wed, 23 Jul 2025 14:40:34 -0700 (PDT) Received: from postal.iol.unh.edu (postal.iol.unh.edu. [132.177.123.84]) by smtp-relay.gmail.com with ESMTPS id 8926c6da1cb9f-508aea3cb32sm2967173.3.2025.07.23.14.40.34 (version=TLS1_2 cipher=ECDHE-ECDSA-AES128-GCM-SHA256 bits=128/128); Wed, 23 Jul 2025 14:40:34 -0700 (PDT) X-Relaying-Domain: iol.unh.edu Date: Wed, 23 Jul 2025 14:40:34 -0700 (PDT) Message-ID: <688156d2.050a0220.1c8a1a.024cSMTPIN_ADDED_MISSING@mx.google.com> Received: from [172.21.0.5] (unknown [172.18.0.240]) by postal.iol.unh.edu (Postfix) with ESMTP id DE4796050A61; Wed, 23 Jul 2025 17:40:33 -0400 (EDT) Subject: |SUCCESS| pw155461-155481 [PATCH] [v5,22/22] ci: extend coverage wit From: dpdklab@iol.unh.edu To: Test Report Cc: dpdk-test-reports@iol.unh.edu In-Reply-To: <20250723133157.159825-23-david.marchand@redhat.com> References: <20250723133157.159825-23-david.marchand@redhat.com> Content-Type: text/plain X-BeenThere: test-report@dpdk.org X-Mailman-Version: 2.1.29 Precedence: list List-Id: automatic DPDK test reports List-Unsubscribe: , List-Archive: List-Post: List-Help: List-Subscribe: , Errors-To: test-report-bounces@dpdk.org Test-Label: iol-compile-amd64-testing Test-Status: SUCCESS http://dpdk.org/patch/155481 _Testing PASS_ Submitter: David Marchand Date: Wednesday, July 23 2025 13:31:55 DPDK git baseline: Repo:dpdk Branch: master CommitID:e3183a6edafdc41bfd71de1517f9e9ec85eb1276 155461-155481 --> testing pass Upstream job id: Generic-DPDK-Compile-Meson#411636 Test environment and result as below: +-------------------------------+--------------------+-------------------------+-------------------+----------------------+-------------------+------------------+ | Environment | dpdk_meson_compile | dpdk_llvm_clang_compile | dpdk_msvc_compile | dpdk_mingw64_compile | dpdk_compile_spdk | dpdk_compile_ovs | +===============================+====================+=========================+===================+======================+===================+==================+ | Ubuntu 20.04 | PASS | SKIPPED | SKIPPED | SKIPPED | SKIPPED | SKIPPED | +-------------------------------+--------------------+-------------------------+-------------------+----------------------+-------------------+------------------+ | FreeBSD 14.2 | PASS | SKIPPED | SKIPPED | SKIPPED | SKIPPED | SKIPPED | +-------------------------------+--------------------+-------------------------+-------------------+----------------------+-------------------+------------------+ | CentOS Stream 9 | PASS | SKIPPED | SKIPPED | SKIPPED | PASS | SKIPPED | +-------------------------------+--------------------+-------------------------+-------------------+----------------------+-------------------+------------------+ | CentOS Stream 10 | PASS | SKIPPED | SKIPPED | SKIPPED | SKIPPED | SKIPPED | +-------------------------------+--------------------+-------------------------+-------------------+----------------------+-------------------+------------------+ | Debian GNU/Linux 12 | PASS | SKIPPED | SKIPPED | SKIPPED | PASS | SKIPPED | +-------------------------------+--------------------+-------------------------+-------------------+----------------------+-------------------+------------------+ | Fedora Linux 40 | PASS | SKIPPED | SKIPPED | SKIPPED | PASS | SKIPPED | +-------------------------------+--------------------+-------------------------+-------------------+----------------------+-------------------+------------------+ | Fedora Linux 41 | PASS | SKIPPED | SKIPPED | SKIPPED | PASS | PASS | +-------------------------------+--------------------+-------------------------+-------------------+----------------------+-------------------+------------------+ | openSUSE Leap 15.6 | PASS | SKIPPED | SKIPPED | SKIPPED | SKIPPED | SKIPPED | +-------------------------------+--------------------+-------------------------+-------------------+----------------------+-------------------+------------------+ | Red Hat Enterprise Linux 8.10 | PASS | SKIPPED | SKIPPED | SKIPPED | SKIPPED | SKIPPED | +-------------------------------+--------------------+-------------------------+-------------------+----------------------+-------------------+------------------+ | Red Hat Enterprise Linux 9.5 | PASS | SKIPPED | SKIPPED | SKIPPED | SKIPPED | SKIPPED | +-------------------------------+--------------------+-------------------------+-------------------+----------------------+-------------------+------------------+ | Ubuntu 22.04 | PASS | SKIPPED | SKIPPED | SKIPPED | PASS | SKIPPED | +-------------------------------+--------------------+-------------------------+-------------------+----------------------+-------------------+------------------+ | Ubuntu 24.04 | PASS | SKIPPED | SKIPPED | SKIPPED | PASS | PASS | +-------------------------------+--------------------+-------------------------+-------------------+----------------------+-------------------+------------------+ | Alpine Linux 3.22.0 | PASS | SKIPPED | SKIPPED | SKIPPED | SKIPPED | SKIPPED | +-------------------------------+--------------------+-------------------------+-------------------+----------------------+-------------------+------------------+ | Windows Server 2022 | SKIPPED | PASS | PASS | PASS | SKIPPED | SKIPPED | +-------------------------------+--------------------+-------------------------+-------------------+----------------------+-------------------+------------------+ Ubuntu 20.04 Kernel: 4.19 Compiler: gcc gcc (Ubuntu 9.4.0-1ubuntu1~20.04.2) 9.4.0 FreeBSD 14.2 Kernel: 14.2-RELEASE Compiler: clang 18.1.6 CentOS Stream 9 Kernel: 5.15 Compiler: gcc gcc (GCC) 11.5.0 20240719 (Red Hat 11.5.0-7) CentOS Stream 10 Kernel: 5.15 Compiler: gcc gcc (GCC) 14.2.1 20250110 (Red Hat 14.2.1-8) Debian GNU/Linux 12 Kernel: 5.15 Compiler: gcc gcc (Debian 12.2.0-14+deb12u1) 12.2.0 Fedora Linux 40 Kernel: 5.15 Compiler: clang gcc (GCC) 14.2.1 20240912 (Red Hat 14.2.1-3) Fedora Linux 41 Kernel: 5.15 Compiler: clang gcc (GCC) 14.3.1 20250523 (Red Hat 14.3.1-1) openSUSE Leap 15.6 Kernel: 5.15 Compiler: gcc gcc (SUSE Linux) 7.5.0 Red Hat Enterprise Linux 8.10 Kernel: 5.15 Compiler: gcc gcc (GCC) 8.5.0 20210514 (Red Hat 8.5.0-22) Red Hat Enterprise Linux 9.5 Kernel: 5.15 Compiler: gcc gcc (GCC) 11.5.0 20240719 (Red Hat 11.5.0-2) Ubuntu 22.04 Kernel: 5.15 Compiler: gcc gcc (Ubuntu 11.4.0-1ubuntu1~22.04) 11.4.0 Ubuntu 24.04 Kernel: 5.15 Compiler: gcc gcc (Ubuntu 13.3.0-6ubuntu2~24.04) 13.3.0 Alpine Linux 3.22.0 Kernel: 5.15 Compiler: gcc gcc (Alpine 14.2.0) 14.2.0 Windows Server 2022 Kernel: 10.0.20348.2031 Compiler: clang 15.0.7, gcc 14.1.0 (MinGW), and MSVC VS 19.39.33521 To view detailed results, visit: https://lab.dpdk.org/results/dashboard/patchsets/33738/ UNH-IOL DPDK Community Lab To manage your email subscriptions, visit: https://lab.dpdk.org/results/dashboard/preferences/subscriptions/