From mboxrd@z Thu Jan 1 00:00:00 1970 Return-Path: Received: from mails.dpdk.org (mails.dpdk.org [217.70.189.124]) by inbox.dpdk.org (Postfix) with ESMTP id 0E83B46BF5 for ; Wed, 23 Jul 2025 23:40:54 +0200 (CEST) Received: from mails.dpdk.org (localhost [127.0.0.1]) by mails.dpdk.org (Postfix) with ESMTP id 07A2140151; Wed, 23 Jul 2025 23:40:54 +0200 (CEST) Received: from mail-io1-f100.google.com (mail-io1-f100.google.com [209.85.166.100]) by mails.dpdk.org (Postfix) with ESMTP id 3BBEB40151 for ; Wed, 23 Jul 2025 23:40:53 +0200 (CEST) Received: by mail-io1-f100.google.com with SMTP id ca18e2360f4ac-87c420ac179so12217939f.1 for ; Wed, 23 Jul 2025 14:40:53 -0700 (PDT) DKIM-Signature: v=1; a=rsa-sha256; c=relaxed/relaxed; d=iol.unh.edu; s=unh-iol; t=1753306852; x=1753911652; darn=dpdk.org; h=references:in-reply-to:cc:to:from:subject:message-id:date:from:to :cc:subject:date:message-id:reply-to; bh=VDyMUZohTWQqb26HX7QOVjQ2b3G+6EVcTzX1IUlNhlE=; b=KyzX50Dp6zEnL84DTbAjZy8pNBVIYMdWNkCIr7d5ygqF7wQHoxdDyj7EdINGntfmRA dd1M2hRzjEPneEagu5kmHgV7H8qDmOmPRbyGWpNyfMO7QsJhAmn62IXzfotFMmQzkwDa jI72OOBo1TW/7E/6EsXNDXXCI00VXaZu/BDL4= X-Google-DKIM-Signature: v=1; a=rsa-sha256; c=relaxed/relaxed; d=1e100.net; s=20230601; t=1753306852; x=1753911652; h=references:in-reply-to:cc:to:from:subject:message-id:date :x-gm-message-state:from:to:cc:subject:date:message-id:reply-to; bh=VDyMUZohTWQqb26HX7QOVjQ2b3G+6EVcTzX1IUlNhlE=; b=fBxhg9Xk5ag5S1y+2Xpmq1K/qriUB5RehgAAYGOZFPmNOIf/hPznlL82QHKPoqZQ/a qmQhj3RZAxC7Fx7++AkmSUUqTq5oi9oIlugl5Xx2ITM/zYL9uXE61Ls/nkNib4g3J7z2 bRie5TbxSO8PFjW88Ohu3ug1biw+E8jl78WYeqWEJOhE4AYkXcw0/u+a7R5ToCXq/N1a 7qthC60PJ0oEKLIlp5vlEaW3k6NKvSR3UpjMcrJIFHHTur7OyDCvKLFSG1A0b2Pkoxox rdFsO/LIUemQKk/fsPJg64iWHiiQoSaoQrI/Lo8U6rQGWUuxdtlGKjmbBAS+OAvVYbOP 3CkQ== X-Gm-Message-State: AOJu0YySjDz+aXNvvxBfdFcelmxk8XJJJHSvJo3gyxPxWW9M3y9EIIYh ZiZ2kAWgBw96pF7OjyJ2l+INNwxvtw1YauGtzfUUzgch++nQPCdfgEUqV3VhjT9M4/48TBsYFr0 FFRt/62I0qm0Kv+ckOWyBAGKYlgxLC8xhMAHVaxePyYdy/gTo4sk3gzeiCE6t X-Gm-Gg: ASbGnctONc1LMWBB9w7lSaDGXlj4Ip8tWm4biMKSVeoZz19wT3lqhSYN6vzmA5zvqNB n64tjWTx/cEeA8R4ilYk8tp+frJ2RH4BgeDe6MdDaAYsrbJpLrhv03orYaDTNlScYNiPoE13MHx 0yhpohJLKB6ZvFJy+tYGszqFFvfTbGkeuAg0sr0dMebeARNe8QuI6betOSdItZ1qU3PH9MMo8uB 2TOgQOmcOGg1NsboD9pXH4SHxWMdb3oZNhRG1o3ZZgwnEUUIDO7tuIpdsY0l+sbuuAvLowseoen TzjylqA8ZTgBkOSVe/mDAFVSjieMiM9ichsE9YR9mpP9RUsShw== X-Google-Smtp-Source: AGHT+IHSYxqCJLNUcKKwlUroslb4CK0J1sEVX5xcs/KYN1yQkO3BzQJXDLGclUL3ecGk8tQudU7FAkYxaNsS X-Received: by 2002:a05:6602:4a06:b0:85b:3a51:2923 with SMTP id ca18e2360f4ac-87c65048517mr948686839f.14.1753306852502; Wed, 23 Jul 2025 14:40:52 -0700 (PDT) Received: from postal.iol.unh.edu (postal.iol.unh.edu. [2606:4100:3880:1234::84]) by smtp-relay.gmail.com with ESMTPS id ca18e2360f4ac-87c7407d1c0sm1012239f.5.2025.07.23.14.40.52 (version=TLS1_2 cipher=ECDHE-ECDSA-AES128-GCM-SHA256 bits=128/128); Wed, 23 Jul 2025 14:40:52 -0700 (PDT) X-Relaying-Domain: iol.unh.edu Date: Wed, 23 Jul 2025 14:40:52 -0700 (PDT) Message-ID: <688156e4.050a0220.40773.07f5SMTPIN_ADDED_MISSING@mx.google.com> Received: from [172.21.0.2] (unknown [172.18.0.240]) by postal.iol.unh.edu (Postfix) with ESMTP id EADA76050A61; Wed, 23 Jul 2025 17:40:51 -0400 (EDT) Subject: |SUCCESS| pw155483 [PATCH] net/tap: fix BPF build failure in cross-c From: dpdklab@iol.unh.edu To: Test Report Cc: dpdk-test-reports@iol.unh.edu In-Reply-To: <20250723125702.3787183-1-ashok.k.kaladi@intel.com> References: <20250723125702.3787183-1-ashok.k.kaladi@intel.com> Content-Type: text/plain X-BeenThere: test-report@dpdk.org X-Mailman-Version: 2.1.29 Precedence: list List-Id: automatic DPDK test reports List-Unsubscribe: , List-Archive: List-Post: List-Help: List-Subscribe: , Errors-To: test-report-bounces@dpdk.org Test-Label: iol-compile-amd64-testing Test-Status: SUCCESS http://dpdk.org/patch/155483 _Testing PASS_ Submitter: Ashok Kaladi Date: Wednesday, July 23 2025 12:57:02 DPDK git baseline: Repo:dpdk Branch: master CommitID:899bc9e500ccc718c12b1df4b920dcf0cbeb6265 155483 --> testing pass Upstream job id: Generic-DPDK-Compile-Meson#411658 Test environment and result as below: +-------------------------------+-------------------------+--------------------+-------------------+----------------------+-------------------+------------------+ | Environment | dpdk_llvm_clang_compile | dpdk_meson_compile | dpdk_msvc_compile | dpdk_mingw64_compile | dpdk_compile_spdk | dpdk_compile_ovs | +===============================+=========================+====================+===================+======================+===================+==================+ | Windows Server 2022 | PASS | SKIPPED | PASS | PASS | SKIPPED | SKIPPED | +-------------------------------+-------------------------+--------------------+-------------------+----------------------+-------------------+------------------+ | Ubuntu 20.04 | SKIPPED | PASS | SKIPPED | SKIPPED | SKIPPED | SKIPPED | +-------------------------------+-------------------------+--------------------+-------------------+----------------------+-------------------+------------------+ | FreeBSD 14.2 | SKIPPED | PASS | SKIPPED | SKIPPED | SKIPPED | SKIPPED | +-------------------------------+-------------------------+--------------------+-------------------+----------------------+-------------------+------------------+ | CentOS Stream 10 | SKIPPED | PASS | SKIPPED | SKIPPED | SKIPPED | SKIPPED | +-------------------------------+-------------------------+--------------------+-------------------+----------------------+-------------------+------------------+ | Debian GNU/Linux 12 | SKIPPED | PASS | SKIPPED | SKIPPED | PASS | SKIPPED | +-------------------------------+-------------------------+--------------------+-------------------+----------------------+-------------------+------------------+ | Fedora Linux 40 | SKIPPED | PASS | SKIPPED | SKIPPED | PASS | SKIPPED | +-------------------------------+-------------------------+--------------------+-------------------+----------------------+-------------------+------------------+ | Fedora Linux 41 | SKIPPED | PASS | SKIPPED | SKIPPED | PASS | PASS | +-------------------------------+-------------------------+--------------------+-------------------+----------------------+-------------------+------------------+ | openSUSE Leap 15.6 | SKIPPED | PASS | SKIPPED | SKIPPED | SKIPPED | SKIPPED | +-------------------------------+-------------------------+--------------------+-------------------+----------------------+-------------------+------------------+ | Red Hat Enterprise Linux 8.10 | SKIPPED | PASS | SKIPPED | SKIPPED | SKIPPED | SKIPPED | +-------------------------------+-------------------------+--------------------+-------------------+----------------------+-------------------+------------------+ | Red Hat Enterprise Linux 9.5 | SKIPPED | PASS | SKIPPED | SKIPPED | SKIPPED | SKIPPED | +-------------------------------+-------------------------+--------------------+-------------------+----------------------+-------------------+------------------+ | Ubuntu 22.04 | SKIPPED | PASS | SKIPPED | SKIPPED | PASS | SKIPPED | +-------------------------------+-------------------------+--------------------+-------------------+----------------------+-------------------+------------------+ | Ubuntu 24.04 | SKIPPED | PASS | SKIPPED | SKIPPED | PASS | PASS | +-------------------------------+-------------------------+--------------------+-------------------+----------------------+-------------------+------------------+ | Alpine Linux 3.22.0 | SKIPPED | PASS | SKIPPED | SKIPPED | SKIPPED | SKIPPED | +-------------------------------+-------------------------+--------------------+-------------------+----------------------+-------------------+------------------+ | CentOS Stream 9 | SKIPPED | PASS | SKIPPED | SKIPPED | PASS | SKIPPED | +-------------------------------+-------------------------+--------------------+-------------------+----------------------+-------------------+------------------+ Windows Server 2022 Kernel: 10.0.20348.2031 Compiler: clang 15.0.7, gcc 14.1.0 (MinGW), and MSVC VS 19.39.33521 Ubuntu 20.04 Kernel: 4.19 Compiler: gcc gcc (Ubuntu 9.4.0-1ubuntu1~20.04.2) 9.4.0 FreeBSD 14.2 Kernel: 14.2-RELEASE Compiler: clang 18.1.6 CentOS Stream 10 Kernel: 5.15 Compiler: gcc gcc (GCC) 14.2.1 20250110 (Red Hat 14.2.1-8) Debian GNU/Linux 12 Kernel: 5.15 Compiler: gcc gcc (Debian 12.2.0-14+deb12u1) 12.2.0 Fedora Linux 40 Kernel: 5.15 Compiler: clang gcc (GCC) 14.2.1 20240912 (Red Hat 14.2.1-3) Fedora Linux 41 Kernel: 5.15 Compiler: clang gcc (GCC) 14.3.1 20250523 (Red Hat 14.3.1-1) openSUSE Leap 15.6 Kernel: 5.15 Compiler: gcc gcc (SUSE Linux) 7.5.0 Red Hat Enterprise Linux 8.10 Kernel: 5.15 Compiler: gcc gcc (GCC) 8.5.0 20210514 (Red Hat 8.5.0-22) Red Hat Enterprise Linux 9.5 Kernel: 5.15 Compiler: gcc gcc (GCC) 11.5.0 20240719 (Red Hat 11.5.0-2) Ubuntu 22.04 Kernel: 5.15 Compiler: gcc gcc (Ubuntu 11.4.0-1ubuntu1~22.04) 11.4.0 Ubuntu 24.04 Kernel: 5.15 Compiler: gcc gcc (Ubuntu 13.3.0-6ubuntu2~24.04) 13.3.0 Alpine Linux 3.22.0 Kernel: 5.15 Compiler: gcc gcc (Alpine 14.2.0) 14.2.0 CentOS Stream 9 Kernel: 5.15 Compiler: gcc gcc (GCC) 11.5.0 20240719 (Red Hat 11.5.0-7) To view detailed results, visit: https://lab.dpdk.org/results/dashboard/patchsets/33740/ UNH-IOL DPDK Community Lab To manage your email subscriptions, visit: https://lab.dpdk.org/results/dashboard/preferences/subscriptions/