From mboxrd@z Thu Jan 1 00:00:00 1970 Return-Path: Received: from mails.dpdk.org (mails.dpdk.org [217.70.189.124]) by inbox.dpdk.org (Postfix) with ESMTP id 4A11046BF5 for ; Wed, 23 Jul 2025 23:43:08 +0200 (CEST) Received: from mails.dpdk.org (localhost [127.0.0.1]) by mails.dpdk.org (Postfix) with ESMTP id 4549740151; Wed, 23 Jul 2025 23:43:08 +0200 (CEST) Received: from mail-pl1-f227.google.com (mail-pl1-f227.google.com [209.85.214.227]) by mails.dpdk.org (Postfix) with ESMTP id ED95940151 for ; Wed, 23 Jul 2025 23:43:06 +0200 (CEST) Received: by mail-pl1-f227.google.com with SMTP id d9443c01a7336-236470b2dceso2503805ad.0 for ; Wed, 23 Jul 2025 14:43:06 -0700 (PDT) DKIM-Signature: v=1; a=rsa-sha256; c=relaxed/relaxed; d=iol.unh.edu; s=unh-iol; t=1753306986; x=1753911786; darn=dpdk.org; h=references:in-reply-to:cc:to:from:subject:message-id:date:from:to :cc:subject:date:message-id:reply-to; bh=GYSnjnVUvWkMRMcGbXDpvlTwc7TWC/Xkfqlf/Fm9aqM=; b=fa1FJzU2yk8UbBJp94iJNE0QKefBoqR8hUhmoFd6F0REupHVDr9hEe9eV8uTEjKMHI 958VqHO+2LodravaYAjxm2WO0+YgnBB70KGjbRJ63BOCcBVr3FCqM+MXZ/M4KRi6IBEI MGtjIo4/1P2+TgwOk9EsUS5yBKFrQz5x3K5yQ= X-Google-DKIM-Signature: v=1; a=rsa-sha256; c=relaxed/relaxed; d=1e100.net; s=20230601; t=1753306986; x=1753911786; h=references:in-reply-to:cc:to:from:subject:message-id:date :x-gm-message-state:from:to:cc:subject:date:message-id:reply-to; bh=GYSnjnVUvWkMRMcGbXDpvlTwc7TWC/Xkfqlf/Fm9aqM=; b=NBu1OPo2NHaOMka6FNu7Icx8thyFbtoikajI/bO9dx8k0aJr2X+0OkackQLGURReUn b6PrXhCcKky0Zaqr+SRXQVE8qeVLUmNMff466uKDxDJ9qL1X5z7o3DmEbTX0b8fVr9Fg QWPG/EBKG6Pno7XbBa+J1f3O/cddWBs0nkO0S9k8OtfR7DkBOdsVN1VOocN5fGjEglrS iCPL9dfQ+BIbYIRRAaeDPZBktszW0aQXu33emHaRvp46BAwiKXNS8QV+otp6GS6x37BX IJsaXi7pGwTO8bzcczn+OFhEDb1w/zZkuspFlo3oYlTWn8x2lcQ8iOUv9X1Uk4+sNrDy /NTA== X-Gm-Message-State: AOJu0YwJgaw0gNf/+qcD5ouTD49wtQOiLiQsSi0aRcyF1OLHKWOrEDHx pnuR0jQiFxoU+OEHdFd0efRiPEJ3qNf73tv+pqDZqDgOrb8f30vl/9/Zwgjt/t4ysYKRQzLlVa1 bs+za56xYQJniPkcUn3+g3xHf0aZ0ZVmN0Rw/i2QzBzvO X-Gm-Gg: ASbGnctuFCYbPsYK8VIwZrsYrqc+safD3HxJWeCMKxJO2Y+NRzDgnoK6394xvluqrP2 rz1QIS7Ik362gMzxEM2IdDwgSJXyt7D/LlwmTAN8tghUy8V+czqxU7NiE1JhrGYWtHIPHG2Omkt 7fBd7dliDe5T5z8qEMK49J60aKtLjymH6iscYvLvlSywzOKU99Gw8qpSDoLIfLNrAz6L5aL030t Cjg3CxjrXIL3a9m7OdRhZ5ncPQUEuxW8p6z4lK8N0eEY4m9UKkGLmX2vibIHyuYbAms0KgVGPd3 Yvx8WCdfMtaEfXssss0THJuzFcXmQ4CYQuIAe1f0/rGfMuW4jOxMoEyqrT3hyexvNrjGD6Rr X-Google-Smtp-Source: AGHT+IFZmMovLekxwFDlIBb+vlfo8FV5GUEyc62ex1uBtN5ZolRMT4ql/uJY1+SYkeWw2GwrDjHCI2f0i9WX X-Received: by 2002:a17:902:d547:b0:232:59b:58fe with SMTP id d9443c01a7336-23f98140487mr63482215ad.1.1753306986087; Wed, 23 Jul 2025 14:43:06 -0700 (PDT) Received: from postal.iol.unh.edu (postal.iol.unh.edu. [132.177.123.84]) by smtp-relay.gmail.com with ESMTPS id d9443c01a7336-23fa4890f32sm15435ad.103.2025.07.23.14.43.05 (version=TLS1_2 cipher=ECDHE-ECDSA-AES128-GCM-SHA256 bits=128/128); Wed, 23 Jul 2025 14:43:06 -0700 (PDT) X-Relaying-Domain: iol.unh.edu Date: Wed, 23 Jul 2025 14:43:06 -0700 (PDT) Message-ID: <6881576a.170a0220.13ae0f.013cSMTPIN_ADDED_MISSING@mx.google.com> Received: from [172.21.0.9] (unknown [172.18.0.240]) by postal.iol.unh.edu (Postfix) with ESMTP id 5B12F604D420; Wed, 23 Jul 2025 17:43:05 -0400 (EDT) Subject: |SUCCESS| pw155483 [PATCH] net/tap: fix BPF build failure in cross-c From: dpdklab@iol.unh.edu To: Test Report Cc: dpdk-test-reports@iol.unh.edu In-Reply-To: <20250723125702.3787183-1-ashok.k.kaladi@intel.com> References: <20250723125702.3787183-1-ashok.k.kaladi@intel.com> Content-Type: text/plain X-BeenThere: test-report@dpdk.org X-Mailman-Version: 2.1.29 Precedence: list List-Id: automatic DPDK test reports List-Unsubscribe: , List-Archive: List-Post: List-Help: List-Subscribe: , Errors-To: test-report-bounces@dpdk.org Test-Label: iol-compile-amd64-testing Test-Status: SUCCESS http://dpdk.org/patch/155483 _Testing PASS_ Submitter: Ashok Kaladi Date: Wednesday, July 23 2025 12:57:02 DPDK git baseline: Repo:dpdk Branch: master CommitID:899bc9e500ccc718c12b1df4b920dcf0cbeb6265 155483 --> testing pass Upstream job id: Generic-DPDK-Compile-Meson#411660 Test environment and result as below: +-------------------------------+-------------------------+--------------------+-------------------+----------------------+-------------------+------------------+ | Environment | dpdk_llvm_clang_compile | dpdk_meson_compile | dpdk_msvc_compile | dpdk_mingw64_compile | dpdk_compile_spdk | dpdk_compile_ovs | +===============================+=========================+====================+===================+======================+===================+==================+ | Windows Server 2022 | PASS | SKIPPED | PASS | PASS | SKIPPED | SKIPPED | +-------------------------------+-------------------------+--------------------+-------------------+----------------------+-------------------+------------------+ | Ubuntu 20.04 | SKIPPED | PASS | SKIPPED | SKIPPED | SKIPPED | SKIPPED | +-------------------------------+-------------------------+--------------------+-------------------+----------------------+-------------------+------------------+ | FreeBSD 14.2 | SKIPPED | PASS | SKIPPED | SKIPPED | SKIPPED | SKIPPED | +-------------------------------+-------------------------+--------------------+-------------------+----------------------+-------------------+------------------+ | CentOS Stream 10 | SKIPPED | PASS | SKIPPED | SKIPPED | SKIPPED | SKIPPED | +-------------------------------+-------------------------+--------------------+-------------------+----------------------+-------------------+------------------+ | Debian GNU/Linux 12 | SKIPPED | PASS | SKIPPED | SKIPPED | PASS | SKIPPED | +-------------------------------+-------------------------+--------------------+-------------------+----------------------+-------------------+------------------+ | Fedora Linux 40 | SKIPPED | PASS | SKIPPED | SKIPPED | PASS | SKIPPED | +-------------------------------+-------------------------+--------------------+-------------------+----------------------+-------------------+------------------+ | Fedora Linux 41 | SKIPPED | PASS | SKIPPED | SKIPPED | PASS | PASS | +-------------------------------+-------------------------+--------------------+-------------------+----------------------+-------------------+------------------+ | openSUSE Leap 15.6 | SKIPPED | PASS | SKIPPED | SKIPPED | SKIPPED | SKIPPED | +-------------------------------+-------------------------+--------------------+-------------------+----------------------+-------------------+------------------+ | Red Hat Enterprise Linux 8.10 | SKIPPED | PASS | SKIPPED | SKIPPED | SKIPPED | SKIPPED | +-------------------------------+-------------------------+--------------------+-------------------+----------------------+-------------------+------------------+ | Red Hat Enterprise Linux 9.5 | SKIPPED | PASS | SKIPPED | SKIPPED | SKIPPED | SKIPPED | +-------------------------------+-------------------------+--------------------+-------------------+----------------------+-------------------+------------------+ | Ubuntu 22.04 | SKIPPED | PASS | SKIPPED | SKIPPED | PASS | SKIPPED | +-------------------------------+-------------------------+--------------------+-------------------+----------------------+-------------------+------------------+ | Ubuntu 24.04 | SKIPPED | PASS | SKIPPED | SKIPPED | PASS | PASS | +-------------------------------+-------------------------+--------------------+-------------------+----------------------+-------------------+------------------+ | Alpine Linux 3.22.0 | SKIPPED | PASS | SKIPPED | SKIPPED | SKIPPED | SKIPPED | +-------------------------------+-------------------------+--------------------+-------------------+----------------------+-------------------+------------------+ | CentOS Stream 9 | SKIPPED | PASS | SKIPPED | SKIPPED | PASS | SKIPPED | +-------------------------------+-------------------------+--------------------+-------------------+----------------------+-------------------+------------------+ Windows Server 2022 Kernel: 10.0.20348.2031 Compiler: clang 15.0.7, gcc 14.1.0 (MinGW), and MSVC VS 19.39.33521 Ubuntu 20.04 Kernel: 4.19 Compiler: gcc gcc (Ubuntu 9.4.0-1ubuntu1~20.04.2) 9.4.0 FreeBSD 14.2 Kernel: 14.2-RELEASE Compiler: clang 18.1.6 CentOS Stream 10 Kernel: 5.15 Compiler: gcc gcc (GCC) 14.2.1 20250110 (Red Hat 14.2.1-8) Debian GNU/Linux 12 Kernel: 5.15 Compiler: gcc gcc (Debian 12.2.0-14+deb12u1) 12.2.0 Fedora Linux 40 Kernel: 5.15 Compiler: clang gcc (GCC) 14.2.1 20240912 (Red Hat 14.2.1-3) Fedora Linux 41 Kernel: 5.15 Compiler: clang gcc (GCC) 14.3.1 20250523 (Red Hat 14.3.1-1) openSUSE Leap 15.6 Kernel: 5.15 Compiler: gcc gcc (SUSE Linux) 7.5.0 Red Hat Enterprise Linux 8.10 Kernel: 5.15 Compiler: gcc gcc (GCC) 8.5.0 20210514 (Red Hat 8.5.0-22) Red Hat Enterprise Linux 9.5 Kernel: 5.15 Compiler: gcc gcc (GCC) 11.5.0 20240719 (Red Hat 11.5.0-2) Ubuntu 22.04 Kernel: 5.15 Compiler: gcc gcc (Ubuntu 11.4.0-1ubuntu1~22.04) 11.4.0 Ubuntu 24.04 Kernel: 5.15 Compiler: gcc gcc (Ubuntu 13.3.0-6ubuntu2~24.04) 13.3.0 Alpine Linux 3.22.0 Kernel: 5.15 Compiler: gcc gcc (Alpine 14.2.0) 14.2.0 CentOS Stream 9 Kernel: 5.15 Compiler: gcc gcc (GCC) 11.5.0 20240719 (Red Hat 11.5.0-7) To view detailed results, visit: https://lab.dpdk.org/results/dashboard/patchsets/33740/ UNH-IOL DPDK Community Lab To manage your email subscriptions, visit: https://lab.dpdk.org/results/dashboard/preferences/subscriptions/