From mboxrd@z Thu Jan 1 00:00:00 1970 Return-Path: Received: from mails.dpdk.org (mails.dpdk.org [217.70.189.124]) by inbox.dpdk.org (Postfix) with ESMTP id 65F6546BF5 for ; Wed, 23 Jul 2025 23:43:32 +0200 (CEST) Received: from mails.dpdk.org (localhost [127.0.0.1]) by mails.dpdk.org (Postfix) with ESMTP id 60AED40151; Wed, 23 Jul 2025 23:43:32 +0200 (CEST) Received: from mail-io1-f99.google.com (mail-io1-f99.google.com [209.85.166.99]) by mails.dpdk.org (Postfix) with ESMTP id 733B240151 for ; Wed, 23 Jul 2025 23:43:31 +0200 (CEST) Received: by mail-io1-f99.google.com with SMTP id ca18e2360f4ac-86efcef9194so14750939f.0 for ; Wed, 23 Jul 2025 14:43:31 -0700 (PDT) DKIM-Signature: v=1; a=rsa-sha256; c=relaxed/relaxed; d=iol.unh.edu; s=unh-iol; t=1753307011; x=1753911811; darn=dpdk.org; h=references:in-reply-to:cc:to:from:subject:message-id:date:from:to :cc:subject:date:message-id:reply-to; bh=0IShFdIvSskbOsBq1vXucP3QZ/IgC0M6m+FxeEtTWes=; b=FIQfUpcfRypBNME3fsULNSg1d19f3ukyfdzl2DfKyO3z3N9m4L+znZWDYX2MlTXXhl 9jrpECvPwR0TQknGpM/GdOKsk2+3OhKLFWVsA/xvGhsdKi7bo4MG5KI4n8BA2lKKKGut iO8plRM6RMJjPJvm79R3/DbsLsEmYMF8z9exg= X-Google-DKIM-Signature: v=1; a=rsa-sha256; c=relaxed/relaxed; d=1e100.net; s=20230601; t=1753307011; x=1753911811; h=references:in-reply-to:cc:to:from:subject:message-id:date :x-gm-message-state:from:to:cc:subject:date:message-id:reply-to; bh=0IShFdIvSskbOsBq1vXucP3QZ/IgC0M6m+FxeEtTWes=; b=NmzBzASxuOw4Bltk6JJhLYLAgv0Cn7FlG3GC1bwr3nh2gV3+Tb01oKXogReALF62E/ oh3n+8aHtpgsVUhpKGjPrRbtaLNYDx4TyJdLKQD6ukZIaIB3uyINnYUNXX0FieFqZ637 T7IbjadANBJqHnAmCvwSzNC5pX4HE8AO+hMSMWUndqmheBskvfeYdURRZs9tviI3F1ed 8SUOHzUtiAGM7wBu7jBThkgmPWNPTkR4gbbyFt9SAi6sRsjFYmwrP8/hmRZmw94eOWO4 3f9CGfoOwuUKrPwqxWsJ/5QYqONWW/x5ML4cRaAGC1dcwixoZYtCeOmSIceKUiIKx3R9 +lnA== X-Gm-Message-State: AOJu0Yx++GQy9U0WxFLL5IMle6qagTmUNP2lmfmYI0NAZSCAcxa+AuLn 4tKFPkJSAsfv9NoKgAUJlT+reftyRoTTP4+LWDymEdb0mgCY8GbH8zy0cDsVx2A6W2mBBU3q9VH sFwCaoBUV1SjepHEBK+RJP68mcvIx3i539iyYEFobqZSt X-Gm-Gg: ASbGncu2H8wdOYl9+wNsnktmGL48Ewstu8JM3iTIVl2BS/b83FV5SbGFEacg0vYk7mm qwOQiTGkcYuC0/Vltx2pGbwyAtNL6mKyr2vKb413H5PCEoMmyoZ047EIqnoRLmbkifSEUB0y4Dt X9bXhdn6fjhHSm5Gg3VtSZ+D9TbhUz7/NGpEz49qYiwrI4eiamzI3OwcPZ/GoOvhNFUu2Rxkxa5 dubUwv69Hg4PFjnP8CZA+Ccd8wT8nuMiNlgjTKm1fpQ3b92BBo7fopQpfAgHolWUAaxh2P67Q2L LHSoafJc0YcmkzrT9Osy8QlGBAFo1cuZxGJN9XYN8LachwbNEB7u7YZr99v6y9LGRgvDaV8e X-Google-Smtp-Source: AGHT+IHPzhcvrRT/6pQPJYx5lvxcFU4HgRGeN6TtfG0r4MgRdc3lEeUfLtk1F9xLQZH2vo5nqL6BNJZ998Xx X-Received: by 2002:a05:6602:14d2:b0:861:6f49:626 with SMTP id ca18e2360f4ac-87c64f937b3mr926995839f.6.1753307010741; Wed, 23 Jul 2025 14:43:30 -0700 (PDT) Received: from postal.iol.unh.edu (postal.iol.unh.edu. [132.177.123.84]) by smtp-relay.gmail.com with ESMTPS id 8926c6da1cb9f-508aebc4752sm2456173.39.2025.07.23.14.43.30 (version=TLS1_2 cipher=ECDHE-ECDSA-AES128-GCM-SHA256 bits=128/128); Wed, 23 Jul 2025 14:43:30 -0700 (PDT) X-Relaying-Domain: iol.unh.edu Date: Wed, 23 Jul 2025 14:43:30 -0700 (PDT) Message-ID: <68815782.050a0220.158ec.01deSMTPIN_ADDED_MISSING@mx.google.com> Received: from [172.21.0.13] (unknown [172.18.0.240]) by postal.iol.unh.edu (Postfix) with ESMTP id 4D326604D420; Wed, 23 Jul 2025 17:43:30 -0400 (EDT) Subject: |SUCCESS| pw155483 [PATCH] net/tap: fix BPF build failure in cross-c From: dpdklab@iol.unh.edu To: Test Report Cc: dpdk-test-reports@iol.unh.edu In-Reply-To: <20250723125702.3787183-1-ashok.k.kaladi@intel.com> References: <20250723125702.3787183-1-ashok.k.kaladi@intel.com> Content-Type: text/plain X-BeenThere: test-report@dpdk.org X-Mailman-Version: 2.1.29 Precedence: list List-Id: automatic DPDK test reports List-Unsubscribe: , List-Archive: List-Post: List-Help: List-Subscribe: , Errors-To: test-report-bounces@dpdk.org Test-Label: iol-compile-amd64-testing Test-Status: SUCCESS http://dpdk.org/patch/155483 _Testing PASS_ Submitter: Ashok Kaladi Date: Wednesday, July 23 2025 12:57:02 DPDK git baseline: Repo:dpdk Branch: master CommitID:899bc9e500ccc718c12b1df4b920dcf0cbeb6265 155483 --> testing pass Upstream job id: Generic-DPDK-Compile-Meson#411654 Test environment and result as below: +-------------------------------+-------------------------+--------------------+-------------------+----------------------+-------------------+------------------+ | Environment | dpdk_llvm_clang_compile | dpdk_meson_compile | dpdk_msvc_compile | dpdk_mingw64_compile | dpdk_compile_spdk | dpdk_compile_ovs | +===============================+=========================+====================+===================+======================+===================+==================+ | Windows Server 2022 | PASS | SKIPPED | PASS | PASS | SKIPPED | SKIPPED | +-------------------------------+-------------------------+--------------------+-------------------+----------------------+-------------------+------------------+ | Ubuntu 20.04 | SKIPPED | PASS | SKIPPED | SKIPPED | SKIPPED | SKIPPED | +-------------------------------+-------------------------+--------------------+-------------------+----------------------+-------------------+------------------+ | FreeBSD 14.2 | SKIPPED | PASS | SKIPPED | SKIPPED | SKIPPED | SKIPPED | +-------------------------------+-------------------------+--------------------+-------------------+----------------------+-------------------+------------------+ | CentOS Stream 10 | SKIPPED | PASS | SKIPPED | SKIPPED | SKIPPED | SKIPPED | +-------------------------------+-------------------------+--------------------+-------------------+----------------------+-------------------+------------------+ | Debian GNU/Linux 12 | SKIPPED | PASS | SKIPPED | SKIPPED | PASS | SKIPPED | +-------------------------------+-------------------------+--------------------+-------------------+----------------------+-------------------+------------------+ | Fedora Linux 40 | SKIPPED | PASS | SKIPPED | SKIPPED | PASS | SKIPPED | +-------------------------------+-------------------------+--------------------+-------------------+----------------------+-------------------+------------------+ | Fedora Linux 41 | SKIPPED | PASS | SKIPPED | SKIPPED | PASS | PASS | +-------------------------------+-------------------------+--------------------+-------------------+----------------------+-------------------+------------------+ | openSUSE Leap 15.6 | SKIPPED | PASS | SKIPPED | SKIPPED | SKIPPED | SKIPPED | +-------------------------------+-------------------------+--------------------+-------------------+----------------------+-------------------+------------------+ | Red Hat Enterprise Linux 8.10 | SKIPPED | PASS | SKIPPED | SKIPPED | SKIPPED | SKIPPED | +-------------------------------+-------------------------+--------------------+-------------------+----------------------+-------------------+------------------+ | Red Hat Enterprise Linux 9.5 | SKIPPED | PASS | SKIPPED | SKIPPED | SKIPPED | SKIPPED | +-------------------------------+-------------------------+--------------------+-------------------+----------------------+-------------------+------------------+ | Ubuntu 22.04 | SKIPPED | PASS | SKIPPED | SKIPPED | PASS | SKIPPED | +-------------------------------+-------------------------+--------------------+-------------------+----------------------+-------------------+------------------+ | Ubuntu 24.04 | SKIPPED | PASS | SKIPPED | SKIPPED | PASS | PASS | +-------------------------------+-------------------------+--------------------+-------------------+----------------------+-------------------+------------------+ | Alpine Linux 3.22.0 | SKIPPED | PASS | SKIPPED | SKIPPED | SKIPPED | SKIPPED | +-------------------------------+-------------------------+--------------------+-------------------+----------------------+-------------------+------------------+ | CentOS Stream 9 | SKIPPED | PASS | SKIPPED | SKIPPED | PASS | SKIPPED | +-------------------------------+-------------------------+--------------------+-------------------+----------------------+-------------------+------------------+ Windows Server 2022 Kernel: 10.0.20348.2031 Compiler: clang 15.0.7, gcc 14.1.0 (MinGW), and MSVC VS 19.39.33521 Ubuntu 20.04 Kernel: 4.19 Compiler: gcc gcc (Ubuntu 9.4.0-1ubuntu1~20.04.2) 9.4.0 FreeBSD 14.2 Kernel: 14.2-RELEASE Compiler: clang 18.1.6 CentOS Stream 10 Kernel: 5.15 Compiler: gcc gcc (GCC) 14.2.1 20250110 (Red Hat 14.2.1-8) Debian GNU/Linux 12 Kernel: 5.15 Compiler: gcc gcc (Debian 12.2.0-14+deb12u1) 12.2.0 Fedora Linux 40 Kernel: 5.15 Compiler: clang gcc (GCC) 14.2.1 20240912 (Red Hat 14.2.1-3) Fedora Linux 41 Kernel: 5.15 Compiler: clang gcc (GCC) 14.3.1 20250523 (Red Hat 14.3.1-1) openSUSE Leap 15.6 Kernel: 5.15 Compiler: gcc gcc (SUSE Linux) 7.5.0 Red Hat Enterprise Linux 8.10 Kernel: 5.15 Compiler: gcc gcc (GCC) 8.5.0 20210514 (Red Hat 8.5.0-22) Red Hat Enterprise Linux 9.5 Kernel: 5.15 Compiler: gcc gcc (GCC) 11.5.0 20240719 (Red Hat 11.5.0-2) Ubuntu 22.04 Kernel: 5.15 Compiler: gcc gcc (Ubuntu 11.4.0-1ubuntu1~22.04) 11.4.0 Ubuntu 24.04 Kernel: 5.15 Compiler: gcc gcc (Ubuntu 13.3.0-6ubuntu2~24.04) 13.3.0 Alpine Linux 3.22.0 Kernel: 5.15 Compiler: gcc gcc (Alpine 14.2.0) 14.2.0 CentOS Stream 9 Kernel: 5.15 Compiler: gcc gcc (GCC) 11.5.0 20240719 (Red Hat 11.5.0-7) To view detailed results, visit: https://lab.dpdk.org/results/dashboard/patchsets/33740/ UNH-IOL DPDK Community Lab To manage your email subscriptions, visit: https://lab.dpdk.org/results/dashboard/preferences/subscriptions/