From mboxrd@z Thu Jan 1 00:00:00 1970 Return-Path: Received: from mails.dpdk.org (mails.dpdk.org [217.70.189.124]) by inbox.dpdk.org (Postfix) with ESMTP id 9236C46BF5 for ; Wed, 23 Jul 2025 23:44:31 +0200 (CEST) Received: from mails.dpdk.org (localhost [127.0.0.1]) by mails.dpdk.org (Postfix) with ESMTP id 8CC4240151; Wed, 23 Jul 2025 23:44:31 +0200 (CEST) Received: from mail-pl1-f228.google.com (mail-pl1-f228.google.com [209.85.214.228]) by mails.dpdk.org (Postfix) with ESMTP id A523040151 for ; Wed, 23 Jul 2025 23:44:30 +0200 (CEST) Received: by mail-pl1-f228.google.com with SMTP id d9443c01a7336-2350fc2591dso4520035ad.1 for ; Wed, 23 Jul 2025 14:44:30 -0700 (PDT) DKIM-Signature: v=1; a=rsa-sha256; c=relaxed/relaxed; d=iol.unh.edu; s=unh-iol; t=1753307070; x=1753911870; darn=dpdk.org; h=references:in-reply-to:cc:to:from:subject:message-id:date:from:to :cc:subject:date:message-id:reply-to; bh=62MzmP3slkABxSDiz3GdtQHKN8KdBWlUl/rXxF/v6LI=; b=LZV3jhAYkLu0e1f7gDJiH/0SpBasngS+X3h/fSsenSJt5r8ApISZ+wB4f4AWl+nMJ4 0m8t6c3YQqBm5j7NPSdEnNMLBSzG/bP25MnFSni9asklxycbadAW13KHWucyKmhv1buk 5/8pEDNCfNl4qxGlWYN1+trc0XfI427/9Gf1I= X-Google-DKIM-Signature: v=1; a=rsa-sha256; c=relaxed/relaxed; d=1e100.net; s=20230601; t=1753307070; x=1753911870; h=references:in-reply-to:cc:to:from:subject:message-id:date :x-gm-message-state:from:to:cc:subject:date:message-id:reply-to; bh=62MzmP3slkABxSDiz3GdtQHKN8KdBWlUl/rXxF/v6LI=; b=HW7S74k8NAl9JcJfOnqHFAV3UZb7YwsgaBVoch69fLevCTeCiEO6abc7m67XKY/XfN DR9lg/mFqYYBVs8LozAwbyKzbt/tj9Kh6VrelY7DRLzBU2UbMdCXlJy1+O34/AwGPZY8 Eg4+JqIwTUH5X6FrekQanfTVF6ha2jvC9/vtY083SSuyl3MSD5QVvFjg38j8vvRTe75S r8+sYCIKip2GwNDsqB+EHkont0JTKGkH3Xw8S+oJqQzNMz6f3OojbF9nMe9h1WlIxYM2 GAajzcGsvs5grB5YpdAOdahfZOhNXnhmPiwE/YY5AVsQsrg1WllX3seGD5py2uf0GIEm O+8w== X-Gm-Message-State: AOJu0Yy5/1RlLnSyOd1IdH33dzOGa5fajBCZzcsAXvHKmVebc/6tNeQJ xFra7woXHAhElOflbUbP4w6YYFX0ClWMptadog8bakeQ4N/4k16lN+KX2t4x9VxIy6HbRDL+6EV 4bBUbeGp7fDjTYoiPEljjlug8PPdHCZyDx4oxaFop7pN5M+d3MCBek/gWTtRA X-Gm-Gg: ASbGncuZCOg744DVO7FGetHTEt7OcLjycQbQ7oRuuR4GxAFH0CAONHMWW/iy48ffhzd /n7x6ER1SIipwKEhsGtwB2kAtZFoACmxfcXPmusvW2cLVGIEinzOM9CUMeSt7VFC/yLpSgWk3Pe DroD/xUuqXWd0vXYTPeJ/Teom7L1FSmq97cF6Vof0JbK2w6Yer1728JbtZZ2oSVAyrvD3txYDG3 KT+gCBEkCI/ePOqJJenr5w1xEag1fVnX5s9+AEoYRWsbi3M5q01+2C9O8a5ihoH2dTYPZIqLg0T tM9b5pX7UCzya1qwwH7cahmuo9sQW8oNmoYBa75fy76fUcjWYw== X-Google-Smtp-Source: AGHT+IHMxne396+d7JX2Dnk17YmR2POlxZFeJPz+FO+z9VEuySwavlhpMKQ4CEXUUZNbCGMokZHcgL78OX57 X-Received: by 2002:a17:903:2384:b0:236:71a5:4417 with SMTP id d9443c01a7336-23f8abef75cmr133574615ad.5.1753307069801; Wed, 23 Jul 2025 14:44:29 -0700 (PDT) Received: from postal.iol.unh.edu (postal.iol.unh.edu. [2606:4100:3880:1234::84]) by smtp-relay.gmail.com with ESMTPS id d9443c01a7336-23fa4791f60sm25835ad.48.2025.07.23.14.44.29 (version=TLS1_2 cipher=ECDHE-ECDSA-AES128-GCM-SHA256 bits=128/128); Wed, 23 Jul 2025 14:44:29 -0700 (PDT) X-Relaying-Domain: iol.unh.edu Date: Wed, 23 Jul 2025 14:44:29 -0700 (PDT) Message-ID: <688157bd.170a0220.34e86e.0225SMTPIN_ADDED_MISSING@mx.google.com> Received: from [172.21.0.6] (unknown [172.18.0.240]) by postal.iol.unh.edu (Postfix) with ESMTP id B82E7604D420; Wed, 23 Jul 2025 17:44:28 -0400 (EDT) Subject: |SUCCESS| pw155483 [PATCH] net/tap: fix BPF build failure in cross-c From: dpdklab@iol.unh.edu To: Test Report Cc: dpdk-test-reports@iol.unh.edu In-Reply-To: <20250723125702.3787183-1-ashok.k.kaladi@intel.com> References: <20250723125702.3787183-1-ashok.k.kaladi@intel.com> Content-Type: text/plain X-BeenThere: test-report@dpdk.org X-Mailman-Version: 2.1.29 Precedence: list List-Id: automatic DPDK test reports List-Unsubscribe: , List-Archive: List-Post: List-Help: List-Subscribe: , Errors-To: test-report-bounces@dpdk.org Test-Label: iol-compile-amd64-testing Test-Status: SUCCESS http://dpdk.org/patch/155483 _Testing PASS_ Submitter: Ashok Kaladi Date: Wednesday, July 23 2025 12:57:02 DPDK git baseline: Repo:dpdk Branch: master CommitID:899bc9e500ccc718c12b1df4b920dcf0cbeb6265 155483 --> testing pass Upstream job id: Generic-DPDK-Compile-Meson#411661 Test environment and result as below: +-------------------------------+-------------------------+--------------------+-------------------+----------------------+-------------------+------------------+ | Environment | dpdk_llvm_clang_compile | dpdk_meson_compile | dpdk_msvc_compile | dpdk_mingw64_compile | dpdk_compile_spdk | dpdk_compile_ovs | +===============================+=========================+====================+===================+======================+===================+==================+ | Windows Server 2022 | PASS | SKIPPED | PASS | PASS | SKIPPED | SKIPPED | +-------------------------------+-------------------------+--------------------+-------------------+----------------------+-------------------+------------------+ | Ubuntu 20.04 | SKIPPED | PASS | SKIPPED | SKIPPED | SKIPPED | SKIPPED | +-------------------------------+-------------------------+--------------------+-------------------+----------------------+-------------------+------------------+ | FreeBSD 14.2 | SKIPPED | PASS | SKIPPED | SKIPPED | SKIPPED | SKIPPED | +-------------------------------+-------------------------+--------------------+-------------------+----------------------+-------------------+------------------+ | CentOS Stream 10 | SKIPPED | PASS | SKIPPED | SKIPPED | SKIPPED | SKIPPED | +-------------------------------+-------------------------+--------------------+-------------------+----------------------+-------------------+------------------+ | Debian GNU/Linux 12 | SKIPPED | PASS | SKIPPED | SKIPPED | PASS | SKIPPED | +-------------------------------+-------------------------+--------------------+-------------------+----------------------+-------------------+------------------+ | Fedora Linux 40 | SKIPPED | PASS | SKIPPED | SKIPPED | PASS | SKIPPED | +-------------------------------+-------------------------+--------------------+-------------------+----------------------+-------------------+------------------+ | Fedora Linux 41 | SKIPPED | PASS | SKIPPED | SKIPPED | PASS | PASS | +-------------------------------+-------------------------+--------------------+-------------------+----------------------+-------------------+------------------+ | openSUSE Leap 15.6 | SKIPPED | PASS | SKIPPED | SKIPPED | SKIPPED | SKIPPED | +-------------------------------+-------------------------+--------------------+-------------------+----------------------+-------------------+------------------+ | Red Hat Enterprise Linux 8.10 | SKIPPED | PASS | SKIPPED | SKIPPED | SKIPPED | SKIPPED | +-------------------------------+-------------------------+--------------------+-------------------+----------------------+-------------------+------------------+ | Red Hat Enterprise Linux 9.5 | SKIPPED | PASS | SKIPPED | SKIPPED | SKIPPED | SKIPPED | +-------------------------------+-------------------------+--------------------+-------------------+----------------------+-------------------+------------------+ | Ubuntu 22.04 | SKIPPED | PASS | SKIPPED | SKIPPED | PASS | SKIPPED | +-------------------------------+-------------------------+--------------------+-------------------+----------------------+-------------------+------------------+ | Ubuntu 24.04 | SKIPPED | PASS | SKIPPED | SKIPPED | PASS | PASS | +-------------------------------+-------------------------+--------------------+-------------------+----------------------+-------------------+------------------+ | Alpine Linux 3.22.0 | SKIPPED | PASS | SKIPPED | SKIPPED | SKIPPED | SKIPPED | +-------------------------------+-------------------------+--------------------+-------------------+----------------------+-------------------+------------------+ | CentOS Stream 9 | SKIPPED | PASS | SKIPPED | SKIPPED | PASS | SKIPPED | +-------------------------------+-------------------------+--------------------+-------------------+----------------------+-------------------+------------------+ Windows Server 2022 Kernel: 10.0.20348.2031 Compiler: clang 15.0.7, gcc 14.1.0 (MinGW), and MSVC VS 19.39.33521 Ubuntu 20.04 Kernel: 4.19 Compiler: gcc gcc (Ubuntu 9.4.0-1ubuntu1~20.04.2) 9.4.0 FreeBSD 14.2 Kernel: 14.2-RELEASE Compiler: clang 18.1.6 CentOS Stream 10 Kernel: 5.15 Compiler: gcc gcc (GCC) 14.2.1 20250110 (Red Hat 14.2.1-8) Debian GNU/Linux 12 Kernel: 5.15 Compiler: gcc gcc (Debian 12.2.0-14+deb12u1) 12.2.0 Fedora Linux 40 Kernel: 5.15 Compiler: clang gcc (GCC) 14.2.1 20240912 (Red Hat 14.2.1-3) Fedora Linux 41 Kernel: 5.15 Compiler: clang gcc (GCC) 14.3.1 20250523 (Red Hat 14.3.1-1) openSUSE Leap 15.6 Kernel: 5.15 Compiler: gcc gcc (SUSE Linux) 7.5.0 Red Hat Enterprise Linux 8.10 Kernel: 5.15 Compiler: gcc gcc (GCC) 8.5.0 20210514 (Red Hat 8.5.0-22) Red Hat Enterprise Linux 9.5 Kernel: 5.15 Compiler: gcc gcc (GCC) 11.5.0 20240719 (Red Hat 11.5.0-2) Ubuntu 22.04 Kernel: 5.15 Compiler: gcc gcc (Ubuntu 11.4.0-1ubuntu1~22.04) 11.4.0 Ubuntu 24.04 Kernel: 5.15 Compiler: gcc gcc (Ubuntu 13.3.0-6ubuntu2~24.04) 13.3.0 Alpine Linux 3.22.0 Kernel: 5.15 Compiler: gcc gcc (Alpine 14.2.0) 14.2.0 CentOS Stream 9 Kernel: 5.15 Compiler: gcc gcc (GCC) 11.5.0 20240719 (Red Hat 11.5.0-7) To view detailed results, visit: https://lab.dpdk.org/results/dashboard/patchsets/33740/ UNH-IOL DPDK Community Lab To manage your email subscriptions, visit: https://lab.dpdk.org/results/dashboard/preferences/subscriptions/