From mboxrd@z Thu Jan 1 00:00:00 1970 Return-Path: Received: from mails.dpdk.org (mails.dpdk.org [217.70.189.124]) by inbox.dpdk.org (Postfix) with ESMTP id AE00746BF5 for ; Wed, 23 Jul 2025 23:45:30 +0200 (CEST) Received: from mails.dpdk.org (localhost [127.0.0.1]) by mails.dpdk.org (Postfix) with ESMTP id A7C8840151; Wed, 23 Jul 2025 23:45:30 +0200 (CEST) Received: from mail-qv1-f97.google.com (mail-qv1-f97.google.com [209.85.219.97]) by mails.dpdk.org (Postfix) with ESMTP id 2884F40151 for ; Wed, 23 Jul 2025 23:45:30 +0200 (CEST) Received: by mail-qv1-f97.google.com with SMTP id 6a1803df08f44-706f498a9e7so3731506d6.0 for ; Wed, 23 Jul 2025 14:45:30 -0700 (PDT) DKIM-Signature: v=1; a=rsa-sha256; c=relaxed/relaxed; d=iol.unh.edu; s=unh-iol; t=1753307129; x=1753911929; darn=dpdk.org; h=references:in-reply-to:cc:to:from:subject:message-id:date:from:to :cc:subject:date:message-id:reply-to; bh=prDTMCFHNMCexqBp6tWF/VKNCfaUfxDNNS3rcMCcuPM=; b=ZMn6keVEd75V/L6JHsOMcdj2T7nbjSmS7zmfcyXwYp5f4qhStAKElF/R0udwjDEEBe WBEv3tKPvCxKi9ZMZtrqdgqn96ZwjMcUphcVtUKI5NVldBTj+pPwB7M8nBlIIlj6QANG cp5ulwqVQrHtmN1vfoM7qvMf8CBJmzkmnBXik= X-Google-DKIM-Signature: v=1; a=rsa-sha256; c=relaxed/relaxed; d=1e100.net; s=20230601; t=1753307129; x=1753911929; h=references:in-reply-to:cc:to:from:subject:message-id:date :x-gm-message-state:from:to:cc:subject:date:message-id:reply-to; bh=prDTMCFHNMCexqBp6tWF/VKNCfaUfxDNNS3rcMCcuPM=; b=vFIDElt9Kv3qoeXnPQPnynXrv4DI5CtJdCVX6AWvhzOYCGuEAK7PaOrcgCRqPikmot MydJjqDfW+tO6HI1h3b6ZYhuHLtUyArUJuZe85GZrHhImyb/NpjUtJaemCWzmWjWO3m/ ENv2x0t+ZpGDw2iANZe/HxUmchTrARh+ZTBCpr+EIfnWRg4OKRLPt4cCvIyr1RYgLQZi ad3MNGCVtaz2oFoaUc8c4tr1R38oe6l2ZZWW7PgBrmuNzcHLRBIi7G8zktDf4Brq6PWE BPpCH1qzorg0VEIKYtGyQ/1DMTVw2NmBVqYvZKU59ST/q39eNtjc6lye53CkopO+Hx2B 2JkQ== X-Gm-Message-State: AOJu0YzXqoOoy+reZy1os1s2DdJT/u1XXDIaAYra26r1eenhnEFPRSty cLNiesa6El97plRA7qaaGykMEQEPlMNaSsECwrUeRMn00z9JgYAEnFCJ9Cwgklez3RmuwOy+bvv +NVYUxDvxStmLRElJsMvRezlgRNqQVIc+vwGhJalmBw9i X-Gm-Gg: ASbGncvDqKHnl1euqMBA//bLGlNYhYGw5CrKJK/02pa7h/IhT9mc1AGhSplAjaSgxN+ aD/8ThjRMqQYeTqEw0zXx9abBXjUQjKIgLUNkvn2C4JOIDebBfsuh9d2cXQFNfSZTG5q+iW0cfE Un7ALDuKpHjVo0EFZHm1VAEl41M3w4oDYde42orO8f01xjMmqahdbtxtb1Px96WUcDIQFfDS5w9 w+VmXK68I2wgRN3o/lBI3M4lE96UtfxBkrT3/H4ixqfOiOwHHhdhcBMByNUZ5NiRqMI59M7sYyD BlOUbjpt9XK0yYr2jzv1HuQWBVejQykBm02tYBBqxvOXaGH896+3RQHNtG4arMUyF9MLCs5t X-Google-Smtp-Source: AGHT+IEf229a8ZGZ8xYDj8c4SE8cb0ud3daqk++5LrXPXOzrhSxKq2rHbkbVxIo1zBVSCBsC8jGCvoHhieyZ X-Received: by 2002:a05:6214:27e7:b0:707:b7f:69ca with SMTP id 6a1803df08f44-7070b7f7eabmr29469016d6.51.1753307129389; Wed, 23 Jul 2025 14:45:29 -0700 (PDT) Received: from postal.iol.unh.edu (postal.iol.unh.edu. [132.177.123.84]) by smtp-relay.gmail.com with ESMTPS id 6a1803df08f44-707102fd38asm115476d6.52.2025.07.23.14.45.29 (version=TLS1_2 cipher=ECDHE-ECDSA-AES128-GCM-SHA256 bits=128/128); Wed, 23 Jul 2025 14:45:29 -0700 (PDT) X-Relaying-Domain: iol.unh.edu Date: Wed, 23 Jul 2025 14:45:29 -0700 (PDT) Message-ID: <688157f9.050a0220.32f91e.0924SMTPIN_ADDED_MISSING@mx.google.com> Received: from [172.21.0.3] (unknown [172.18.0.240]) by postal.iol.unh.edu (Postfix) with ESMTP id 15075604D420; Wed, 23 Jul 2025 17:45:29 -0400 (EDT) Subject: |SUCCESS| pw155461-155481 [PATCH] [v5,22/22] ci: extend coverage wit From: dpdklab@iol.unh.edu To: Test Report Cc: dpdk-test-reports@iol.unh.edu In-Reply-To: <20250723133157.159825-23-david.marchand@redhat.com> References: <20250723133157.159825-23-david.marchand@redhat.com> Content-Type: text/plain X-BeenThere: test-report@dpdk.org X-Mailman-Version: 2.1.29 Precedence: list List-Id: automatic DPDK test reports List-Unsubscribe: , List-Archive: List-Post: List-Help: List-Subscribe: , Errors-To: test-report-bounces@dpdk.org Test-Label: iol-compile-amd64-testing Test-Status: SUCCESS http://dpdk.org/patch/155481 _Testing PASS_ Submitter: David Marchand Date: Wednesday, July 23 2025 13:31:55 DPDK git baseline: Repo:dpdk Branch: master CommitID:e3183a6edafdc41bfd71de1517f9e9ec85eb1276 155461-155481 --> testing pass Upstream job id: Generic-DPDK-Compile-Meson#411645 Test environment and result as below: +-------------------------------+--------------------+-------------------------+-------------------+----------------------+-------------------+------------------+ | Environment | dpdk_meson_compile | dpdk_llvm_clang_compile | dpdk_msvc_compile | dpdk_mingw64_compile | dpdk_compile_spdk | dpdk_compile_ovs | +===============================+====================+=========================+===================+======================+===================+==================+ | Ubuntu 20.04 | PASS | SKIPPED | SKIPPED | SKIPPED | SKIPPED | SKIPPED | +-------------------------------+--------------------+-------------------------+-------------------+----------------------+-------------------+------------------+ | FreeBSD 14.2 | PASS | SKIPPED | SKIPPED | SKIPPED | SKIPPED | SKIPPED | +-------------------------------+--------------------+-------------------------+-------------------+----------------------+-------------------+------------------+ | CentOS Stream 9 | PASS | SKIPPED | SKIPPED | SKIPPED | PASS | SKIPPED | +-------------------------------+--------------------+-------------------------+-------------------+----------------------+-------------------+------------------+ | CentOS Stream 10 | PASS | SKIPPED | SKIPPED | SKIPPED | SKIPPED | SKIPPED | +-------------------------------+--------------------+-------------------------+-------------------+----------------------+-------------------+------------------+ | Debian GNU/Linux 12 | PASS | SKIPPED | SKIPPED | SKIPPED | PASS | SKIPPED | +-------------------------------+--------------------+-------------------------+-------------------+----------------------+-------------------+------------------+ | Fedora Linux 40 | PASS | SKIPPED | SKIPPED | SKIPPED | PASS | SKIPPED | +-------------------------------+--------------------+-------------------------+-------------------+----------------------+-------------------+------------------+ | Fedora Linux 41 | PASS | SKIPPED | SKIPPED | SKIPPED | PASS | PASS | +-------------------------------+--------------------+-------------------------+-------------------+----------------------+-------------------+------------------+ | openSUSE Leap 15.6 | PASS | SKIPPED | SKIPPED | SKIPPED | SKIPPED | SKIPPED | +-------------------------------+--------------------+-------------------------+-------------------+----------------------+-------------------+------------------+ | Red Hat Enterprise Linux 8.10 | PASS | SKIPPED | SKIPPED | SKIPPED | SKIPPED | SKIPPED | +-------------------------------+--------------------+-------------------------+-------------------+----------------------+-------------------+------------------+ | Red Hat Enterprise Linux 9.5 | PASS | SKIPPED | SKIPPED | SKIPPED | SKIPPED | SKIPPED | +-------------------------------+--------------------+-------------------------+-------------------+----------------------+-------------------+------------------+ | Ubuntu 22.04 | PASS | SKIPPED | SKIPPED | SKIPPED | PASS | SKIPPED | +-------------------------------+--------------------+-------------------------+-------------------+----------------------+-------------------+------------------+ | Ubuntu 24.04 | PASS | SKIPPED | SKIPPED | SKIPPED | PASS | PASS | +-------------------------------+--------------------+-------------------------+-------------------+----------------------+-------------------+------------------+ | Alpine Linux 3.22.0 | PASS | SKIPPED | SKIPPED | SKIPPED | SKIPPED | SKIPPED | +-------------------------------+--------------------+-------------------------+-------------------+----------------------+-------------------+------------------+ | Windows Server 2022 | SKIPPED | PASS | PASS | PASS | SKIPPED | SKIPPED | +-------------------------------+--------------------+-------------------------+-------------------+----------------------+-------------------+------------------+ Ubuntu 20.04 Kernel: 4.19 Compiler: gcc gcc (Ubuntu 9.4.0-1ubuntu1~20.04.2) 9.4.0 FreeBSD 14.2 Kernel: 14.2-RELEASE Compiler: clang 18.1.6 CentOS Stream 9 Kernel: 5.15 Compiler: gcc gcc (GCC) 11.5.0 20240719 (Red Hat 11.5.0-7) CentOS Stream 10 Kernel: 5.15 Compiler: gcc gcc (GCC) 14.2.1 20250110 (Red Hat 14.2.1-8) Debian GNU/Linux 12 Kernel: 5.15 Compiler: gcc gcc (Debian 12.2.0-14+deb12u1) 12.2.0 Fedora Linux 40 Kernel: 5.15 Compiler: clang gcc (GCC) 14.2.1 20240912 (Red Hat 14.2.1-3) Fedora Linux 41 Kernel: 5.15 Compiler: clang gcc (GCC) 14.3.1 20250523 (Red Hat 14.3.1-1) openSUSE Leap 15.6 Kernel: 5.15 Compiler: gcc gcc (SUSE Linux) 7.5.0 Red Hat Enterprise Linux 8.10 Kernel: 5.15 Compiler: gcc gcc (GCC) 8.5.0 20210514 (Red Hat 8.5.0-22) Red Hat Enterprise Linux 9.5 Kernel: 5.15 Compiler: gcc gcc (GCC) 11.5.0 20240719 (Red Hat 11.5.0-2) Ubuntu 22.04 Kernel: 5.15 Compiler: gcc gcc (Ubuntu 11.4.0-1ubuntu1~22.04) 11.4.0 Ubuntu 24.04 Kernel: 5.15 Compiler: gcc gcc (Ubuntu 13.3.0-6ubuntu2~24.04) 13.3.0 Alpine Linux 3.22.0 Kernel: 5.15 Compiler: gcc gcc (Alpine 14.2.0) 14.2.0 Windows Server 2022 Kernel: 10.0.20348.2031 Compiler: clang 15.0.7, gcc 14.1.0 (MinGW), and MSVC VS 19.39.33521 To view detailed results, visit: https://lab.dpdk.org/results/dashboard/patchsets/33738/ UNH-IOL DPDK Community Lab To manage your email subscriptions, visit: https://lab.dpdk.org/results/dashboard/preferences/subscriptions/