From mboxrd@z Thu Jan 1 00:00:00 1970 Return-Path: Received: from mails.dpdk.org (mails.dpdk.org [217.70.189.124]) by inbox.dpdk.org (Postfix) with ESMTP id C0F3246BF5 for ; Wed, 23 Jul 2025 23:45:38 +0200 (CEST) Received: from mails.dpdk.org (localhost [127.0.0.1]) by mails.dpdk.org (Postfix) with ESMTP id BCF8C40151; Wed, 23 Jul 2025 23:45:38 +0200 (CEST) Received: from mail-oa1-f100.google.com (mail-oa1-f100.google.com [209.85.160.100]) by mails.dpdk.org (Postfix) with ESMTP id 848A640151 for ; Wed, 23 Jul 2025 23:45:37 +0200 (CEST) Received: by mail-oa1-f100.google.com with SMTP id 586e51a60fabf-30174a93186so314695fac.3 for ; Wed, 23 Jul 2025 14:45:37 -0700 (PDT) DKIM-Signature: v=1; a=rsa-sha256; c=relaxed/relaxed; d=iol.unh.edu; s=unh-iol; t=1753307137; x=1753911937; darn=dpdk.org; h=references:in-reply-to:cc:to:from:subject:message-id:date:from:to :cc:subject:date:message-id:reply-to; bh=Dst6SF5wNUzpg9m8qQFsLqZtH39bK0LloWOQ3QrgGFo=; b=WE0yddJd0caQC9VJTN3FrcFVt0S9x4tJnacZU9sjAY1kq8D5yMAhuXMhixAHxkf8Nu 6Vk1Smw53Lv7tLCqfroSWTURwBd0NTel07Eb1/xkWIBjytPgpcKf1cGyUUmpU0vseJQg ok5cugzvFR7cZcOBgkwzMyiNi5seYGOJbZV7k= X-Google-DKIM-Signature: v=1; a=rsa-sha256; c=relaxed/relaxed; d=1e100.net; s=20230601; t=1753307137; x=1753911937; h=references:in-reply-to:cc:to:from:subject:message-id:date :x-gm-message-state:from:to:cc:subject:date:message-id:reply-to; bh=Dst6SF5wNUzpg9m8qQFsLqZtH39bK0LloWOQ3QrgGFo=; b=dQgkg+SlOq0KWfu4nn7KZcG9adXImivhd1OuFGGHuCArdG5pzRQkPEJxU8yRX0GUkV WwWe6tK+lHQctCBXPeXHBmjpcUytcvDiClSMZ6AiFzPuH7MtnoQMGIH2yLMBGKHeBI7n TnfjBndug+zHfljIn2WuYTOMUdFi5M9PwDwe9GIFY3fYtxw8/p0ogOxtRXoLCdmzTCMR aiBIBJxPSHtLDzZjXiyAD4Fhf2tODmtnR1DIUeDK8+gugHhql79zIAB6pvJSkGfX8D1M QWrHL0ejr0nUBipWBX+TEZSY/d9pzMxik6yJDCKRljpIaTRGWxOeSj/imW2JfkdEMqSk hfmA== X-Gm-Message-State: AOJu0Yx+K4BnwoQgboePsGT+HgCTILEcDSHk3y8i0fsthdBKfpXIXmh6 gKXqhHpcc+8jfLAEGNTg9CuuN+IBDyAn1KU7QFB1TibeEIqh5LXJIKw+vDiG7thk2V8+jr/5T8H D9vXUxDXeIxZyHUrtTZuy/LS9g3Mged8X04OiD/Qog1d+ X-Gm-Gg: ASbGncuB3Sib2NEYb6uYt+3SNyvgkjhfhxKNESLg3+jdAfw93ofznwipHPKsOWSyPCQ Ykaq6aPJFKKQBzCudgIcsclV22kxddx4t6W/9s3Eo+xsVMzEA0BgJUvFr+1+bO8NeHHEAGM5akZ tvjMxnbreSQJynh+RpYc+cr+PLAxhtVFwZE4vNwxzsIpFtbfEIvdvxcBpuZRTf6F4VRjQPWyp0N HHbQkKk8ZDmCCTZHeRdq1yjcJzEy6wuT2tD+4rJv7VnAeDTv14vYNlnjIvYsWrHRlkCdrWsodq8 r4YxlIw4GxowAz+RlHb7lJQnXwC0XvEbOv6GQEEFvQTtPfWWferP3iMaMlb3wWqXcJMkiztt X-Google-Smtp-Source: AGHT+IGHo80oU60/UWwUhFFPjpv69u2zl5sE+sthsA2EdG4M2BRRFUP2PDK9IO+pMMgsgCUEmM1Ag/eUVmFw X-Received: by 2002:a05:6871:28d:b0:301:5fc8:d0b1 with SMTP id 586e51a60fabf-306c6f2f9abmr3434981fac.6.1753307136838; Wed, 23 Jul 2025 14:45:36 -0700 (PDT) Received: from postal.iol.unh.edu (postal.iol.unh.edu. [132.177.123.84]) by smtp-relay.gmail.com with ESMTPS id 586e51a60fabf-306e1d29e29sm22825fac.34.2025.07.23.14.45.36 (version=TLS1_2 cipher=ECDHE-ECDSA-AES128-GCM-SHA256 bits=128/128); Wed, 23 Jul 2025 14:45:36 -0700 (PDT) X-Relaying-Domain: iol.unh.edu Date: Wed, 23 Jul 2025 14:45:36 -0700 (PDT) Message-ID: <68815800.050a0220.75321.1234SMTPIN_ADDED_MISSING@mx.google.com> Received: from [172.21.0.6] (unknown [172.18.0.240]) by postal.iol.unh.edu (Postfix) with ESMTP id 5ADC7604D420; Wed, 23 Jul 2025 17:45:36 -0400 (EDT) Subject: |SUCCESS| pw155483 [PATCH] net/tap: fix BPF build failure in cross-c From: dpdklab@iol.unh.edu To: Test Report Cc: dpdk-test-reports@iol.unh.edu In-Reply-To: <20250723125702.3787183-1-ashok.k.kaladi@intel.com> References: <20250723125702.3787183-1-ashok.k.kaladi@intel.com> Content-Type: text/plain X-BeenThere: test-report@dpdk.org X-Mailman-Version: 2.1.29 Precedence: list List-Id: automatic DPDK test reports List-Unsubscribe: , List-Archive: List-Post: List-Help: List-Subscribe: , Errors-To: test-report-bounces@dpdk.org Test-Label: iol-compile-amd64-testing Test-Status: SUCCESS http://dpdk.org/patch/155483 _Testing PASS_ Submitter: Ashok Kaladi Date: Wednesday, July 23 2025 12:57:02 DPDK git baseline: Repo:dpdk Branch: master CommitID:899bc9e500ccc718c12b1df4b920dcf0cbeb6265 155483 --> testing pass Upstream job id: Generic-DPDK-Compile-Meson#411649 Test environment and result as below: +-------------------------------+-------------------------+--------------------+-------------------+----------------------+-------------------+------------------+ | Environment | dpdk_llvm_clang_compile | dpdk_meson_compile | dpdk_msvc_compile | dpdk_mingw64_compile | dpdk_compile_spdk | dpdk_compile_ovs | +===============================+=========================+====================+===================+======================+===================+==================+ | Windows Server 2022 | PASS | SKIPPED | PASS | PASS | SKIPPED | SKIPPED | +-------------------------------+-------------------------+--------------------+-------------------+----------------------+-------------------+------------------+ | Ubuntu 20.04 | SKIPPED | PASS | SKIPPED | SKIPPED | SKIPPED | SKIPPED | +-------------------------------+-------------------------+--------------------+-------------------+----------------------+-------------------+------------------+ | FreeBSD 14.2 | SKIPPED | PASS | SKIPPED | SKIPPED | SKIPPED | SKIPPED | +-------------------------------+-------------------------+--------------------+-------------------+----------------------+-------------------+------------------+ | CentOS Stream 10 | SKIPPED | PASS | SKIPPED | SKIPPED | SKIPPED | SKIPPED | +-------------------------------+-------------------------+--------------------+-------------------+----------------------+-------------------+------------------+ | Debian GNU/Linux 12 | SKIPPED | PASS | SKIPPED | SKIPPED | PASS | SKIPPED | +-------------------------------+-------------------------+--------------------+-------------------+----------------------+-------------------+------------------+ | Fedora Linux 40 | SKIPPED | PASS | SKIPPED | SKIPPED | PASS | SKIPPED | +-------------------------------+-------------------------+--------------------+-------------------+----------------------+-------------------+------------------+ | Fedora Linux 41 | SKIPPED | PASS | SKIPPED | SKIPPED | PASS | PASS | +-------------------------------+-------------------------+--------------------+-------------------+----------------------+-------------------+------------------+ | openSUSE Leap 15.6 | SKIPPED | PASS | SKIPPED | SKIPPED | SKIPPED | SKIPPED | +-------------------------------+-------------------------+--------------------+-------------------+----------------------+-------------------+------------------+ | Red Hat Enterprise Linux 8.10 | SKIPPED | PASS | SKIPPED | SKIPPED | SKIPPED | SKIPPED | +-------------------------------+-------------------------+--------------------+-------------------+----------------------+-------------------+------------------+ | Red Hat Enterprise Linux 9.5 | SKIPPED | PASS | SKIPPED | SKIPPED | SKIPPED | SKIPPED | +-------------------------------+-------------------------+--------------------+-------------------+----------------------+-------------------+------------------+ | Ubuntu 22.04 | SKIPPED | PASS | SKIPPED | SKIPPED | PASS | SKIPPED | +-------------------------------+-------------------------+--------------------+-------------------+----------------------+-------------------+------------------+ | Ubuntu 24.04 | SKIPPED | PASS | SKIPPED | SKIPPED | PASS | PASS | +-------------------------------+-------------------------+--------------------+-------------------+----------------------+-------------------+------------------+ | Alpine Linux 3.22.0 | SKIPPED | PASS | SKIPPED | SKIPPED | SKIPPED | SKIPPED | +-------------------------------+-------------------------+--------------------+-------------------+----------------------+-------------------+------------------+ | CentOS Stream 9 | SKIPPED | PASS | SKIPPED | SKIPPED | PASS | SKIPPED | +-------------------------------+-------------------------+--------------------+-------------------+----------------------+-------------------+------------------+ Windows Server 2022 Kernel: 10.0.20348.2031 Compiler: clang 15.0.7, gcc 14.1.0 (MinGW), and MSVC VS 19.39.33521 Ubuntu 20.04 Kernel: 4.19 Compiler: gcc gcc (Ubuntu 9.4.0-1ubuntu1~20.04.2) 9.4.0 FreeBSD 14.2 Kernel: 14.2-RELEASE Compiler: clang 18.1.6 CentOS Stream 10 Kernel: 5.15 Compiler: gcc gcc (GCC) 14.2.1 20250110 (Red Hat 14.2.1-8) Debian GNU/Linux 12 Kernel: 5.15 Compiler: gcc gcc (Debian 12.2.0-14+deb12u1) 12.2.0 Fedora Linux 40 Kernel: 5.15 Compiler: clang gcc (GCC) 14.2.1 20240912 (Red Hat 14.2.1-3) Fedora Linux 41 Kernel: 5.15 Compiler: clang gcc (GCC) 14.3.1 20250523 (Red Hat 14.3.1-1) openSUSE Leap 15.6 Kernel: 5.15 Compiler: gcc gcc (SUSE Linux) 7.5.0 Red Hat Enterprise Linux 8.10 Kernel: 5.15 Compiler: gcc gcc (GCC) 8.5.0 20210514 (Red Hat 8.5.0-22) Red Hat Enterprise Linux 9.5 Kernel: 5.15 Compiler: gcc gcc (GCC) 11.5.0 20240719 (Red Hat 11.5.0-2) Ubuntu 22.04 Kernel: 5.15 Compiler: gcc gcc (Ubuntu 11.4.0-1ubuntu1~22.04) 11.4.0 Ubuntu 24.04 Kernel: 5.15 Compiler: gcc gcc (Ubuntu 13.3.0-6ubuntu2~24.04) 13.3.0 Alpine Linux 3.22.0 Kernel: 5.15 Compiler: gcc gcc (Alpine 14.2.0) 14.2.0 CentOS Stream 9 Kernel: 5.15 Compiler: gcc gcc (GCC) 11.5.0 20240719 (Red Hat 11.5.0-7) To view detailed results, visit: https://lab.dpdk.org/results/dashboard/patchsets/33740/ UNH-IOL DPDK Community Lab To manage your email subscriptions, visit: https://lab.dpdk.org/results/dashboard/preferences/subscriptions/