From mboxrd@z Thu Jan 1 00:00:00 1970 Return-Path: Received: from mails.dpdk.org (mails.dpdk.org [217.70.189.124]) by inbox.dpdk.org (Postfix) with ESMTP id 9A76B46BF5 for ; Wed, 23 Jul 2025 23:52:04 +0200 (CEST) Received: from mails.dpdk.org (localhost [127.0.0.1]) by mails.dpdk.org (Postfix) with ESMTP id 7675540151; Wed, 23 Jul 2025 23:52:04 +0200 (CEST) Received: from mail-yw1-f228.google.com (mail-yw1-f228.google.com [209.85.128.228]) by mails.dpdk.org (Postfix) with ESMTP id 48EC340151 for ; Wed, 23 Jul 2025 23:52:03 +0200 (CEST) Received: by mail-yw1-f228.google.com with SMTP id 00721157ae682-7180bb37846so3488857b3.3 for ; Wed, 23 Jul 2025 14:52:03 -0700 (PDT) DKIM-Signature: v=1; a=rsa-sha256; c=relaxed/relaxed; d=iol.unh.edu; s=unh-iol; t=1753307522; x=1753912322; darn=dpdk.org; h=references:in-reply-to:cc:to:from:subject:message-id:date:from:to :cc:subject:date:message-id:reply-to; bh=e0L9UBqKX3A+hq+K0m+Npd+oBOgPQhcO1z46LlCK+VM=; b=ANE/CqTn+Gx2TrF2Qg9/bckS0t0RW2jv5IxWiBIbhJQkLfRblJO8hA36PGZlfDiowC /BNXSjD81ghljsoX/mtdgd3w8Ni5kOjyo1YyPK9CUzG8FTlaYpGmHfS6JRB/Do/NW8LD snKwQHMeFWshZs3YttqEfxoHuHW130kDJ8zU0= X-Google-DKIM-Signature: v=1; a=rsa-sha256; c=relaxed/relaxed; d=1e100.net; s=20230601; t=1753307522; x=1753912322; h=references:in-reply-to:cc:to:from:subject:message-id:date :x-gm-message-state:from:to:cc:subject:date:message-id:reply-to; bh=e0L9UBqKX3A+hq+K0m+Npd+oBOgPQhcO1z46LlCK+VM=; b=QUSY81uHghoHnIAJ4IB6xZuNE+DuuALFJ38BWKREhEN2WNfNL/Hkae35K7fkuEQIfw j+cPsWonT0gKKR98GXN2KEJqf022hzh8+swQ3DZ5kAsoN21i02dIGqvXKlhbxCfMK//x zQ+kuaV3cYsYoABzKunlsgZ2h8iPLMLIPrY2nRc2GHsarqhby/Hk0aKfQ7zk4sDJV6br Zq0aQ1Zh1MV6clcdtv68hzyzXeMTXKPkQKnIMMsR5nxiZgVr9cE+PeD5AZOnotA7kG2e kX1maIQ9oJL8uMcsi6lUrCNrj4dFaT+bBZ1n0NQ4Uj2JOTN5fg8GgZVyTHh9GQd0rEq2 Hu2g== X-Gm-Message-State: AOJu0Yw6C2AEckm5AIVxaPoXNrb2Ie4xGpHW+tKpVX+WoxWW7lpXOf6v jKTzfCaJO0oNPg3cgDfflgwNC0VAK4bRBX09dUFKt7jYCL3zTtDNCDDOA2vYgtZBKsSy6SAjmwk OpBm9CwCZqOaWJpzIOunPnSPKMVU/U2341PraRqyJd2001VR+K8euOAedDsZh X-Gm-Gg: ASbGncuJq4qoCWQq/Igwb032wRejJlvgG/qgcYZgpRP3QNZc6J18QNE6uzIYj1xM3LA J0PbO43AyK3TViQgnEv1vkC1kmzJ1r9VCk/LprnhcQjpLhKe+gFe99kTb+AIjsMpq9VQDR4cK/y VD8hfLje0qFjAsENBiG2iYpBykwNm0BPvD14MltcPUiiPLCHSRZGfD1P7E7yI/Si3tOBhnR+6TH HBlre5En8VxttChE3T6iPoMkDgyUZiA1AzMWyg15VtvRLIosmR5KSAjCB5PFzrrLrm9rFjxkkk6 TLY+XsSmyvgKSx+mQSl1vh2Z8Bij8LTBvdU8mwKqP8RUJ6ZPpA== X-Google-Smtp-Source: AGHT+IGwcgP10AWGrwJxiKaVGNDi/v2S3vUouFpRFrLSf+XZc9Q3aGHq6R+9Y7N0aFaB3IgfxWWx3Y70LsvP X-Received: by 2002:a05:690c:f8b:b0:718:3df4:6c05 with SMTP id 00721157ae682-719b4257a18mr66549527b3.29.1753307522397; Wed, 23 Jul 2025 14:52:02 -0700 (PDT) Received: from postal.iol.unh.edu (postal.iol.unh.edu. [2606:4100:3880:1234::84]) by smtp-relay.gmail.com with ESMTPS id 00721157ae682-719cb94d545sm59867b3.44.2025.07.23.14.52.02 (version=TLS1_2 cipher=ECDHE-ECDSA-AES128-GCM-SHA256 bits=128/128); Wed, 23 Jul 2025 14:52:02 -0700 (PDT) X-Relaying-Domain: iol.unh.edu Date: Wed, 23 Jul 2025 14:52:02 -0700 (PDT) Message-ID: <68815982.050a0220.1cd148.04e3SMTPIN_ADDED_MISSING@mx.google.com> Received: from [172.21.0.2] (unknown [172.18.0.240]) by postal.iol.unh.edu (Postfix) with ESMTP id 16672604D420; Wed, 23 Jul 2025 17:52:02 -0400 (EDT) Subject: |WARNING| pw155484-155496 [PATCH] [v7,13/13] eal: add warnings about From: dpdklab@iol.unh.edu To: Test Report Cc: dpdk-test-reports@iol.unh.edu In-Reply-To: <20250723162013.2392-14-bruce.richardson@intel.com> References: <20250723162013.2392-14-bruce.richardson@intel.com> Content-Type: text/plain X-BeenThere: test-report@dpdk.org X-Mailman-Version: 2.1.29 Precedence: list List-Id: automatic DPDK test reports List-Unsubscribe: , List-Archive: List-Post: List-Help: List-Subscribe: , Errors-To: test-report-bounces@dpdk.org Test-Label: iol-compile-amd64-testing Test-Status: WARNING http://dpdk.org/patch/155496 _Testing issues_ Submitter: Bruce Richardson Date: Wednesday, July 23 2025 16:20:11 DPDK git baseline: Repo:dpdk Branch: master CommitID:e3183a6edafdc41bfd71de1517f9e9ec85eb1276 155484-155496 --> testing issues Upstream job id: Generic-DPDK-Compile-Meson#411741 Test environment and result as below: +-------------------------------+--------------------+-------------------+-------------------+------------------+-------------------------+----------------------+ | Environment | dpdk_meson_compile | dpdk_msvc_compile | dpdk_compile_spdk | dpdk_compile_ovs | dpdk_llvm_clang_compile | dpdk_mingw64_compile | +===============================+====================+===================+===================+==================+=========================+======================+ | FreeBSD 14.2 | PASS | SKIPPED | SKIPPED | SKIPPED | SKIPPED | SKIPPED | +-------------------------------+--------------------+-------------------+-------------------+------------------+-------------------------+----------------------+ | Ubuntu 20.04 | PASS | SKIPPED | SKIPPED | SKIPPED | SKIPPED | SKIPPED | +-------------------------------+--------------------+-------------------+-------------------+------------------+-------------------------+----------------------+ | CentOS Stream 9 | PASS | SKIPPED | WARN | SKIPPED | SKIPPED | SKIPPED | +-------------------------------+--------------------+-------------------+-------------------+------------------+-------------------------+----------------------+ | CentOS Stream 10 | PASS | SKIPPED | SKIPPED | SKIPPED | SKIPPED | SKIPPED | +-------------------------------+--------------------+-------------------+-------------------+------------------+-------------------------+----------------------+ | Debian GNU/Linux 12 | PASS | SKIPPED | WARN | SKIPPED | SKIPPED | SKIPPED | +-------------------------------+--------------------+-------------------+-------------------+------------------+-------------------------+----------------------+ | Fedora Linux 40 | PASS | SKIPPED | WARN | SKIPPED | SKIPPED | SKIPPED | +-------------------------------+--------------------+-------------------+-------------------+------------------+-------------------------+----------------------+ | Fedora Linux 41 | PASS | SKIPPED | WARN | PASS | SKIPPED | SKIPPED | +-------------------------------+--------------------+-------------------+-------------------+------------------+-------------------------+----------------------+ | openSUSE Leap 15.6 | PASS | SKIPPED | SKIPPED | SKIPPED | SKIPPED | SKIPPED | +-------------------------------+--------------------+-------------------+-------------------+------------------+-------------------------+----------------------+ | Red Hat Enterprise Linux 8.10 | PASS | SKIPPED | SKIPPED | SKIPPED | SKIPPED | SKIPPED | +-------------------------------+--------------------+-------------------+-------------------+------------------+-------------------------+----------------------+ | Red Hat Enterprise Linux 9.5 | PASS | SKIPPED | SKIPPED | SKIPPED | SKIPPED | SKIPPED | +-------------------------------+--------------------+-------------------+-------------------+------------------+-------------------------+----------------------+ | Ubuntu 22.04 | PASS | SKIPPED | WARN | SKIPPED | SKIPPED | SKIPPED | +-------------------------------+--------------------+-------------------+-------------------+------------------+-------------------------+----------------------+ | Ubuntu 24.04 | PASS | SKIPPED | WARN | PASS | SKIPPED | SKIPPED | +-------------------------------+--------------------+-------------------+-------------------+------------------+-------------------------+----------------------+ | Alpine Linux 3.22.0 | PASS | SKIPPED | SKIPPED | SKIPPED | SKIPPED | SKIPPED | +-------------------------------+--------------------+-------------------+-------------------+------------------+-------------------------+----------------------+ | Windows Server 2022 | SKIPPED | PASS | SKIPPED | SKIPPED | PASS | PASS | +-------------------------------+--------------------+-------------------+-------------------+------------------+-------------------------+----------------------+ ==== 20 line log output for Ubuntu 24.04 (dpdk_compile_spdk): ==== --- Failed to get log output --- ==== End log output ==== FreeBSD 14.2 Kernel: 14.2-RELEASE Compiler: clang 18.1.6 Ubuntu 20.04 Kernel: 4.19 Compiler: gcc gcc (Ubuntu 9.4.0-1ubuntu1~20.04.2) 9.4.0 CentOS Stream 9 Kernel: 5.15 Compiler: gcc gcc (GCC) 11.5.0 20240719 (Red Hat 11.5.0-7) CentOS Stream 10 Kernel: 5.15 Compiler: gcc gcc (GCC) 14.2.1 20250110 (Red Hat 14.2.1-8) Debian GNU/Linux 12 Kernel: 5.15 Compiler: gcc gcc (Debian 12.2.0-14+deb12u1) 12.2.0 Fedora Linux 40 Kernel: 5.15 Compiler: clang gcc (GCC) 14.2.1 20240912 (Red Hat 14.2.1-3) Fedora Linux 41 Kernel: 5.15 Compiler: clang gcc (GCC) 14.3.1 20250523 (Red Hat 14.3.1-1) openSUSE Leap 15.6 Kernel: 5.15 Compiler: gcc gcc (SUSE Linux) 7.5.0 Red Hat Enterprise Linux 8.10 Kernel: 5.15 Compiler: gcc gcc (GCC) 8.5.0 20210514 (Red Hat 8.5.0-22) Red Hat Enterprise Linux 9.5 Kernel: 5.15 Compiler: gcc gcc (GCC) 11.5.0 20240719 (Red Hat 11.5.0-2) Ubuntu 22.04 Kernel: 5.15 Compiler: gcc gcc (Ubuntu 11.4.0-1ubuntu1~22.04) 11.4.0 Ubuntu 24.04 Kernel: 5.15 Compiler: gcc gcc (Ubuntu 13.3.0-6ubuntu2~24.04) 13.3.0 Alpine Linux 3.22.0 Kernel: 5.15 Compiler: gcc gcc (Alpine 14.2.0) 14.2.0 Windows Server 2022 Kernel: 10.0.20348.2031 Compiler: clang 15.0.7, gcc 14.1.0 (MinGW), and MSVC VS 19.39.33521 To view detailed results, visit: https://lab.dpdk.org/results/dashboard/patchsets/33741/ UNH-IOL DPDK Community Lab To manage your email subscriptions, visit: https://lab.dpdk.org/results/dashboard/preferences/subscriptions/