From mboxrd@z Thu Jan 1 00:00:00 1970 Return-Path: Received: from mails.dpdk.org (mails.dpdk.org [217.70.189.124]) by inbox.dpdk.org (Postfix) with ESMTP id E2C1346BF5 for ; Thu, 24 Jul 2025 00:05:08 +0200 (CEST) Received: from mails.dpdk.org (localhost [127.0.0.1]) by mails.dpdk.org (Postfix) with ESMTP id BCEE340151; Thu, 24 Jul 2025 00:05:08 +0200 (CEST) Received: from mail-io1-f98.google.com (mail-io1-f98.google.com [209.85.166.98]) by mails.dpdk.org (Postfix) with ESMTP id 9D44140151 for ; Thu, 24 Jul 2025 00:05:07 +0200 (CEST) Received: by mail-io1-f98.google.com with SMTP id ca18e2360f4ac-87c09672708so9363439f.3 for ; Wed, 23 Jul 2025 15:05:07 -0700 (PDT) DKIM-Signature: v=1; a=rsa-sha256; c=relaxed/relaxed; d=iol.unh.edu; s=unh-iol; t=1753308307; x=1753913107; darn=dpdk.org; h=references:in-reply-to:cc:to:from:subject:message-id:date:from:to :cc:subject:date:message-id:reply-to; bh=cygTHQyy71z5o2HNmJz4ch7xaVRrVZuNxbb9w7OXusc=; b=LXJdUjcSX4e18pwRqZdEza0QNW5PTSEoAhqDeGhRsKBp0gZg4ie5aHHkLojJnK1zcn YU/yAfDKWu7Vo7Y8wUAqcyfG0kEZPfqxcNJVyjsDylKElM4Xw2HZHRPXUuQMAxAZgZO3 Od5hmQtHaFQa2SutlAnxW4MwCazRba6+5t3uY= X-Google-DKIM-Signature: v=1; a=rsa-sha256; c=relaxed/relaxed; d=1e100.net; s=20230601; t=1753308307; x=1753913107; h=references:in-reply-to:cc:to:from:subject:message-id:date :x-gm-message-state:from:to:cc:subject:date:message-id:reply-to; bh=cygTHQyy71z5o2HNmJz4ch7xaVRrVZuNxbb9w7OXusc=; b=O1K2SP3MVziBHCIzp21HOBJIIJxlv93oXM8fB7OzBxkTQyYflrZmZF2qZ4Y6cEwm4g Vizl1ZxSdJx2cV/XqUhQ7GamSWxrm/K5S+5zPtvO9CaOyBB3s36LZphdsEU8XnYT2joj k4Z/2kISzYSLWhbCSOL92bA7eGz2yzmq0TDz3i7TMCdarvSzL/cSWPxzmVxq76Er3rJU XjIthlZLGDSfiDm3nLsw4QUmJJgOXfpXUlRywbfSZYMo77WCcs4Wlw5K0O5YN74OzBfr IafTGxaYinuyN67aiLE2+QQnq4xcKJMfYrjCtvi64A3x3ZD2etALwhMFvN4x6wZGhok1 4CrA== X-Gm-Message-State: AOJu0Ywmeq9OYsMMfS7On0c7H1tfpSK/YP2tj0PyhryexLxT7q/zHhgS Y35Ge4V/BKFYpFkQNX3VFR9CoLZQjmtHlroDI9emO8sx5h5YB+sh8LQbA2yvM5tCdCaU8oPHgno ZMIFB5yc8s24UQMNwbiEPHJLNR460DOyns1izJRNgXBwrFAMEOcBHzn19EwD/ X-Gm-Gg: ASbGnctgk+rYK9ObfITrHZE7AzMiv3PQMb87dtJ4H9nVV/uHScdxFTXbcJYGjkpD5og 2emRnH/dnNlEK8TnTGNCdZW1qadDJ2Im9a3OS9OUnv5BEK3PW47rSxHK/XJGeAv1v2EmGxr7POk eKKiEO6RwXEHlgKzR36Lp6bjPqX9qYHkFs/ZMwROkkA2RDFt103Zk36sfsYUpvUMCKfOw5VPqvU 7/Kt9G3X4X7ZKi7xd/7O7mPwz4GlW+nPJ3Ggr20YPWssCxst9Tzk09wOkpqJwkfZnlU7tnYEsVt f3q73dw3FLPRNNgtsBg8jMYxTnbehmVrP8ykw+QAoV7RwSJxGA== X-Google-Smtp-Source: AGHT+IFRVtTswk0J87ZfrS/nrbmGhgzLcA0tcWejk5HqZDt4KNpsSF5a5xjjHKV8RBpXZLauxz4+N9XNSK59 X-Received: by 2002:a05:6602:14c7:b0:87c:2a75:b071 with SMTP id ca18e2360f4ac-87c64f55b70mr1016963639f.2.1753308306915; Wed, 23 Jul 2025 15:05:06 -0700 (PDT) Received: from postal.iol.unh.edu (postal.iol.unh.edu. [2606:4100:3880:1234::84]) by smtp-relay.gmail.com with ESMTPS id ca18e2360f4ac-87c743586c4sm1107539f.22.2025.07.23.15.05.06 (version=TLS1_2 cipher=ECDHE-ECDSA-AES128-GCM-SHA256 bits=128/128); Wed, 23 Jul 2025 15:05:06 -0700 (PDT) X-Relaying-Domain: iol.unh.edu Date: Wed, 23 Jul 2025 15:05:06 -0700 (PDT) Message-ID: <68815c92.050a0220.239378.08d2SMTPIN_ADDED_MISSING@mx.google.com> Received: from [172.21.0.2] (unknown [172.18.0.240]) by postal.iol.unh.edu (Postfix) with ESMTP id 6312F604D420; Wed, 23 Jul 2025 18:05:06 -0400 (EDT) Subject: |SUCCESS| pw155497-155498 [PATCH] [2/2] graph: add callback in dispa From: dpdklab@iol.unh.edu To: Test Report Cc: dpdk-test-reports@iol.unh.edu In-Reply-To: <20250723165001.11162-3-cfontain@redhat.com> References: <20250723165001.11162-3-cfontain@redhat.com> Content-Type: text/plain X-BeenThere: test-report@dpdk.org X-Mailman-Version: 2.1.29 Precedence: list List-Id: automatic DPDK test reports List-Unsubscribe: , List-Archive: List-Post: List-Help: List-Subscribe: , Errors-To: test-report-bounces@dpdk.org Test-Label: iol-unit-amd64-testing Test-Status: SUCCESS http://dpdk.org/patch/155498 _Testing PASS_ Submitter: Christophe Fontaine Date: Wednesday, July 23 2025 16:50:01 DPDK git baseline: Repo:dpdk Branch: master CommitID:e3183a6edafdc41bfd71de1517f9e9ec85eb1276 155497-155498 --> testing pass Upstream job id: Generic-Unit-Test-DPDK#357907 Test environment and result as below: +-------------------------------+----------------+ | Environment | dpdk_unit_test | +===============================+================+ | Fedora Linux 40 | PASS | +-------------------------------+----------------+ | Fedora Linux 41 | PASS | +-------------------------------+----------------+ | Red Hat Enterprise Linux 9.5 | PASS | +-------------------------------+----------------+ | Red Hat Enterprise Linux 8.10 | PASS | +-------------------------------+----------------+ | Ubuntu 22.04 | PASS | +-------------------------------+----------------+ | Ubuntu 20.04 | PASS | +-------------------------------+----------------+ | CentOS Stream 10 | PASS | +-------------------------------+----------------+ | Debian GNU/Linux 12 | PASS | +-------------------------------+----------------+ | CentOS Stream 9 | PASS | +-------------------------------+----------------+ | Ubuntu 24.04 | PASS | +-------------------------------+----------------+ | Windows Server 2022 | PASS | +-------------------------------+----------------+ Fedora Linux 40 Kernel: 5.15 Compiler: clang gcc (GCC) 14.2.1 20240912 (Red Hat 14.2.1-3) Fedora Linux 41 Kernel: 5.15 Compiler: gcc gcc (GCC) 14.3.1 20250523 (Red Hat 14.3.1-1) Red Hat Enterprise Linux 9.5 Kernel: 5.15 Compiler: gcc gcc (GCC) 11.5.0 20240719 (Red Hat 11.5.0-2) Red Hat Enterprise Linux 8.10 Kernel: 5.15 Compiler: gcc gcc (GCC) 8.5.0 20210514 (Red Hat 8.5.0-22) Ubuntu 22.04 Kernel: 5.15 Compiler: gcc gcc (Ubuntu 11.4.0-1ubuntu1~22.04) 11.4.0 Ubuntu 20.04 Kernel: 5.15 Compiler: gcc gcc (Ubuntu 9.4.0-1ubuntu1~20.04.2) 9.4.0 CentOS Stream 10 Kernel: 5.15 Compiler: gcc gcc (GCC) 14.2.1 20250110 (Red Hat 14.2.1-8) Debian GNU/Linux 12 Kernel: 5.15 Compiler: gcc gcc (Debian 12.2.0-14+deb12u1) 12.2.0 CentOS Stream 9 Kernel: 5.15 Compiler: gcc gcc (GCC) 11.5.0 20240719 (Red Hat 11.5.0-7) Ubuntu 24.04 Kernel: 5.15 Compiler: gcc gcc (Ubuntu 13.3.0-6ubuntu2~24.04) 13.3.0 Windows Server 2022 Kernel: 10.0.20348.2031 Compiler: clang 15.0.7, gcc 14.1.0 (MinGW), and MSVC VS 19.39.33521 To view detailed results, visit: https://lab.dpdk.org/results/dashboard/patchsets/33742/ UNH-IOL DPDK Community Lab To manage your email subscriptions, visit: https://lab.dpdk.org/results/dashboard/preferences/subscriptions/