From mboxrd@z Thu Jan 1 00:00:00 1970 Return-Path: Received: from mails.dpdk.org (mails.dpdk.org [217.70.189.124]) by inbox.dpdk.org (Postfix) with ESMTP id 7F3B046BF6 for ; Thu, 24 Jul 2025 02:15:18 +0200 (CEST) Received: from mails.dpdk.org (localhost [127.0.0.1]) by mails.dpdk.org (Postfix) with ESMTP id 7933E40151; Thu, 24 Jul 2025 02:15:18 +0200 (CEST) Received: from mail-yb1-f225.google.com (mail-yb1-f225.google.com [209.85.219.225]) by mails.dpdk.org (Postfix) with ESMTP id DE70340151 for ; Thu, 24 Jul 2025 02:15:16 +0200 (CEST) Received: by mail-yb1-f225.google.com with SMTP id 3f1490d57ef6-e8bd2eae9e0so329002276.1 for ; Wed, 23 Jul 2025 17:15:16 -0700 (PDT) DKIM-Signature: v=1; a=rsa-sha256; c=relaxed/relaxed; d=iol.unh.edu; s=unh-iol; t=1753316116; x=1753920916; darn=dpdk.org; h=references:in-reply-to:cc:to:from:subject:message-id:date:from:to :cc:subject:date:message-id:reply-to; bh=qebBmqmkyOSidCtGylUI7dgchY0k2qPoQBpm48aTVT4=; b=SZyyvrUqyyOv7Z2nNxUJyxdg0LfLChjj7qtuTdRCyKojLzuMFe/xHDLo2sgj8ZzSyg NpMHsVKanAITm6N11CPJeFoXSnC3REnT5GTnDZhuViOOyn+RWeOQnQftGpvVHFGPjvbr BFffPSIAprSLpmFTH92S0LY6pP8U/NWWMGFhU= X-Google-DKIM-Signature: v=1; a=rsa-sha256; c=relaxed/relaxed; d=1e100.net; s=20230601; t=1753316116; x=1753920916; h=references:in-reply-to:cc:to:from:subject:message-id:date :x-gm-message-state:from:to:cc:subject:date:message-id:reply-to; bh=qebBmqmkyOSidCtGylUI7dgchY0k2qPoQBpm48aTVT4=; b=b4QkkkSswMZ0b6ybUEexUE2vZoLNCBobNLW3OJN1a93+vIQ8IUxcUw7Kd35XHdkvBn x6diQkhew4hXrBPPGR3lHSqPr9ecsIUnVBTYVKMS3FqZnFOUsva6WZPCOFILe62nUnyV Y1vmm3PcfdvFJCg834PZpNU1MK7PAzWqRClM5CyzgDZKZR+NZqMX0QWOXP51mlUTNevD iThxmkO7tjYhuOPbOQBSgWMuZUco4xLukAkCEYjyB8kI7dB+n3hLt3lxhFfCOsqduCeG yS8JMyzKVCN3RYOOdRv9m7r4lI5r2dBUtpnNmte+om+upTs01ofVsq2kgxzrYPG23v/5 adLg== X-Gm-Message-State: AOJu0Yx/uwHDKiLab7PaHVq7Giboh5LS7P6GTZOL5lITEPmze8FFh8mL rZ7Ui14HAyCtyWwz/7CRLrnMYvOYZimd8tUDhVcbemPJRVjlYemhg4P4ipbLT3b5V+ERWgAyGTx 5IYXoyc0esW+rcw9vGzf/dPB0BmF/79u/q/DPrGv6r30E X-Gm-Gg: ASbGncsAwlndVlUcdFc2ks8xecwl0s1ZbXUtMiaUQlWfMGRYi2mttRauk63/lrdqS4G hPqJZ4AsjqHzIvBYIJmPdgjbvPMu+Y4aCOXjHIG9wsVFMGDh0TsA1CLYV1xBJuLD87PIutzbhOB OpnZrqD9AUrOojInUwlgn/V/A962774BEx2n7xTe/WhJYqWNjOLPWuW9dQuoZMTcbfQFFeFx5Q+ s0sALhF5dMMpGomzWodO+2umfdQP8FF8z2pSqfIjxFB1DITsDt7pbeWfq0th17GPF6dx1uT6WMx +1GDGVee80AX2zQ5GZzn6ck+wDovgn8LlaHNLl9+88apTLCitZlm2zQIdEgEHDQUsDa7ZaiT X-Google-Smtp-Source: AGHT+IEE0/tJPJOC20r4XD35j568rKGvPxotdr/7WL3nWnmj3Mchpx0R5NxtM2en8i5CJNus2pVPlMC8pQVd X-Received: by 2002:a05:690c:690e:b0:712:d70b:45cc with SMTP id 00721157ae682-719b4135830mr69059587b3.8.1753316116086; Wed, 23 Jul 2025 17:15:16 -0700 (PDT) Received: from postal.iol.unh.edu (postal.iol.unh.edu. [132.177.123.84]) by smtp-relay.gmail.com with ESMTPS id 00721157ae682-719cb9a0769sm86627b3.56.2025.07.23.17.15.16 (version=TLS1_2 cipher=ECDHE-ECDSA-AES128-GCM-SHA256 bits=128/128); Wed, 23 Jul 2025 17:15:16 -0700 (PDT) X-Relaying-Domain: iol.unh.edu Date: Wed, 23 Jul 2025 17:15:16 -0700 (PDT) Message-ID: <68817b14.050a0220.3772a4.0693SMTPIN_ADDED_MISSING@mx.google.com> Received: from [172.21.0.2] (unknown [172.18.0.240]) by postal.iol.unh.edu (Postfix) with ESMTP id 743CF6051830; Wed, 23 Jul 2025 20:15:15 -0400 (EDT) Subject: |SUCCESS| pw155457 [PATCH] net/af_xdp: enable AF_XDP program attachm From: dpdklab@iol.unh.edu To: Test Report Cc: dpdk-test-reports@iol.unh.edu In-Reply-To: <20250723074249.3264675-1-shivajikant@google.com> References: <20250723074249.3264675-1-shivajikant@google.com> Content-Type: text/plain X-BeenThere: test-report@dpdk.org X-Mailman-Version: 2.1.29 Precedence: list List-Id: automatic DPDK test reports List-Unsubscribe: , List-Archive: List-Post: List-Help: List-Subscribe: , Errors-To: test-report-bounces@dpdk.org Test-Label: iol-compile-arm64-testing Test-Status: SUCCESS http://dpdk.org/patch/155457 _Testing PASS_ Submitter: Shivaji Kant Date: Wednesday, July 23 2025 07:42:49 DPDK git baseline: Repo:dpdk Branch: master CommitID:b78afde1fed9e11ee5cdce333a1a69dd7a9cf13e 155457 --> testing pass Upstream job id: Generic-DPDK-Compile-Meson#411516 Test environment and result as below: +------------------------------+--------------------+ | Environment | dpdk_meson_compile | +==============================+====================+ | Red Hat Enterprise Linux 9.5 | PASS | +------------------------------+--------------------+ | Ubuntu 20.04 | PASS | +------------------------------+--------------------+ | Debian GNU/Linux 12 | PASS | +------------------------------+--------------------+ | Fedora Linux 40 | PASS | +------------------------------+--------------------+ | Fedora Linux 41 | PASS | +------------------------------+--------------------+ | Ubuntu 22.04 | PASS | +------------------------------+--------------------+ | Ubuntu 24.04 | PASS | +------------------------------+--------------------+ | CentOS Stream 9 | PASS | +------------------------------+--------------------+ | CentOS Stream 10 | PASS | +------------------------------+--------------------+ Red Hat Enterprise Linux 9.5 Kernel: 5.4 Compiler: gcc gcc (GCC) 11.5.0 20240719 (Red Hat 11.5.0-2) Ubuntu 20.04 Kernel: 5.15 Compiler: aarch64-linux-gnu-gcc gcc (Ubuntu 9.4.0-1ubuntu1~20.04.2) 9.4.0 Debian GNU/Linux 12 Kernel: 5.4 Compiler: gcc gcc (Debian 12.2.0-14+deb12u1) 12.2.0 Fedora Linux 40 Kernel: 5.4 Compiler: gcc gcc (GCC) 14.2.1 20240912 (Red Hat 14.2.1-3) Fedora Linux 41 Kernel: 5.4 Compiler: gcc gcc (GCC) 14.3.1 20250523 (Red Hat 14.3.1-1) Ubuntu 22.04 Kernel: 5.4 Compiler: gcc gcc (Ubuntu 11.4.0-1ubuntu1~22.04) 11.4.0 Ubuntu 24.04 Kernel: 5.4 Compiler: gcc gcc (Ubuntu 13.3.0-6ubuntu2~24.04) 13.3.0 CentOS Stream 9 Kernel: 5.4 Compiler: gcc gcc (GCC) 11.5.0 20240719 (Red Hat 11.5.0-7) CentOS Stream 10 Kernel: 5.4 Compiler: gcc gcc (GCC) 14.2.1 20250110 (Red Hat 14.2.1-8) To view detailed results, visit: https://lab.dpdk.org/results/dashboard/patchsets/33735/ UNH-IOL DPDK Community Lab To manage your email subscriptions, visit: https://lab.dpdk.org/results/dashboard/preferences/subscriptions/