automatic DPDK test reports
 help / color / mirror / Atom feed
* |PENDING| [GIT MASTER] e3183a6edafdc41bfd71de1517f9e9ec85eb1276
@ 2025-07-24  0:33 dpdklab
  0 siblings, 0 replies; 3+ messages in thread
From: dpdklab @ 2025-07-24  0:33 UTC (permalink / raw)
  To: Test Report; +Cc: dpdk-test-reports

_Testing pending_

Branch: dpdk

e3183a6edafdc41bfd71de1517f9e9ec85eb1276 --> testing pending

Upstream job id: Generic-Unit-Test-DPDK#357972

Test environment and result as below:

+------------------------------+---------------------------+--------------+----------------+------------------------------+
|         Environment          | cryptodev_sw_zuc_autotest | lpm_autotest | dpdk_unit_test | cryptodev_sw_snow3g_autotest |
+==============================+===========================+==============+================+==============================+
| Debian 12 (arm)              | PEND                      | SKIPPED      | SKIPPED        | PEND                         |
+------------------------------+---------------------------+--------------+----------------+------------------------------+
| Ubuntu 20.04                 | SKIPPED                   | PASS         | PEND           | SKIPPED                      |
+------------------------------+---------------------------+--------------+----------------+------------------------------+
| CentOS Stream 9              | SKIPPED                   | SKIPPED      | PEND           | SKIPPED                      |
+------------------------------+---------------------------+--------------+----------------+------------------------------+
| CentOS Stream 10             | SKIPPED                   | SKIPPED      | PEND           | SKIPPED                      |
+------------------------------+---------------------------+--------------+----------------+------------------------------+
| Fedora Linux 40              | SKIPPED                   | SKIPPED      | PEND           | SKIPPED                      |
+------------------------------+---------------------------+--------------+----------------+------------------------------+
| Ubuntu 22.04                 | SKIPPED                   | SKIPPED      | PEND           | SKIPPED                      |
+------------------------------+---------------------------+--------------+----------------+------------------------------+
| Fedora Linux 41              | SKIPPED                   | SKIPPED      | PEND           | SKIPPED                      |
+------------------------------+---------------------------+--------------+----------------+------------------------------+
| Debian GNU/Linux 12          | SKIPPED                   | SKIPPED      | PEND           | SKIPPED                      |
+------------------------------+---------------------------+--------------+----------------+------------------------------+
| Ubuntu 24.04                 | SKIPPED                   | SKIPPED      | PEND           | SKIPPED                      |
+------------------------------+---------------------------+--------------+----------------+------------------------------+
| Red Hat Enterprise Linux 9.5 | SKIPPED                   | SKIPPED      | PEND           | SKIPPED                      |
+------------------------------+---------------------------+--------------+----------------+------------------------------+


Debian 12 (arm)
	Kernel: Depends on container host
	Compiler: gcc (Debian 12.2.0-14) 12.2.0

Ubuntu 20.04
	Kernel: 5.4
	Compiler: gcc gcc (Ubuntu 9.4.0-1ubuntu1~20.04.2) 9.4.0

CentOS Stream 9
	Kernel: 5.4
	Compiler: gcc gcc (GCC) 11.5.0 20240719 (Red Hat 11.5.0-7)

CentOS Stream 10
	Kernel: 5.4
	Compiler: gcc gcc (GCC) 14.2.1 20250110 (Red Hat 14.2.1-8)

Fedora Linux 40
	Kernel: 5.4
	Compiler: clang gcc (GCC) 14.2.1 20240912 (Red Hat 14.2.1-3)

Ubuntu 22.04
	Kernel: 5.4
	Compiler: gcc gcc (Ubuntu 11.4.0-1ubuntu1~22.04) 11.4.0

Fedora Linux 41
	Kernel: 5.4
	Compiler: clang gcc (GCC) 14.3.1 20250523 (Red Hat 14.3.1-1)

Debian GNU/Linux 12
	Kernel: 5.4
	Compiler: gcc gcc (Debian 12.2.0-14+deb12u1) 12.2.0

Ubuntu 24.04
	Kernel: 5.4
	Compiler: gcc gcc (Ubuntu 13.3.0-6ubuntu2~24.04) 13.3.0

Red Hat Enterprise Linux 9.5
	Kernel: 5.4
	Compiler: gcc gcc (GCC) 11.5.0 20240719 (Red Hat 11.5.0-2)

To view detailed results, visit:
https://lab.dpdk.org/results/dashboard/tarballs/34385/

UNH-IOL DPDK Community Lab

To manage your email subscriptions, visit: 
https://lab.dpdk.org/results/dashboard/preferences/subscriptions/

^ permalink raw reply	[flat|nested] 3+ messages in thread

* |PENDING| [GIT MASTER] e3183a6edafdc41bfd71de1517f9e9ec85eb1276
@ 2025-07-24  0:37 dpdklab
  0 siblings, 0 replies; 3+ messages in thread
From: dpdklab @ 2025-07-24  0:37 UTC (permalink / raw)
  To: Test Report; +Cc: dpdk-test-reports

_Testing pending_

Branch: dpdk

e3183a6edafdc41bfd71de1517f9e9ec85eb1276 --> testing pending

Upstream job id: Generic-Unit-Test-DPDK#357971

Test environment and result as below:

+-------------------------------+----------------+
|          Environment          | dpdk_unit_test |
+===============================+================+
| CentOS Stream 9               | PASS           |
+-------------------------------+----------------+
| Arch Linux 20250613.0.365270  | PEND           |
+-------------------------------+----------------+
| Fedora Linux 40               | PEND           |
+-------------------------------+----------------+
| Ubuntu 20.04                  | PEND           |
+-------------------------------+----------------+
| Red Hat Enterprise Linux 9.5  | PEND           |
+-------------------------------+----------------+
| Ubuntu 24.04                  | PEND           |
+-------------------------------+----------------+
| Debian GNU/Linux 12           | PEND           |
+-------------------------------+----------------+
| Fedora Linux 41               | PEND           |
+-------------------------------+----------------+
| CentOS Stream 10              | PEND           |
+-------------------------------+----------------+
| Ubuntu 22.04                  | PEND           |
+-------------------------------+----------------+
| Red Hat Enterprise Linux 8.10 | PEND           |
+-------------------------------+----------------+
| Windows Server 2022           | PEND           |
+-------------------------------+----------------+


CentOS Stream 9
	Kernel: 5.15
	Compiler: gcc gcc (GCC) 11.5.0 20240719 (Red Hat 11.5.0-7)

Arch Linux 20250613.0.365270
	Kernel: 5.15
	Compiler: gcc gcc (GCC) 15.1.1 20250425

Fedora Linux 40
	Kernel: 5.15
	Compiler: clang gcc (GCC) 14.2.1 20240912 (Red Hat 14.2.1-3)

Ubuntu 20.04
	Kernel: 5.15
	Compiler: gcc gcc (Ubuntu 9.4.0-1ubuntu1~20.04.2) 9.4.0

Red Hat Enterprise Linux 9.5
	Kernel: 5.15
	Compiler: gcc gcc (GCC) 11.5.0 20240719 (Red Hat 11.5.0-2)

Ubuntu 24.04
	Kernel: 5.15
	Compiler: gcc gcc (Ubuntu 13.3.0-6ubuntu2~24.04) 13.3.0

Debian GNU/Linux 12
	Kernel: 5.15
	Compiler: gcc gcc (Debian 12.2.0-14+deb12u1) 12.2.0

Fedora Linux 41
	Kernel: 5.15
	Compiler: gcc gcc (GCC) 14.3.1 20250523 (Red Hat 14.3.1-1)

CentOS Stream 10
	Kernel: 5.15
	Compiler: gcc gcc (GCC) 14.2.1 20250110 (Red Hat 14.2.1-8)

Ubuntu 22.04
	Kernel: 5.15
	Compiler: gcc gcc (Ubuntu 11.4.0-1ubuntu1~22.04) 11.4.0

Red Hat Enterprise Linux 8.10
	Kernel: 5.15
	Compiler: gcc gcc (GCC) 8.5.0 20210514 (Red Hat 8.5.0-22)

Windows Server 2022
	Kernel: 10.0.20348.2031
	Compiler: clang 15.0.7, gcc 14.1.0 (MinGW), and MSVC VS 19.39.33521

To view detailed results, visit:
https://lab.dpdk.org/results/dashboard/tarballs/34385/

UNH-IOL DPDK Community Lab

To manage your email subscriptions, visit: 
https://lab.dpdk.org/results/dashboard/preferences/subscriptions/

^ permalink raw reply	[flat|nested] 3+ messages in thread

* |PENDING| [GIT MASTER] e3183a6edafdc41bfd71de1517f9e9ec85eb1276
@ 2025-07-24  0:23 dpdklab
  0 siblings, 0 replies; 3+ messages in thread
From: dpdklab @ 2025-07-24  0:23 UTC (permalink / raw)
  To: Test Report; +Cc: dpdk-test-reports

_Testing pending_

Branch: dpdk

e3183a6edafdc41bfd71de1517f9e9ec85eb1276 --> testing pending

Upstream job id: Generic-VM-DPDK-Compile-Meson#37359

Test environment and result as below:

+---------------------+-------------------------+--------------------+-------------------+
|     Environment     | dpdk_llvm_clang_compile | dpdk_meson_compile | dpdk_msvc_compile |
+=====================+=========================+====================+===================+
| Windows Server 2022 | PEND                    | SKIPPED            | PEND              |
+---------------------+-------------------------+--------------------+-------------------+
| Ubuntu 20.04        | SKIPPED                 | PASS               | SKIPPED           |
+---------------------+-------------------------+--------------------+-------------------+
| FreeBSD 14.2        | SKIPPED                 | PEND               | SKIPPED           |
+---------------------+-------------------------+--------------------+-------------------+


Windows Server 2022
	Kernel: 10.0.20348.2031
	Compiler: clang 15.0.7, gcc 14.1.0 (MinGW), and MSVC VS 19.39.33521

Ubuntu 20.04
	Kernel: 4.19
	Compiler: gcc gcc (Ubuntu 9.4.0-1ubuntu1~20.04.2) 9.4.0

FreeBSD 14.2
	Kernel: 14.2-RELEASE
	Compiler: clang 18.1.6

To view detailed results, visit:
https://lab.dpdk.org/results/dashboard/tarballs/34385/

UNH-IOL DPDK Community Lab

To manage your email subscriptions, visit: 
https://lab.dpdk.org/results/dashboard/preferences/subscriptions/

^ permalink raw reply	[flat|nested] 3+ messages in thread

end of thread, other threads:[~2025-07-24  0:37 UTC | newest]

Thread overview: 3+ messages (download: mbox.gz / follow: Atom feed)
-- links below jump to the message on this page --
2025-07-24  0:33 |PENDING| [GIT MASTER] e3183a6edafdc41bfd71de1517f9e9ec85eb1276 dpdklab
  -- strict thread matches above, loose matches on Subject: below --
2025-07-24  0:37 dpdklab
2025-07-24  0:23 dpdklab

This is a public inbox, see mirroring instructions
for how to clone and mirror all data and code used for this inbox;
as well as URLs for NNTP newsgroup(s).