From mboxrd@z Thu Jan 1 00:00:00 1970 Return-Path: Received: from mails.dpdk.org (mails.dpdk.org [217.70.189.124]) by inbox.dpdk.org (Postfix) with ESMTP id 7C4D146BF6 for ; Thu, 24 Jul 2025 03:41:32 +0200 (CEST) Received: from mails.dpdk.org (localhost [127.0.0.1]) by mails.dpdk.org (Postfix) with ESMTP id 55AFA40151; Thu, 24 Jul 2025 03:41:32 +0200 (CEST) Received: from mail-yw1-f227.google.com (mail-yw1-f227.google.com [209.85.128.227]) by mails.dpdk.org (Postfix) with ESMTP id A937F40151 for ; Thu, 24 Jul 2025 03:41:31 +0200 (CEST) Received: by mail-yw1-f227.google.com with SMTP id 00721157ae682-719728a1811so6200387b3.3 for ; Wed, 23 Jul 2025 18:41:31 -0700 (PDT) DKIM-Signature: v=1; a=rsa-sha256; c=relaxed/relaxed; d=iol.unh.edu; s=unh-iol; t=1753321291; x=1753926091; darn=dpdk.org; h=references:in-reply-to:cc:to:from:subject:message-id:date:from:to :cc:subject:date:message-id:reply-to; bh=AxoXS80n7PURA5wCnXhHTdXIYraq8lAI2wsKoscAzr8=; b=bYVuCZm2bAYTTa8NchcbNxU6IOmabuElWaHS15hIIwypgsvnCwGjcYt5NHaaTviup7 xUiReQfUZr7eBLoR2RvQ+RChR6zg7+TnL1/QmitXiIgsKt/0nYvYeznfXo0+CNi3QtVg cSXhgQBYw0aPp84bU7TnZYeul5iQGvb9Cpymk= X-Google-DKIM-Signature: v=1; a=rsa-sha256; c=relaxed/relaxed; d=1e100.net; s=20230601; t=1753321291; x=1753926091; h=references:in-reply-to:cc:to:from:subject:message-id:date :x-gm-message-state:from:to:cc:subject:date:message-id:reply-to; bh=AxoXS80n7PURA5wCnXhHTdXIYraq8lAI2wsKoscAzr8=; b=UYtJW5svTJAbULIshLoNYK0bTeXzGJ8jgo2PAwEyMyZ9zCKbCcTDOjUaOH3wt/+hRI xLY+v1rBJaMbiQaUJklAAN0wftmzr7o/09Z2IpGmXqzzPGn2Fh4LFK1J0efUyMA3oolT 13d1oq6DjzGm4ukJfiCuJCf3XvqqebBOjKNdfHwfORpgSQfRGd8v7saUh+PbI0EtHhm/ T6QxRVHrfpNulno22jO+X+tzijvBeaOoVxpDWRJ9O1SDNBfbHqMtVzNQj3uIlq8aiU2q yUWRNJTAucbrUwWSOilsIlSZOJNkU8l2/HchouqhOKsoDDC27KGgYlYQkfhwG8ER8BdC O/TQ== X-Gm-Message-State: AOJu0YzMETcG2ZaJlkhRH2x7YMO5lXWivRrHqBr+64KicbmBCKvCVs2E iqB534cIgDSBSncwBRl+DACjWPrL2n2wA0OhkgCXJ7dDMVtDqpQkmUA+95QrvXtmP0qVmfTrW6n Gg8+mvHuveUX82O5e4vrb75fOVE6CdJ3ovq7W6imp3DSt X-Gm-Gg: ASbGncvPeRhFSQvGgkS5oE0y/3mYpd36h1tGSsn25QcFAs382HYrHVsDnTCeiWzBWtX IgzlnYgH8nXp9SvU32oU7g4mfKYLqZr4TrWXztIpOecMZxvODDGH4uyrANeVQjJ+4xWiDHEFZYq 4FJSe6hBsnUhG/JukqZRBk9CLbS7+1rx4+QybCkn8N3QwpjAjPnrkDo2xUvkNiKdW05DdtDZnxD I2RSwnpLIHV9nRzEilcX9xdnxncdjIROnr+PEz5931/iit1rWl2gnsYe0Iu68wAS/V9eSZJkI9u hQffewS0zT4R/cpjS2A7cyaDpff5x6aqosh5ZEtKQLOs9AQGB6N0FQwgbtke54SkpXgWxMV/ X-Google-Smtp-Source: AGHT+IGnoE4nWQ6rjhQOb3mow/IBMorA6gB/ZO++jeJVMhD5zs6ZG8UfS+db6KsWKCs4teAofWa3AvzbiOph X-Received: by 2002:a05:690c:450d:b0:718:6552:9909 with SMTP id 00721157ae682-719b4249119mr63777537b3.33.1753321290924; Wed, 23 Jul 2025 18:41:30 -0700 (PDT) Received: from postal.iol.unh.edu (postal.iol.unh.edu. [132.177.123.84]) by smtp-relay.gmail.com with ESMTPS id 00721157ae682-719cb94cb80sm251167b3.43.2025.07.23.18.41.30 (version=TLS1_2 cipher=ECDHE-ECDSA-AES128-GCM-SHA256 bits=128/128); Wed, 23 Jul 2025 18:41:30 -0700 (PDT) X-Relaying-Domain: iol.unh.edu Date: Wed, 23 Jul 2025 18:41:30 -0700 (PDT) Message-ID: <68818f4a.050a0220.ce27d.1661SMTPIN_ADDED_MISSING@mx.google.com> Received: from [172.21.0.2] (unknown [172.18.0.240]) by postal.iol.unh.edu (Postfix) with ESMTP id 90E086051830; Wed, 23 Jul 2025 21:41:30 -0400 (EDT) Subject: |SUCCESS| pw155461-155481 [PATCH] [v5,22/22] ci: extend coverage wit From: dpdklab@iol.unh.edu To: Test Report Cc: dpdk-test-reports@iol.unh.edu In-Reply-To: <20250723133157.159825-23-david.marchand@redhat.com> References: <20250723133157.159825-23-david.marchand@redhat.com> Content-Type: text/plain X-BeenThere: test-report@dpdk.org X-Mailman-Version: 2.1.29 Precedence: list List-Id: automatic DPDK test reports List-Unsubscribe: , List-Archive: List-Post: List-Help: List-Subscribe: , Errors-To: test-report-bounces@dpdk.org Test-Label: iol-unit-arm64-testing Test-Status: SUCCESS http://dpdk.org/patch/155481 _Testing PASS_ Submitter: David Marchand Date: Wednesday, July 23 2025 13:31:55 DPDK git baseline: Repo:dpdk Branch: master CommitID:e3183a6edafdc41bfd71de1517f9e9ec85eb1276 155461-155481 --> testing pass Upstream job id: Generic-Unit-Test-DPDK#357811 Test environment and result as below: +------------------------------+----------------+------------------------------+---------------------------+--------------+ | Environment | dpdk_unit_test | cryptodev_sw_snow3g_autotest | cryptodev_sw_zuc_autotest | lpm_autotest | +==============================+================+==============================+===========================+==============+ | Debian GNU/Linux 12 | PASS | SKIPPED | SKIPPED | SKIPPED | +------------------------------+----------------+------------------------------+---------------------------+--------------+ | CentOS Stream 10 | PASS | SKIPPED | SKIPPED | SKIPPED | +------------------------------+----------------+------------------------------+---------------------------+--------------+ | Ubuntu 22.04 | PASS | SKIPPED | SKIPPED | SKIPPED | +------------------------------+----------------+------------------------------+---------------------------+--------------+ | Fedora Linux 41 | PASS | SKIPPED | SKIPPED | SKIPPED | +------------------------------+----------------+------------------------------+---------------------------+--------------+ | CentOS Stream 9 | PASS | SKIPPED | SKIPPED | SKIPPED | +------------------------------+----------------+------------------------------+---------------------------+--------------+ | Fedora Linux 40 | PASS | SKIPPED | SKIPPED | SKIPPED | +------------------------------+----------------+------------------------------+---------------------------+--------------+ | Red Hat Enterprise Linux 9.5 | PASS | SKIPPED | SKIPPED | SKIPPED | +------------------------------+----------------+------------------------------+---------------------------+--------------+ | Ubuntu 24.04 | PASS | SKIPPED | SKIPPED | SKIPPED | +------------------------------+----------------+------------------------------+---------------------------+--------------+ | Ubuntu 20.04 | PASS | SKIPPED | SKIPPED | PASS | +------------------------------+----------------+------------------------------+---------------------------+--------------+ | Debian 12 (arm) | SKIPPED | PASS | PASS | SKIPPED | +------------------------------+----------------+------------------------------+---------------------------+--------------+ Debian GNU/Linux 12 Kernel: 5.4 Compiler: gcc gcc (Debian 12.2.0-14+deb12u1) 12.2.0 CentOS Stream 10 Kernel: 5.4 Compiler: gcc gcc (GCC) 14.2.1 20250110 (Red Hat 14.2.1-8) Ubuntu 22.04 Kernel: 5.15 Compiler: gcc gcc (Ubuntu 11.4.0-1ubuntu1~22.04) 11.4.0 Fedora Linux 41 Kernel: 5.4 Compiler: gcc gcc (GCC) 14.3.1 20250523 (Red Hat 14.3.1-1) CentOS Stream 9 Kernel: 5.4 Compiler: gcc gcc (GCC) 11.5.0 20240719 (Red Hat 11.5.0-7) Fedora Linux 40 Kernel: 5.4 Compiler: clang gcc (GCC) 14.2.1 20240912 (Red Hat 14.2.1-3) Red Hat Enterprise Linux 9.5 Kernel: 5.4 Compiler: gcc gcc (GCC) 11.5.0 20240719 (Red Hat 11.5.0-2) Ubuntu 24.04 Kernel: 5.4 Compiler: gcc gcc (Ubuntu 13.3.0-6ubuntu2~24.04) 13.3.0 Ubuntu 20.04 Kernel: 5.4 Compiler: gcc gcc (Ubuntu 9.4.0-1ubuntu1~20.04.2) 9.4.0 Debian 12 (arm) Kernel: Depends on container host Compiler: gcc (Debian 12.2.0-14) 12.2.0 To view detailed results, visit: https://lab.dpdk.org/results/dashboard/patchsets/33738/ UNH-IOL DPDK Community Lab To manage your email subscriptions, visit: https://lab.dpdk.org/results/dashboard/preferences/subscriptions/