From mboxrd@z Thu Jan 1 00:00:00 1970 Return-Path: Received: from mails.dpdk.org (mails.dpdk.org [217.70.189.124]) by inbox.dpdk.org (Postfix) with ESMTP id F3FCD46BF6 for ; Thu, 24 Jul 2025 03:59:36 +0200 (CEST) Received: from mails.dpdk.org (localhost [127.0.0.1]) by mails.dpdk.org (Postfix) with ESMTP id D5E1D40151; Thu, 24 Jul 2025 03:59:36 +0200 (CEST) Received: from mail-yw1-f227.google.com (mail-yw1-f227.google.com [209.85.128.227]) by mails.dpdk.org (Postfix) with ESMTP id 101C740151 for ; Thu, 24 Jul 2025 03:59:36 +0200 (CEST) Received: by mail-yw1-f227.google.com with SMTP id 00721157ae682-70e3e0415a7so6447617b3.0 for ; Wed, 23 Jul 2025 18:59:35 -0700 (PDT) DKIM-Signature: v=1; a=rsa-sha256; c=relaxed/relaxed; d=iol.unh.edu; s=unh-iol; t=1753322375; x=1753927175; darn=dpdk.org; h=references:in-reply-to:cc:to:from:subject:message-id:date:from:to :cc:subject:date:message-id:reply-to; bh=Gst2Ro4bddiL0YcKMiksUrTDpqsWH2XkJ9YaZ+5Zt9A=; b=c+fVqc+PLAubOUP3mtHnv4zFiNoIrhugbS4fcbDuHi+Pf5uxhPJ1K8SjvPC/Nfm6kM mjGNRFOCMBoq4zEdoNHzNRNSKHFZH5KPI3MXL4zlMyKoi7yAeANIC5ha5sRJ6Hoxurx6 gn8OkwrKY4o/ZFse0Xy/agZWwQcQVCmyGEXVo= X-Google-DKIM-Signature: v=1; a=rsa-sha256; c=relaxed/relaxed; d=1e100.net; s=20230601; t=1753322375; x=1753927175; h=references:in-reply-to:cc:to:from:subject:message-id:date :x-gm-message-state:from:to:cc:subject:date:message-id:reply-to; bh=Gst2Ro4bddiL0YcKMiksUrTDpqsWH2XkJ9YaZ+5Zt9A=; b=SFzCSAW8sT2chlgpiYlZEioFcDlVVOELB/3dYJjQUi+zUlgOMcgVS6Oz9um5YwvfUF dBtCdYKUoKTq3CesLkR3/r3xB9sHU4XCdIWelLtV6o23sgBEz76Wccy6tKnsdc+HxRln Pjkz1tO473YWQWhj+vpM9w5t0DJUyjWIB+yux/d6dLtvG2MDtG3uKYIU4zbMa0u4C9ia OOtDoqzbA4C1poo/yEmlwU02veHnAL6OccAQ3qaqBDuQDataU4MLmGyeA1/Cj6sbqwnJ j2smcRPuY8pnJAuuzw83Qzoze8WDY2/v54JIv7/MBtnb2WLZ361uoyae4e0/vtfgzjz0 cghA== X-Gm-Message-State: AOJu0Yy8VHf2i6EPN5/aRoYE68FpJPbgunlyF6Q6eTVyXWdzQ5wumcVL CQgaA/Iq3eGavsqyoCEW2S2HuulQ52dSnxAbvOh0zO7IKCvClh7xDOHbEym8+JEz5LJ/FYwNCkg je1O3c/lUHC78o9RCkBT/FCCdSaYCQHn5SLJomru4E32n X-Gm-Gg: ASbGncshtZQh5SavLHtRlkWAekoJqo0YO7M28BhpXp8RaAcIf2UYHmVz57SmixpPq0u eX/qPC/85sHogtp5GiyF07IjsjPHQ8ZEMIJ96X+DuM5xEQi9KhkGw378wIypIr2BJ2kWeUA4A/P Jw5ChpU5pQn1qNdvC0sMiQcBV3PXv7MDgjt9wOHVwPAx9KvVw10696Qnc149o8m1bIRBi/k7V98 qzfmNdDjw4q9R2YmuzFc4qUc/NIWb++rrwGknir/CAFxf9JOnwvVekrhwDp4lPhcIq859ik8jmL OEXU68bIzxYMDBO3CcWN3ttZgKp6Fsq4KxjTOxqLVi+T1tvUELPAIbMUbRtPIlSndEy7wznP X-Google-Smtp-Source: AGHT+IFh2pd4FEaLZO68sTwQpYbl+9bScsqz0rZThiUnrMqtZ2m69RCWMTKhgHSJ9BLG6MEBHI4GbkASAIA6 X-Received: by 2002:a05:690c:6e05:b0:70d:fd6f:b151 with SMTP id 00721157ae682-719ce8675f4mr2289107b3.11.1753322375345; Wed, 23 Jul 2025 18:59:35 -0700 (PDT) Received: from postal.iol.unh.edu (postal.iol.unh.edu. [132.177.123.84]) by smtp-relay.gmail.com with ESMTPS id 00721157ae682-719cb913d70sm272947b3.36.2025.07.23.18.59.35 (version=TLS1_2 cipher=ECDHE-ECDSA-AES128-GCM-SHA256 bits=128/128); Wed, 23 Jul 2025 18:59:35 -0700 (PDT) X-Relaying-Domain: iol.unh.edu Date: Wed, 23 Jul 2025 18:59:35 -0700 (PDT) Message-ID: <68819387.050a0220.16a39d.1995SMTPIN_ADDED_MISSING@mx.google.com> Received: from [172.21.0.3] (unknown [172.18.0.240]) by postal.iol.unh.edu (Postfix) with ESMTP id 07D616051830; Wed, 23 Jul 2025 21:59:35 -0400 (EDT) Subject: |SUCCESS| pw155483 [PATCH] net/tap: fix BPF build failure in cross-c From: dpdklab@iol.unh.edu To: Test Report Cc: dpdk-test-reports@iol.unh.edu In-Reply-To: <20250723125702.3787183-1-ashok.k.kaladi@intel.com> References: <20250723125702.3787183-1-ashok.k.kaladi@intel.com> Content-Type: text/plain X-BeenThere: test-report@dpdk.org X-Mailman-Version: 2.1.29 Precedence: list List-Id: automatic DPDK test reports List-Unsubscribe: , List-Archive: List-Post: List-Help: List-Subscribe: , Errors-To: test-report-bounces@dpdk.org Test-Label: iol-unit-arm64-testing Test-Status: SUCCESS http://dpdk.org/patch/155483 _Testing PASS_ Submitter: Ashok Kaladi Date: Wednesday, July 23 2025 12:57:02 DPDK git baseline: Repo:dpdk Branch: master CommitID:899bc9e500ccc718c12b1df4b920dcf0cbeb6265 155483 --> testing pass Upstream job id: Generic-Unit-Test-DPDK#357830 Test environment and result as below: +------------------------------+----------------+ | Environment | dpdk_unit_test | +==============================+================+ | CentOS Stream 10 | PASS | +------------------------------+----------------+ | CentOS Stream 9 | PASS | +------------------------------+----------------+ | Debian GNU/Linux 12 | PASS | +------------------------------+----------------+ | Fedora Linux 41 | PASS | +------------------------------+----------------+ | Fedora Linux 40 | PASS | +------------------------------+----------------+ | Ubuntu 22.04 | PASS | +------------------------------+----------------+ | Red Hat Enterprise Linux 9.5 | PASS | +------------------------------+----------------+ | Ubuntu 20.04 | PASS | +------------------------------+----------------+ | Ubuntu 24.04 | PASS | +------------------------------+----------------+ CentOS Stream 10 Kernel: 5.4 Compiler: gcc gcc (GCC) 14.2.1 20250110 (Red Hat 14.2.1-8) CentOS Stream 9 Kernel: 5.4 Compiler: gcc gcc (GCC) 11.5.0 20240719 (Red Hat 11.5.0-7) Debian GNU/Linux 12 Kernel: 5.4 Compiler: gcc gcc (Debian 12.2.0-14+deb12u1) 12.2.0 Fedora Linux 41 Kernel: 5.4 Compiler: gcc gcc (GCC) 14.3.1 20250523 (Red Hat 14.3.1-1) Fedora Linux 40 Kernel: 5.4 Compiler: clang gcc (GCC) 14.2.1 20240912 (Red Hat 14.2.1-3) Ubuntu 22.04 Kernel: 5.4 Compiler: gcc gcc (Ubuntu 11.4.0-1ubuntu1~22.04) 11.4.0 Red Hat Enterprise Linux 9.5 Kernel: 5.4 Compiler: gcc gcc (GCC) 11.5.0 20240719 (Red Hat 11.5.0-2) Ubuntu 20.04 Kernel: 5.4 Compiler: gcc gcc (Ubuntu 9.4.0-1ubuntu1~20.04.2) 9.4.0 Ubuntu 24.04 Kernel: 5.4 Compiler: gcc gcc (Ubuntu 13.3.0-6ubuntu2~24.04) 13.3.0 To view detailed results, visit: https://lab.dpdk.org/results/dashboard/patchsets/33740/ UNH-IOL DPDK Community Lab To manage your email subscriptions, visit: https://lab.dpdk.org/results/dashboard/preferences/subscriptions/