From mboxrd@z Thu Jan 1 00:00:00 1970 Return-Path: Received: from mails.dpdk.org (mails.dpdk.org [217.70.189.124]) by inbox.dpdk.org (Postfix) with ESMTP id DE01746BF7 for ; Thu, 24 Jul 2025 04:36:11 +0200 (CEST) Received: from mails.dpdk.org (localhost [127.0.0.1]) by mails.dpdk.org (Postfix) with ESMTP id C945240151; Thu, 24 Jul 2025 04:36:11 +0200 (CEST) Received: from mail-il1-f225.google.com (mail-il1-f225.google.com [209.85.166.225]) by mails.dpdk.org (Postfix) with ESMTP id 5ABC340151 for ; Thu, 24 Jul 2025 04:36:10 +0200 (CEST) Received: by mail-il1-f225.google.com with SMTP id e9e14a558f8ab-3e290cbe6d0so2290795ab.1 for ; Wed, 23 Jul 2025 19:36:10 -0700 (PDT) DKIM-Signature: v=1; a=rsa-sha256; c=relaxed/relaxed; d=iol.unh.edu; s=unh-iol; t=1753324569; x=1753929369; darn=dpdk.org; h=references:in-reply-to:cc:to:from:subject:message-id:date:from:to :cc:subject:date:message-id:reply-to; bh=UdmaYNmc+kbVgrvK5Q/m6m63N5ohVgF0s8xPNSJ31mk=; b=F8yiM/KlKgJ1q4GBRlGo7N3aipcr7LT5qtNe6XRn58BQfGtHi8hlAAiyXFgNHRyHA3 D9zRt3fjHki24dQeNpzA5P/8TObOwhnV+1W/kUlJxfi5gssEZ48iZGpNolUC/eezbNf2 bF2LFeRjJJZ4kDLZq0z5qHlv3stfGcOGcH9lg= X-Google-DKIM-Signature: v=1; a=rsa-sha256; c=relaxed/relaxed; d=1e100.net; s=20230601; t=1753324569; x=1753929369; h=references:in-reply-to:cc:to:from:subject:message-id:date :x-gm-message-state:from:to:cc:subject:date:message-id:reply-to; bh=UdmaYNmc+kbVgrvK5Q/m6m63N5ohVgF0s8xPNSJ31mk=; b=SbA2gc/ceXJiWHGp07yE8fxeLgoXkoyp6VFJasTNrsQ9lTk8DZjUo+in4f0LXGLwhU AFfG9faMdMWUS4gVw0GbtFGi1GEvcySKSBJRAdHj6yIOCGIsiPksaBFaewp2QRYIntjq tu+Ao50E8dXmbzQOPa0e2ugjH50aWKXLJPxJsaV4onGw1m+1b1TCNB7hRxlDlPAMSTbi 2x3KtfTHOf/x+vrZq8oEHyxEGwrFXnKU0b3lbFYDfPLZpGACdcPthSXrTVbH+AD9dqpD hMApJdRhLE5r9fqzS0MAf4S3qQNwWiFJWUKL4Q3tOiPhRFM7S2Zw5MdCMhdXop/Ssh29 mlyw== X-Gm-Message-State: AOJu0YxCWFwWCtQjMqLel0L4QkFqsRdgxiNcY2L+FXC1tp0VDvG1/uwb JPHjjU/MJoR0afboaW3/ifCRbSincjCYLJllp9wDFkBt/rtvccF/JyHHg4ej7H43tEfxB31+Rb+ xxwiMo4LzSeFPb4GFDFixHPVYsw6qAlbfPTpp9GQdWExvD8R/IsjDMGyDEdso X-Gm-Gg: ASbGncuNgHi4r9YluL2N5zhkL06DPRMrpifinsm/8/b1+RJqDQr6UiBVwvA/nKKn2vA seqrFVnPFscoFWS3Ip/Y8G4fTxiBsWVBGjNwzB7fMMTjU4GVsjV3O6n2FX54sZbA/nI2XuVJFoB FMoFCf/Q9phgo+e+C0j7YqlzqK1QEEon7u0ipn7zvDumGzb7tmrmPYnBUW5Q/OURFCS9KuoLSLC EEXgoA9dP3KMK9BcaSxbZlV8XBN61GiTExKD0adb7JiDhRDsazT3h36d6NUlpk2M1CRaCFnd2QR grMBW7LnJ+7BjGiNY84zjp/mi+qQEjQeSWmdPAX8y+oCPbI3Eg== X-Google-Smtp-Source: AGHT+IErgClikI9K6E2CT0Ugb2ieX6iC/5j4sPtGO64sAqcCbSNSv/1VuhSxA+c6IBQDssLoRZ/ibiFDIFu2 X-Received: by 2002:a05:6e02:1808:b0:3e2:91bb:c075 with SMTP id e9e14a558f8ab-3e335508d0dmr103569365ab.22.1753324569491; Wed, 23 Jul 2025 19:36:09 -0700 (PDT) Received: from postal.iol.unh.edu (postal.iol.unh.edu. [2606:4100:3880:1234::84]) by smtp-relay.gmail.com with ESMTPS id e9e14a558f8ab-3e3b70edabesm465805ab.12.2025.07.23.19.36.09 (version=TLS1_2 cipher=ECDHE-ECDSA-AES128-GCM-SHA256 bits=128/128); Wed, 23 Jul 2025 19:36:09 -0700 (PDT) X-Relaying-Domain: iol.unh.edu Date: Wed, 23 Jul 2025 19:36:09 -0700 (PDT) Message-ID: <68819c19.050a0220.1cf056.27beSMTPIN_ADDED_MISSING@mx.google.com> Received: from [172.21.0.2] (unknown [172.18.0.240]) by postal.iol.unh.edu (Postfix) with ESMTP id 2D6CD6051830; Wed, 23 Jul 2025 22:36:09 -0400 (EDT) Subject: |SUCCESS| pw155457 [PATCH] net/af_xdp: enable AF_XDP program attachm From: dpdklab@iol.unh.edu To: Test Report Cc: dpdk-test-reports@iol.unh.edu In-Reply-To: <20250723074249.3264675-1-shivajikant@google.com> References: <20250723074249.3264675-1-shivajikant@google.com> Content-Type: text/plain X-BeenThere: test-report@dpdk.org X-Mailman-Version: 2.1.29 Precedence: list List-Id: automatic DPDK test reports List-Unsubscribe: , List-Archive: List-Post: List-Help: List-Subscribe: , Errors-To: test-report-bounces@dpdk.org Test-Label: iol-compile-arm64-testing Test-Status: SUCCESS http://dpdk.org/patch/155457 _Testing PASS_ Submitter: Shivaji Kant Date: Wednesday, July 23 2025 07:42:49 DPDK git baseline: Repo:dpdk Branch: master CommitID:b78afde1fed9e11ee5cdce333a1a69dd7a9cf13e 155457 --> testing pass Upstream job id: Generic-DPDK-Compile-Meson#411547 Test environment and result as below: +------------------------------+--------------------+ | Environment | dpdk_meson_compile | +==============================+====================+ | Red Hat Enterprise Linux 9.5 | PASS | +------------------------------+--------------------+ | Ubuntu 20.04 | PASS | +------------------------------+--------------------+ | Debian GNU/Linux 12 | PASS | +------------------------------+--------------------+ | Fedora Linux 40 | PASS | +------------------------------+--------------------+ | Fedora Linux 41 | PASS | +------------------------------+--------------------+ | Ubuntu 22.04 | PASS | +------------------------------+--------------------+ | Ubuntu 24.04 | PASS | +------------------------------+--------------------+ | CentOS Stream 9 | PASS | +------------------------------+--------------------+ | CentOS Stream 10 | PASS | +------------------------------+--------------------+ Red Hat Enterprise Linux 9.5 Kernel: 5.4 Compiler: gcc gcc (GCC) 11.5.0 20240719 (Red Hat 11.5.0-2) Ubuntu 20.04 Kernel: 5.15 Compiler: aarch64-linux-gnu-gcc gcc (Ubuntu 9.4.0-1ubuntu1~20.04.2) 9.4.0 Debian GNU/Linux 12 Kernel: 5.4 Compiler: gcc gcc (Debian 12.2.0-14+deb12u1) 12.2.0 Fedora Linux 40 Kernel: 5.4 Compiler: gcc gcc (GCC) 14.2.1 20240912 (Red Hat 14.2.1-3) Fedora Linux 41 Kernel: 5.4 Compiler: gcc gcc (GCC) 14.3.1 20250523 (Red Hat 14.3.1-1) Ubuntu 22.04 Kernel: 5.4 Compiler: gcc gcc (Ubuntu 11.4.0-1ubuntu1~22.04) 11.4.0 Ubuntu 24.04 Kernel: 5.4 Compiler: gcc gcc (Ubuntu 13.3.0-6ubuntu2~24.04) 13.3.0 CentOS Stream 9 Kernel: 5.4 Compiler: gcc gcc (GCC) 11.5.0 20240719 (Red Hat 11.5.0-7) CentOS Stream 10 Kernel: 5.4 Compiler: gcc gcc (GCC) 14.2.1 20250110 (Red Hat 14.2.1-8) To view detailed results, visit: https://lab.dpdk.org/results/dashboard/patchsets/33735/ UNH-IOL DPDK Community Lab To manage your email subscriptions, visit: https://lab.dpdk.org/results/dashboard/preferences/subscriptions/