From mboxrd@z Thu Jan 1 00:00:00 1970 Return-Path: Received: from mails.dpdk.org (mails.dpdk.org [217.70.189.124]) by inbox.dpdk.org (Postfix) with ESMTP id E5E2546BF7 for ; Thu, 24 Jul 2025 04:36:31 +0200 (CEST) Received: from mails.dpdk.org (localhost [127.0.0.1]) by mails.dpdk.org (Postfix) with ESMTP id E1BA440151; Thu, 24 Jul 2025 04:36:31 +0200 (CEST) Received: from mail-pf1-f228.google.com (mail-pf1-f228.google.com [209.85.210.228]) by mails.dpdk.org (Postfix) with ESMTP id BCD3140151 for ; Thu, 24 Jul 2025 04:36:30 +0200 (CEST) Received: by mail-pf1-f228.google.com with SMTP id d2e1a72fcca58-749068b9b63so389896b3a.0 for ; Wed, 23 Jul 2025 19:36:30 -0700 (PDT) DKIM-Signature: v=1; a=rsa-sha256; c=relaxed/relaxed; d=iol.unh.edu; s=unh-iol; t=1753324590; x=1753929390; darn=dpdk.org; h=references:in-reply-to:cc:to:from:subject:message-id:date:from:to :cc:subject:date:message-id:reply-to; bh=ZE27QYrKI1Jvtr9iXPFteifw6qDeyfHgX3ouJe9HXvM=; b=Gn1NLWEESNwBUxxjWt1CWiIjjPHxdJ6Rr+ryBMBTm9x9+rphKT+tfp60ORvtufA/CN G0q93Xm4SV1FZMAEcNzqVSTIl9SiMbeKJn/hqXl2MhUjjg6Ep2awgqqadRGt/DwhL8yB JHfS8RVZET0VG2mTXTHOYhjNw9lGIGIIISEbw= X-Google-DKIM-Signature: v=1; a=rsa-sha256; c=relaxed/relaxed; d=1e100.net; s=20230601; t=1753324590; x=1753929390; h=references:in-reply-to:cc:to:from:subject:message-id:date :x-gm-message-state:from:to:cc:subject:date:message-id:reply-to; bh=ZE27QYrKI1Jvtr9iXPFteifw6qDeyfHgX3ouJe9HXvM=; b=osdJ2ahF30rbBqTmeVKKyrdMY1jwEbJHb+ht9HX3ufUalkz9QfYMBhFvGyHHEFPcD3 HiZYDKuCqqpVs+avoVfi/Shx3me5qI7J9NxaXtEDH/Hepwv55tuItmqP/Gota94jGuNO FewoqlOtXUCn1Z34iicmkNPIbH2hhSkINHxKmxZu5EwZJzfWw23R4oVUou+HSmAR+rZC wMKCHOsmeziahoPjXPrzTdFYDO3E1tlOjvGtHxJyOGY08PAd5qUVTjgEdD7uWHjvHCf7 v+HmKAVhOOWTR/CVcmCl95sAsWX2iLMqLXgsnTrSOG8LyCFORyuq9yON+kcSk7RRMB9G 3Kyg== X-Gm-Message-State: AOJu0Ywx/JaWDGDj0WmZqEjAiDC2PSZEO9p5PemTgFvfj7yT7NHd8E+r r9pi6f7RijRMAiZtDdKBccD+rNxN6pSCuRzNVU7g4Z5TL+CCb0xrcGkF7fMKYWvfSsx9FhADlaj +Rjm2DvjqjxHTUluyVsdFCumNWR2VfM4VS6Manc5gYgITXhyUBK9HtcENkNS6 X-Gm-Gg: ASbGncuhcX+5TekHbbs+GVuNFstWXhPvGoG5YBa+xfk3H7/45eYV+Y4gkMhcvx4Juok c82FwCQV5fj8rgO83BNCnFFe2xvuCMZ4u4ifH4amLBkYAdj9SHXoX5ELsQBAx6owqW6UlZLqyZM XaMchf8KodJdzKWsnDGLeRaMB4faQc9BXkWWdrCrQaggZceVDSLPDlS9s3/2VkjisjIX2OWgLXN iUVrdtTlmx98Yfa0jhRw1WbaImdpNnAoKnnvzDJFzIrhM1D65xPwoiEWTf+v5xXaq79R9u88FEQ ggloxVecrEM5ubT+e9AwdgFjADjMxnaWOf88FYerh37D6lfhnQ== X-Google-Smtp-Source: AGHT+IHeMJYVs0ZRpsafpiZQWTbg0ee9/WVZMNbd1vvQMbMtHJu8Qpoh+cMAfBrDoemvrn0OfSLL5m418gL7 X-Received: by 2002:a05:6a00:14ce:b0:73d:fefb:325 with SMTP id d2e1a72fcca58-76034c002ffmr8037568b3a.5.1753324589844; Wed, 23 Jul 2025 19:36:29 -0700 (PDT) Received: from postal.iol.unh.edu (postal.iol.unh.edu. [2606:4100:3880:1234::84]) by smtp-relay.gmail.com with ESMTPS id d2e1a72fcca58-761b00bbf45sm36958b3a.11.2025.07.23.19.36.29 (version=TLS1_2 cipher=ECDHE-ECDSA-AES128-GCM-SHA256 bits=128/128); Wed, 23 Jul 2025 19:36:29 -0700 (PDT) X-Relaying-Domain: iol.unh.edu Date: Wed, 23 Jul 2025 19:36:29 -0700 (PDT) Message-ID: <68819c2d.050a0220.30ff70.1f39SMTPIN_ADDED_MISSING@mx.google.com> Received: from [172.21.0.2] (unknown [172.18.0.240]) by postal.iol.unh.edu (Postfix) with ESMTP id 1D1CA6051830; Wed, 23 Jul 2025 22:36:29 -0400 (EDT) Subject: |SUCCESS| pw155457 [PATCH] net/af_xdp: enable AF_XDP program attachm From: dpdklab@iol.unh.edu To: Test Report Cc: dpdk-test-reports@iol.unh.edu In-Reply-To: <20250723074249.3264675-1-shivajikant@google.com> References: <20250723074249.3264675-1-shivajikant@google.com> Content-Type: text/plain X-BeenThere: test-report@dpdk.org X-Mailman-Version: 2.1.29 Precedence: list List-Id: automatic DPDK test reports List-Unsubscribe: , List-Archive: List-Post: List-Help: List-Subscribe: , Errors-To: test-report-bounces@dpdk.org Test-Label: iol-compile-arm64-testing Test-Status: SUCCESS http://dpdk.org/patch/155457 _Testing PASS_ Submitter: Shivaji Kant Date: Wednesday, July 23 2025 07:42:49 DPDK git baseline: Repo:dpdk Branch: master CommitID:b78afde1fed9e11ee5cdce333a1a69dd7a9cf13e 155457 --> testing pass Upstream job id: Generic-DPDK-Compile-Meson#411545 Test environment and result as below: +------------------------------+--------------------+ | Environment | dpdk_meson_compile | +==============================+====================+ | Red Hat Enterprise Linux 9.5 | PASS | +------------------------------+--------------------+ | Ubuntu 20.04 | PASS | +------------------------------+--------------------+ | Debian GNU/Linux 12 | PASS | +------------------------------+--------------------+ | Fedora Linux 40 | PASS | +------------------------------+--------------------+ | Fedora Linux 41 | PASS | +------------------------------+--------------------+ | Ubuntu 22.04 | PASS | +------------------------------+--------------------+ | Ubuntu 24.04 | PASS | +------------------------------+--------------------+ | CentOS Stream 9 | PASS | +------------------------------+--------------------+ | CentOS Stream 10 | PASS | +------------------------------+--------------------+ Red Hat Enterprise Linux 9.5 Kernel: 5.4 Compiler: gcc gcc (GCC) 11.5.0 20240719 (Red Hat 11.5.0-2) Ubuntu 20.04 Kernel: 5.15 Compiler: aarch64-linux-gnu-gcc gcc (Ubuntu 9.4.0-1ubuntu1~20.04.2) 9.4.0 Debian GNU/Linux 12 Kernel: 5.4 Compiler: gcc gcc (Debian 12.2.0-14+deb12u1) 12.2.0 Fedora Linux 40 Kernel: 5.4 Compiler: gcc gcc (GCC) 14.2.1 20240912 (Red Hat 14.2.1-3) Fedora Linux 41 Kernel: 5.4 Compiler: gcc gcc (GCC) 14.3.1 20250523 (Red Hat 14.3.1-1) Ubuntu 22.04 Kernel: 5.4 Compiler: gcc gcc (Ubuntu 11.4.0-1ubuntu1~22.04) 11.4.0 Ubuntu 24.04 Kernel: 5.4 Compiler: gcc gcc (Ubuntu 13.3.0-6ubuntu2~24.04) 13.3.0 CentOS Stream 9 Kernel: 5.4 Compiler: gcc gcc (GCC) 11.5.0 20240719 (Red Hat 11.5.0-7) CentOS Stream 10 Kernel: 5.4 Compiler: gcc gcc (GCC) 14.2.1 20250110 (Red Hat 14.2.1-8) To view detailed results, visit: https://lab.dpdk.org/results/dashboard/patchsets/33735/ UNH-IOL DPDK Community Lab To manage your email subscriptions, visit: https://lab.dpdk.org/results/dashboard/preferences/subscriptions/