From mboxrd@z Thu Jan 1 00:00:00 1970 Return-Path: Received: from mails.dpdk.org (mails.dpdk.org [217.70.189.124]) by inbox.dpdk.org (Postfix) with ESMTP id 1A28B46BF7 for ; Thu, 24 Jul 2025 04:36:49 +0200 (CEST) Received: from mails.dpdk.org (localhost [127.0.0.1]) by mails.dpdk.org (Postfix) with ESMTP id F2C4F40151; Thu, 24 Jul 2025 04:36:48 +0200 (CEST) Received: from mail-pl1-f228.google.com (mail-pl1-f228.google.com [209.85.214.228]) by mails.dpdk.org (Postfix) with ESMTP id 1717640151 for ; Thu, 24 Jul 2025 04:36:47 +0200 (CEST) Received: by mail-pl1-f228.google.com with SMTP id d9443c01a7336-234fcadde3eso6068195ad.0 for ; Wed, 23 Jul 2025 19:36:47 -0700 (PDT) DKIM-Signature: v=1; a=rsa-sha256; c=relaxed/relaxed; d=iol.unh.edu; s=unh-iol; t=1753324606; x=1753929406; darn=dpdk.org; h=references:in-reply-to:cc:to:from:subject:message-id:date:from:to :cc:subject:date:message-id:reply-to; bh=ogmwGx9XJz2n/z7ZImxJ1n2ofDe77fFBYMkxlDWxxtI=; b=YY5hCfNuHNySGvjfBEHkTa5gGeVBbZOymtaQ3eFFvglmDLKzvs5SldH8PFWKtCjl26 mTvC4UyoKpppUZpYQaw3+J3fvKF8iCPeORuytNCSUjK/jL/0Mm+GiQTebFpf2BgsGKJa o7CbaiZLR8L+50WsrCQcUEK4dKtAtvsnO8eeI= X-Google-DKIM-Signature: v=1; a=rsa-sha256; c=relaxed/relaxed; d=1e100.net; s=20230601; t=1753324606; x=1753929406; h=references:in-reply-to:cc:to:from:subject:message-id:date :x-gm-message-state:from:to:cc:subject:date:message-id:reply-to; bh=ogmwGx9XJz2n/z7ZImxJ1n2ofDe77fFBYMkxlDWxxtI=; b=XnsuMMnHQ/SDsLPIwTwfEPG91Mtt1oOQeppVfcV6Lm1hje7paouMY9mdHCctXSPc8y z/7dYMWelE2qi/zDCidc74kixl8xrFKr1fSOTc2GMS7WgvCY0X23pI31uKaj6Urp8gpD NZXIC6KiwiHM2Vp96DUShbHi8eBOsei2/clRvd55aGhoDZyQWI8Q4yIRHujyakhUaTCf xoMNR4cyoTUyHCuWKIWS7vskm6U2BCayD/doUIIpdsJC8lnyzTLbzPfqCaxlSDEJwzCQ UaLPbmwi8Tg00KzBCFNsYCgAmNemdkUPfybs+kJ2sAvvMDXlgGYQ3w/AOLUMPe4FqqQv W1CQ== X-Gm-Message-State: AOJu0YzPXe3cLNT2eLup1SxAm66cRNIC3I60/DC+8Zgw2C7z8gKKPCnw +bpAXJo/oSWmP0NIf+y1e0dE+I2YTAso/DQKsRwx8QVpu3u8etMPWoYdk7CzCh+rj3Xz1vOpftf HZpA+UPUyxXkYs7hLZOFTaTYsh8aGfQoTRhm5ibekuaFuEywMv/6s3SfXv251 X-Gm-Gg: ASbGncvaIfDXFT+CdIspw7sIMUVU5xPL/QeoFa6e9cctiAoafvz4cgBJ9Weutj/G1bq Gh1T7ri1PRXO8b6LEb0dpLod2XaHIxhpFZoP7w9Etm2Yn3bcad7Q9SWpukjkSO+p3uRNkdiqtnQ suTIRv3BPoTgcMDucIDzIkp3FYq1QDD3/jbyangNuErOhhG57DO26u4lu23PbeMIs6J7PgD0/r5 GFnLhUpJNiIITXdHegVNwBbPcEaPVj1GnFykW+0s8bJxwQktnoJ29TkV5K4XgA7m5lh5eaqhRKC srYFKD7clPxmQf3Qe7+O8Mtm04S4kVdS7fpZ8ZbRhnIH1bV3nA== X-Google-Smtp-Source: AGHT+IH3OisNn12DuE5UAqGqtfSGd13NeQGavnEFBRxhgtmYCpHRJ+7c8Nct24/gQrIkk0CxWxvECy2G7ope X-Received: by 2002:a17:902:e542:b0:235:eb71:a398 with SMTP id d9443c01a7336-23f981d391emr65454665ad.53.1753324606113; Wed, 23 Jul 2025 19:36:46 -0700 (PDT) Received: from postal.iol.unh.edu (postal.iol.unh.edu. [2606:4100:3880:1234::84]) by smtp-relay.gmail.com with ESMTPS id d9443c01a7336-23fa4763947sm258855ad.17.2025.07.23.19.36.46 (version=TLS1_2 cipher=ECDHE-ECDSA-AES128-GCM-SHA256 bits=128/128); Wed, 23 Jul 2025 19:36:46 -0700 (PDT) X-Relaying-Domain: iol.unh.edu Date: Wed, 23 Jul 2025 19:36:46 -0700 (PDT) Message-ID: <68819c3e.170a0220.aea60.16baSMTPIN_ADDED_MISSING@mx.google.com> Received: from [172.21.0.2] (unknown [172.18.0.240]) by postal.iol.unh.edu (Postfix) with ESMTP id 4F3A56051830; Wed, 23 Jul 2025 22:36:45 -0400 (EDT) Subject: |SUCCESS| pw155458 [PATCH] net: fix incorrect L2 length for GRE tunn From: dpdklab@iol.unh.edu To: Test Report Cc: dpdk-test-reports@iol.unh.edu In-Reply-To: <20250723104710.558623-1-huangdengdui@huawei.com> References: <20250723104710.558623-1-huangdengdui@huawei.com> Content-Type: text/plain X-BeenThere: test-report@dpdk.org X-Mailman-Version: 2.1.29 Precedence: list List-Id: automatic DPDK test reports List-Unsubscribe: , List-Archive: List-Post: List-Help: List-Subscribe: , Errors-To: test-report-bounces@dpdk.org Test-Label: iol-compile-arm64-testing Test-Status: SUCCESS http://dpdk.org/patch/155458 _Testing PASS_ Submitter: Dengdui Huang Date: Wednesday, July 23 2025 10:47:10 DPDK git baseline: Repo:dpdk Branch: master CommitID:b222395561638f89562e4ef42e1eabf2d6db43dd 155458 --> testing pass Upstream job id: Generic-DPDK-Compile-Meson#411576 Test environment and result as below: +------------------------------+--------------------+ | Environment | dpdk_meson_compile | +==============================+====================+ | Red Hat Enterprise Linux 9.5 | PASS | +------------------------------+--------------------+ | Ubuntu 20.04 | PASS | +------------------------------+--------------------+ | Debian GNU/Linux 12 | PASS | +------------------------------+--------------------+ | Fedora Linux 40 | PASS | +------------------------------+--------------------+ | Fedora Linux 41 | PASS | +------------------------------+--------------------+ | Ubuntu 22.04 | PASS | +------------------------------+--------------------+ | Ubuntu 24.04 | PASS | +------------------------------+--------------------+ | CentOS Stream 9 | PASS | +------------------------------+--------------------+ | CentOS Stream 10 | PASS | +------------------------------+--------------------+ Red Hat Enterprise Linux 9.5 Kernel: 5.4 Compiler: gcc gcc (GCC) 11.5.0 20240719 (Red Hat 11.5.0-2) Ubuntu 20.04 Kernel: 5.15 Compiler: aarch64-linux-gnu-gcc gcc (Ubuntu 9.4.0-1ubuntu1~20.04.2) 9.4.0 Debian GNU/Linux 12 Kernel: 5.4 Compiler: gcc gcc (Debian 12.2.0-14+deb12u1) 12.2.0 Fedora Linux 40 Kernel: 5.4 Compiler: gcc gcc (GCC) 14.2.1 20240912 (Red Hat 14.2.1-3) Fedora Linux 41 Kernel: 5.4 Compiler: gcc gcc (GCC) 14.3.1 20250523 (Red Hat 14.3.1-1) Ubuntu 22.04 Kernel: 5.4 Compiler: gcc gcc (Ubuntu 11.4.0-1ubuntu1~22.04) 11.4.0 Ubuntu 24.04 Kernel: 5.4 Compiler: gcc gcc (Ubuntu 13.3.0-6ubuntu2~24.04) 13.3.0 CentOS Stream 9 Kernel: 5.4 Compiler: gcc gcc (GCC) 11.5.0 20240719 (Red Hat 11.5.0-7) CentOS Stream 10 Kernel: 5.4 Compiler: gcc gcc (GCC) 14.2.1 20250110 (Red Hat 14.2.1-8) To view detailed results, visit: https://lab.dpdk.org/results/dashboard/patchsets/33736/ UNH-IOL DPDK Community Lab To manage your email subscriptions, visit: https://lab.dpdk.org/results/dashboard/preferences/subscriptions/