From mboxrd@z Thu Jan 1 00:00:00 1970 Return-Path: Received: from mails.dpdk.org (mails.dpdk.org [217.70.189.124]) by inbox.dpdk.org (Postfix) with ESMTP id 2E85B46BF7 for ; Thu, 24 Jul 2025 04:37:07 +0200 (CEST) Received: from mails.dpdk.org (localhost [127.0.0.1]) by mails.dpdk.org (Postfix) with ESMTP id 2A78040151; Thu, 24 Jul 2025 04:37:07 +0200 (CEST) Received: from mail-il1-f225.google.com (mail-il1-f225.google.com [209.85.166.225]) by mails.dpdk.org (Postfix) with ESMTP id E7D7F40151 for ; Thu, 24 Jul 2025 04:37:05 +0200 (CEST) Received: by mail-il1-f225.google.com with SMTP id e9e14a558f8ab-3e2a60aeb26so3462095ab.1 for ; Wed, 23 Jul 2025 19:37:05 -0700 (PDT) DKIM-Signature: v=1; a=rsa-sha256; c=relaxed/relaxed; d=iol.unh.edu; s=unh-iol; t=1753324625; x=1753929425; darn=dpdk.org; h=references:in-reply-to:cc:to:from:subject:message-id:date:from:to :cc:subject:date:message-id:reply-to; bh=xSQ8t9CdCtLU8lRY4Bvcp4Xlqfanj9G9QkIKen6OGYk=; b=gIZPJNLaQ3f/aiM7gfwRxU0o01YGZHz//UeTdsBwUVO0n0p6Qfbtcqs8+aenYgYfYP AElCwpxg0ESb+oO3XKPud+vFC4hIx7lF0GvBLwb7ZX+CMQIMq2g+zIlBIY5kZjTrFylW v3voYGDp6ayrkxY6eGvT9ZhyYdPulDjnuM9Ns= X-Google-DKIM-Signature: v=1; a=rsa-sha256; c=relaxed/relaxed; d=1e100.net; s=20230601; t=1753324625; x=1753929425; h=references:in-reply-to:cc:to:from:subject:message-id:date :x-gm-message-state:from:to:cc:subject:date:message-id:reply-to; bh=xSQ8t9CdCtLU8lRY4Bvcp4Xlqfanj9G9QkIKen6OGYk=; b=W8eRiAwSNBBVY4/2acN1yD42fdu33BTdrTmgDXb7vSDVOccSGuEBlF2t9cYyQEAhef EjpRdmpvf2TH846xOUwtwDggrN0wXG8ghrOA4KAD/ZdISRc2cTAPvqz6mobpkd+OmBNq idsg2Ca87iHQT/nVFsHhjZW5WQ1nUHLFxnQZkFpAHGgw2misqAZhael57cuagOjZUCC1 c5CAi0axusbfKzupyKDgCSRx+2Lh05GxB2s/zVlEpD1C4XCmKnY7nD2DcqBi5LNTNUXe 4x4KEciU92DLhf2vkPs/MyPChGUiRPhPVIegObuELjLc0qBwpuiBAd8YxgX1bTRF5Buz vzog== X-Gm-Message-State: AOJu0YxxI8IYcPWyGxfXMTZ/W0N59+5XNUoaYeutrKWSNNop/hRn2PX9 PwWthrKMG/LxkPMidfGSdAANefH2URr3PTENh71A9QNKHjo9b6cXuo6cMSwCHSHuVydonCJV4Hv akp7OQERWc0pt2j+bWnT+gKYhaF+jXMAfCVcuUCuGdjSk X-Gm-Gg: ASbGncvORYcOXBt4QmbNtMysl6hma6Kp9Lrxs+boKn/x5UsUJ7AUk96tcx+OHtS/xXo cmn9N/qXjDpwsqTHMrjL17UwQrO8oE+p3MGb99aITpVqGeZh2XTKkKWzrJKZIWwU2Mp2c/61lcb Ito8DJwL5eLE5SKAq3E//2ZpX24riR3qFwGXUe2lmXELTZ6hURIByNuHxtV/r4iiG17l2hXg2ab 0icmgkJRpjwNEaBZK6YDciYWIYswrrkKH60TpkXQgfKvdCEFlWRkudN8RyJ3hWeu3inqNpMMFLX DXuUjEffA96CiFQDWLf3NPxwOXc/Y7xhYXzym2dSvV58iDuC83HZSOcNBlDj9xd6WZhe6nAT X-Google-Smtp-Source: AGHT+IEiUJCkeUCNzDvR/tlKZMTSXpA64cXu4BkF0/V+a9tEUSfCbOsGrh3aGeA0qoa90Xr28jZ3jXRddx1Q X-Received: by 2002:a05:6e02:2507:b0:3e2:9e8b:b64 with SMTP id e9e14a558f8ab-3e32991ea20mr80835535ab.0.1753324625312; Wed, 23 Jul 2025 19:37:05 -0700 (PDT) Received: from postal.iol.unh.edu (postal.iol.unh.edu. [132.177.123.84]) by smtp-relay.gmail.com with ESMTPS id e9e14a558f8ab-3e3b710b3fesm444555ab.22.2025.07.23.19.37.05 (version=TLS1_2 cipher=ECDHE-ECDSA-AES128-GCM-SHA256 bits=128/128); Wed, 23 Jul 2025 19:37:05 -0700 (PDT) X-Relaying-Domain: iol.unh.edu Date: Wed, 23 Jul 2025 19:37:05 -0700 (PDT) Message-ID: <68819c51.050a0220.39a24f.258eSMTPIN_ADDED_MISSING@mx.google.com> Received: from [172.21.0.3] (unknown [172.18.0.240]) by postal.iol.unh.edu (Postfix) with ESMTP id 8ACA26051830; Wed, 23 Jul 2025 22:37:04 -0400 (EDT) Subject: |SUCCESS| pw155458 [PATCH] net: fix incorrect L2 length for GRE tunn From: dpdklab@iol.unh.edu To: Test Report Cc: dpdk-test-reports@iol.unh.edu In-Reply-To: <20250723104710.558623-1-huangdengdui@huawei.com> References: <20250723104710.558623-1-huangdengdui@huawei.com> Content-Type: text/plain X-BeenThere: test-report@dpdk.org X-Mailman-Version: 2.1.29 Precedence: list List-Id: automatic DPDK test reports List-Unsubscribe: , List-Archive: List-Post: List-Help: List-Subscribe: , Errors-To: test-report-bounces@dpdk.org Test-Label: iol-compile-arm64-testing Test-Status: SUCCESS http://dpdk.org/patch/155458 _Testing PASS_ Submitter: Dengdui Huang Date: Wednesday, July 23 2025 10:47:10 DPDK git baseline: Repo:dpdk Branch: master CommitID:b222395561638f89562e4ef42e1eabf2d6db43dd 155458 --> testing pass Upstream job id: Generic-DPDK-Compile-Meson#411578 Test environment and result as below: +------------------------------+--------------------+ | Environment | dpdk_meson_compile | +==============================+====================+ | Red Hat Enterprise Linux 9.5 | PASS | +------------------------------+--------------------+ | Ubuntu 20.04 | PASS | +------------------------------+--------------------+ | Debian GNU/Linux 12 | PASS | +------------------------------+--------------------+ | Fedora Linux 40 | PASS | +------------------------------+--------------------+ | Fedora Linux 41 | PASS | +------------------------------+--------------------+ | Ubuntu 22.04 | PASS | +------------------------------+--------------------+ | Ubuntu 24.04 | PASS | +------------------------------+--------------------+ | CentOS Stream 9 | PASS | +------------------------------+--------------------+ | CentOS Stream 10 | PASS | +------------------------------+--------------------+ Red Hat Enterprise Linux 9.5 Kernel: 5.4 Compiler: gcc gcc (GCC) 11.5.0 20240719 (Red Hat 11.5.0-2) Ubuntu 20.04 Kernel: 5.15 Compiler: aarch64-linux-gnu-gcc gcc (Ubuntu 9.4.0-1ubuntu1~20.04.2) 9.4.0 Debian GNU/Linux 12 Kernel: 5.4 Compiler: gcc gcc (Debian 12.2.0-14+deb12u1) 12.2.0 Fedora Linux 40 Kernel: 5.4 Compiler: gcc gcc (GCC) 14.2.1 20240912 (Red Hat 14.2.1-3) Fedora Linux 41 Kernel: 5.4 Compiler: gcc gcc (GCC) 14.3.1 20250523 (Red Hat 14.3.1-1) Ubuntu 22.04 Kernel: 5.4 Compiler: gcc gcc (Ubuntu 11.4.0-1ubuntu1~22.04) 11.4.0 Ubuntu 24.04 Kernel: 5.4 Compiler: gcc gcc (Ubuntu 13.3.0-6ubuntu2~24.04) 13.3.0 CentOS Stream 9 Kernel: 5.4 Compiler: gcc gcc (GCC) 11.5.0 20240719 (Red Hat 11.5.0-7) CentOS Stream 10 Kernel: 5.4 Compiler: gcc gcc (GCC) 14.2.1 20250110 (Red Hat 14.2.1-8) To view detailed results, visit: https://lab.dpdk.org/results/dashboard/patchsets/33736/ UNH-IOL DPDK Community Lab To manage your email subscriptions, visit: https://lab.dpdk.org/results/dashboard/preferences/subscriptions/