From mboxrd@z Thu Jan 1 00:00:00 1970 Return-Path: Received: from mails.dpdk.org (mails.dpdk.org [217.70.189.124]) by inbox.dpdk.org (Postfix) with ESMTP id 0A4DE46BF7 for ; Thu, 24 Jul 2025 04:46:11 +0200 (CEST) Received: from mails.dpdk.org (localhost [127.0.0.1]) by mails.dpdk.org (Postfix) with ESMTP id D96B540151; Thu, 24 Jul 2025 04:46:10 +0200 (CEST) Received: from mail-qv1-f100.google.com (mail-qv1-f100.google.com [209.85.219.100]) by mails.dpdk.org (Postfix) with ESMTP id AA2AF40151 for ; Thu, 24 Jul 2025 04:46:09 +0200 (CEST) Received: by mail-qv1-f100.google.com with SMTP id 6a1803df08f44-6faf66905baso6103866d6.2 for ; Wed, 23 Jul 2025 19:46:09 -0700 (PDT) DKIM-Signature: v=1; a=rsa-sha256; c=relaxed/relaxed; d=iol.unh.edu; s=unh-iol; t=1753325169; x=1753929969; darn=dpdk.org; h=references:in-reply-to:cc:to:from:subject:message-id:date:from:to :cc:subject:date:message-id:reply-to; bh=QNTIoEA1sc1m0JiOC+TqxBoXMo55yuwnK87M4a6iaqY=; b=gqCq6PK9epFynoIoq7/r0J/Lh5QOsb0gaovo/vy56ngDjLIVvc/Iw4eXRYPBXsU8w8 oiWMHZK7bXBrB/YUesIUGVggGQcm5q7Nl2GUa9M+5ZNSVndotXys5ND4YaZbwXgVYcId OSfEzInrlP00SeQSeCYoaE9TyaQg2CpUKRsa4= X-Google-DKIM-Signature: v=1; a=rsa-sha256; c=relaxed/relaxed; d=1e100.net; s=20230601; t=1753325169; x=1753929969; h=references:in-reply-to:cc:to:from:subject:message-id:date :x-gm-message-state:from:to:cc:subject:date:message-id:reply-to; bh=QNTIoEA1sc1m0JiOC+TqxBoXMo55yuwnK87M4a6iaqY=; b=rYnRixYXbEBwQJF8oq1XhN96iPy2lXlaU9pUgBFRA9F6RxX0IkT058JFQWYEn8K0bq WvU+VlxE/9y4KWKwobWV1LXBSWSzZ/58/OwbgWKKCYbAGs1bWMHDLPK5i3SK4+TNp3F8 Z6IR1i+bXJJkYAgs1p9RfIx0bciMCxU4HEVn+HuhV05Gr27dBdDcwm+eTGiPFlmeM5S9 +1TAoQyflBLWlKvzuP7AgEzQmN/qOigwurESKAt2FZQpsgAKAr+p3wZb/mQm0bT+lTKF 9YuGGTFswzWMzKe48r2sIOFx9rIWA/aaG8BDOCumvb8sjjNCCtQODT8NBXwRkoXvMhMz V6Vg== X-Gm-Message-State: AOJu0Yxre2Z1LkeEbn/pW9vtSYDehO82Dln7vPpzkoaW1g0HQbP2FrC9 yMP7vHXje5b2oASMN5Z2vKanNaPs71nLkLtUBIFJLSgRZetO6BGW2Ix0VsDbMylV4+6wo58/CDj EY0QZlSfDIgM6nBg9Shetp0+DmIYo9c8Ldhb+coEXQYnpKAE1vndbhBchMQ6G X-Gm-Gg: ASbGncvnwZZrfPlqLT5Fa+Q4dzZMFfGWCMFyAVV2PHPzW0q/jOA9pclCNlOPMwrkwQX NRfGh8LdxJ8JV8SU6ndlFoEYK1vrZFSH2A9VZSpx8yPyQnc7VPMHsD+/SDx8VM9acwcMsSTyXSQ fdk5t7H5qEvERDDPXFR/6hHUKJzRzHWT0JAaCH+ZQ38iiuHLXJLCsmm55sebcfYgB40gcgedoa8 6SkDMI4Oi4HRstSTtT7jgHgrYuNicbQB8V9M2dcf5wdGIjbJI47Eqs0HxYjxo4afwJtK9DzOpjj GF7zxGiBtx4olyEP9CA4nIDYyUfA59dd4kG5PscL5hb+gifVXQ== X-Google-Smtp-Source: AGHT+IElPzW5KCK3y1IZNsI6X4tCOG3bNNeJxZhqnaaC8OzVSPOGkbm8gtlfzqBbBD7hlv1hJrr1vV64cGdp X-Received: by 2002:a05:6214:4108:b0:6fb:59de:f8ab with SMTP id 6a1803df08f44-70700489473mr88508406d6.10.1753325168978; Wed, 23 Jul 2025 19:46:08 -0700 (PDT) Received: from postal.iol.unh.edu (postal.iol.unh.edu. [2606:4100:3880:1234::84]) by smtp-relay.gmail.com with ESMTPS id 6a1803df08f44-707102fda86sm327436d6.47.2025.07.23.19.46.08 (version=TLS1_2 cipher=ECDHE-ECDSA-AES128-GCM-SHA256 bits=128/128); Wed, 23 Jul 2025 19:46:08 -0700 (PDT) X-Relaying-Domain: iol.unh.edu Date: Wed, 23 Jul 2025 19:46:08 -0700 (PDT) Message-ID: <68819e70.d40a0220.154d1a.1bc3SMTPIN_ADDED_MISSING@mx.google.com> Received: from [172.21.0.5] (unknown [172.18.0.240]) by postal.iol.unh.edu (Postfix) with ESMTP id 9AB656051830; Wed, 23 Jul 2025 22:46:08 -0400 (EDT) Subject: |SUCCESS| pw155459 [PATCH] [v3] lib/ethdev: fix segfault in secondar From: dpdklab@iol.unh.edu To: Test Report Cc: dpdk-test-reports@iol.unh.edu In-Reply-To: <20250723131049.1703172-1-14pwcse1224@uetpeshawar.edu.pk> References: <20250723131049.1703172-1-14pwcse1224@uetpeshawar.edu.pk> Content-Type: text/plain X-BeenThere: test-report@dpdk.org X-Mailman-Version: 2.1.29 Precedence: list List-Id: automatic DPDK test reports List-Unsubscribe: , List-Archive: List-Post: List-Help: List-Subscribe: , Errors-To: test-report-bounces@dpdk.org Test-Label: iol-compile-arm64-testing Test-Status: SUCCESS http://dpdk.org/patch/155459 _Testing PASS_ Submitter: Khadem Ullah <14pwcse1224@uetpeshawar.edu.pk> Date: Wednesday, July 23 2025 13:10:49 DPDK git baseline: Repo:dpdk Branch: master CommitID:b78afde1fed9e11ee5cdce333a1a69dd7a9cf13e 155459 --> testing pass Upstream job id: Generic-DPDK-Compile-Meson#411590 Test environment and result as below: +------------------------------+--------------------+ | Environment | dpdk_meson_compile | +==============================+====================+ | Red Hat Enterprise Linux 9.5 | PASS | +------------------------------+--------------------+ | Ubuntu 20.04 | PASS | +------------------------------+--------------------+ | Fedora Linux 40 | PASS | +------------------------------+--------------------+ | Fedora Linux 41 | PASS | +------------------------------+--------------------+ | Ubuntu 22.04 | PASS | +------------------------------+--------------------+ | Ubuntu 24.04 | PASS | +------------------------------+--------------------+ | CentOS Stream 9 | PASS | +------------------------------+--------------------+ | CentOS Stream 10 | PASS | +------------------------------+--------------------+ | Debian GNU/Linux 12 | PASS | +------------------------------+--------------------+ Red Hat Enterprise Linux 9.5 Kernel: 5.4 Compiler: gcc gcc (GCC) 11.5.0 20240719 (Red Hat 11.5.0-2) Ubuntu 20.04 Kernel: 5.15 Compiler: aarch64-linux-gnu-gcc gcc (Ubuntu 9.4.0-1ubuntu1~20.04.2) 9.4.0 Fedora Linux 40 Kernel: 5.4 Compiler: gcc gcc (GCC) 14.2.1 20240912 (Red Hat 14.2.1-3) Fedora Linux 41 Kernel: 5.4 Compiler: gcc gcc (GCC) 14.3.1 20250523 (Red Hat 14.3.1-1) Ubuntu 22.04 Kernel: 5.4 Compiler: gcc gcc (Ubuntu 11.4.0-1ubuntu1~22.04) 11.4.0 Ubuntu 24.04 Kernel: 5.4 Compiler: gcc gcc (Ubuntu 13.3.0-6ubuntu2~24.04) 13.3.0 CentOS Stream 9 Kernel: 5.4 Compiler: gcc gcc (GCC) 11.5.0 20240719 (Red Hat 11.5.0-7) CentOS Stream 10 Kernel: 5.4 Compiler: gcc gcc (GCC) 14.2.1 20250110 (Red Hat 14.2.1-8) Debian GNU/Linux 12 Kernel: 5.4 Compiler: gcc gcc (Debian 12.2.0-14+deb12u1) 12.2.0 To view detailed results, visit: https://lab.dpdk.org/results/dashboard/patchsets/33737/ UNH-IOL DPDK Community Lab To manage your email subscriptions, visit: https://lab.dpdk.org/results/dashboard/preferences/subscriptions/