From mboxrd@z Thu Jan 1 00:00:00 1970 Return-Path: Received: from mails.dpdk.org (mails.dpdk.org [217.70.189.124]) by inbox.dpdk.org (Postfix) with ESMTP id B5E4E46BF7 for ; Thu, 24 Jul 2025 05:19:46 +0200 (CEST) Received: from mails.dpdk.org (localhost [127.0.0.1]) by mails.dpdk.org (Postfix) with ESMTP id A0DB540267; Thu, 24 Jul 2025 05:19:46 +0200 (CEST) Received: from mail-vk1-f227.google.com (mail-vk1-f227.google.com [209.85.221.227]) by mails.dpdk.org (Postfix) with ESMTP id 4C11A40267 for ; Thu, 24 Jul 2025 05:19:45 +0200 (CEST) Received: by mail-vk1-f227.google.com with SMTP id 71dfb90a1353d-5313eff2649so195991e0c.0 for ; Wed, 23 Jul 2025 20:19:45 -0700 (PDT) DKIM-Signature: v=1; a=rsa-sha256; c=relaxed/relaxed; d=iol.unh.edu; s=unh-iol; t=1753327184; x=1753931984; darn=dpdk.org; h=references:in-reply-to:cc:to:from:subject:message-id:date:from:to :cc:subject:date:message-id:reply-to; bh=xnmA1MAMiEuwKKYh8Nkd9aASyGwiAdrd7/KqjPMreL4=; b=eBKhRGTxXH46mKGLnvNNGsVI6i8xw6T56Ag2Ku8g2cT4TP1q7KnSk5P6md1/juksmh 231IAzcyn+JiuAovhibtEQo6MWHDSsOjYrIFDXgB99HOhUXOrUKbkYBGKZY/GhTeUdqt CixbmqljGc6s1nIc9/yqWOTpYMpH7H6sb6trY= X-Google-DKIM-Signature: v=1; a=rsa-sha256; c=relaxed/relaxed; d=1e100.net; s=20230601; t=1753327184; x=1753931984; h=references:in-reply-to:cc:to:from:subject:message-id:date :x-gm-message-state:from:to:cc:subject:date:message-id:reply-to; bh=xnmA1MAMiEuwKKYh8Nkd9aASyGwiAdrd7/KqjPMreL4=; b=JKmYOcQ7AgMYBxJKR7r2WOphb0HCBO70EGMW/k8HHKd8mYdoU7nj2+qT2YzGzvYjML qARZLu9/lRErxQy+Bk+1T9YBfobM5z2ZpStT7Ob8d1/LFfir4vQIwwy3LR1VHBqao3ad 9nWvLqs4zkYNPJ8CO1TVONAL1wuMS/ksEwNFaQrlfXCwIchBDCxwm+CFnELnxPrUXYn+ +1CzS5mURiSFv5EVQGQwWiMq+9QX1Mnvmyig4aoTN/UGAG7ba+mVJCa8wUv6skhq8z4X qUTTGkb+XtHDVD+YMghp3zKNYjcsCD+EC/aCMuYhGcMLJYKUXuquCBvI80MBTHxIK/py Rv2A== X-Gm-Message-State: AOJu0Yxd8ZsAN8UfWGO4JoFr4VlUOpkVmZP3QSoK18KRi1yXXrmzEGYW hltqVb68R+wa9p6VSKbsbohpmY+xXQX1KMsw5n3MsXfX9tZpgc/m434RfPsTBK5QHpPcMp+BwxC 4q+/ZAx0tfVfkP6jRoxlXN51i3wTk4uzoz35nceyJrsY/PaBqKpqXcFilDNdJ X-Gm-Gg: ASbGnctn9lgTnXPySemZUPOhUXNSaT9FWEtZzZojeIcsQ/HZa+4stv5rrwoqCdK/qRU nnG09vLG/23/sfLA31+ABhV6gAYGzQXYXaYJvpQAokcJNqWqV5eX/dLkNcuVjUokYpYRSGI6F/F SeecpFGDrxjE58AuKbaDap/EkRQGVwlWsM2bqNO3lAdY+hbllQaYGm8A9Me1E9s9j6RDC8wiy8p AjbV/B/mz+SlnlAVpzW1D4zQpdbQ34LFlpkqpz3A0dtfy8FGfg13eXfkYjze4Oe69/h4tD5aMI0 NjN0WRD/ZZy00sNRFIaaOSH413catawU75Fb6h6Mr/Szt69QOw== X-Google-Smtp-Source: AGHT+IHRPVHGls1f5dCOXqvWHjozrPNnVZLsWVa/dygFMHqo5aRS0wYucTigN9IbOEpmMMNRCVGzNVwUqjsB X-Received: by 2002:a05:6122:d92:b0:530:7ca2:449d with SMTP id 71dfb90a1353d-537af4716camr2564460e0c.3.1753327184669; Wed, 23 Jul 2025 20:19:44 -0700 (PDT) Received: from postal.iol.unh.edu (postal.iol.unh.edu. [2606:4100:3880:1234::84]) by smtp-relay.gmail.com with ESMTPS id a1e0cc1a2514c-88b6fd30bdesm26858241.3.2025.07.23.20.19.44 (version=TLS1_2 cipher=ECDHE-ECDSA-AES128-GCM-SHA256 bits=128/128); Wed, 23 Jul 2025 20:19:44 -0700 (PDT) X-Relaying-Domain: iol.unh.edu Date: Wed, 23 Jul 2025 20:19:44 -0700 (PDT) Message-ID: <6881a650.b00a0220.b2d9f.16b7SMTPIN_ADDED_MISSING@mx.google.com> Received: from [172.21.0.2] (unknown [172.18.0.240]) by postal.iol.unh.edu (Postfix) with ESMTP id 30DFE6051830; Wed, 23 Jul 2025 23:19:44 -0400 (EDT) Subject: |SUCCESS| pw155484-155496 [PATCH] [v7,13/13] eal: add warnings about From: dpdklab@iol.unh.edu To: Test Report Cc: dpdk-test-reports@iol.unh.edu In-Reply-To: <20250723162013.2392-14-bruce.richardson@intel.com> References: <20250723162013.2392-14-bruce.richardson@intel.com> Content-Type: text/plain X-BeenThere: test-report@dpdk.org X-Mailman-Version: 2.1.29 Precedence: list List-Id: automatic DPDK test reports List-Unsubscribe: , List-Archive: List-Post: List-Help: List-Subscribe: , Errors-To: test-report-bounces@dpdk.org Test-Label: iol-unit-arm64-testing Test-Status: SUCCESS http://dpdk.org/patch/155496 _Testing PASS_ Submitter: Bruce Richardson Date: Wednesday, July 23 2025 16:20:11 DPDK git baseline: Repo:dpdk Branch: master CommitID:e3183a6edafdc41bfd71de1517f9e9ec85eb1276 155484-155496 --> testing pass Upstream job id: Generic-Unit-Test-DPDK#357856 Test environment and result as below: +------------------------------+----------------+--------------+------------------------------+---------------------------+ | Environment | dpdk_unit_test | lpm_autotest | cryptodev_sw_snow3g_autotest | cryptodev_sw_zuc_autotest | +==============================+================+==============+==============================+===========================+ | CentOS Stream 9 | PASS | SKIPPED | SKIPPED | SKIPPED | +------------------------------+----------------+--------------+------------------------------+---------------------------+ | CentOS Stream 10 | PASS | SKIPPED | SKIPPED | SKIPPED | +------------------------------+----------------+--------------+------------------------------+---------------------------+ | Debian GNU/Linux 12 | PASS | SKIPPED | SKIPPED | SKIPPED | +------------------------------+----------------+--------------+------------------------------+---------------------------+ | Fedora Linux 40 | PASS | SKIPPED | SKIPPED | SKIPPED | +------------------------------+----------------+--------------+------------------------------+---------------------------+ | Red Hat Enterprise Linux 9.5 | PASS | SKIPPED | SKIPPED | SKIPPED | +------------------------------+----------------+--------------+------------------------------+---------------------------+ | Fedora Linux 41 | PASS | SKIPPED | SKIPPED | SKIPPED | +------------------------------+----------------+--------------+------------------------------+---------------------------+ | Ubuntu 20.04 | PASS | PASS | SKIPPED | SKIPPED | +------------------------------+----------------+--------------+------------------------------+---------------------------+ | Ubuntu 24.04 | PASS | SKIPPED | SKIPPED | SKIPPED | +------------------------------+----------------+--------------+------------------------------+---------------------------+ | Ubuntu 22.04 | PASS | SKIPPED | SKIPPED | SKIPPED | +------------------------------+----------------+--------------+------------------------------+---------------------------+ | Debian 12 (arm) | SKIPPED | SKIPPED | PASS | PASS | +------------------------------+----------------+--------------+------------------------------+---------------------------+ CentOS Stream 9 Kernel: 5.4 Compiler: gcc gcc (GCC) 11.5.0 20240719 (Red Hat 11.5.0-7) CentOS Stream 10 Kernel: 5.4 Compiler: gcc gcc (GCC) 14.2.1 20250110 (Red Hat 14.2.1-8) Debian GNU/Linux 12 Kernel: 5.4 Compiler: gcc gcc (Debian 12.2.0-14+deb12u1) 12.2.0 Fedora Linux 40 Kernel: 5.4 Compiler: clang gcc (GCC) 14.2.1 20240912 (Red Hat 14.2.1-3) Red Hat Enterprise Linux 9.5 Kernel: 5.4 Compiler: gcc gcc (GCC) 11.5.0 20240719 (Red Hat 11.5.0-2) Fedora Linux 41 Kernel: 5.4 Compiler: gcc gcc (GCC) 14.3.1 20250523 (Red Hat 14.3.1-1) Ubuntu 20.04 Kernel: 5.4 Compiler: gcc gcc (Ubuntu 9.4.0-1ubuntu1~20.04.2) 9.4.0 Ubuntu 24.04 Kernel: 5.4 Compiler: gcc gcc (Ubuntu 13.3.0-6ubuntu2~24.04) 13.3.0 Ubuntu 22.04 Kernel: 5.4 Compiler: gcc gcc (Ubuntu 11.4.0-1ubuntu1~22.04) 11.4.0 Debian 12 (arm) Kernel: Depends on container host Compiler: gcc (Debian 12.2.0-14) 12.2.0 To view detailed results, visit: https://lab.dpdk.org/results/dashboard/patchsets/33741/ UNH-IOL DPDK Community Lab To manage your email subscriptions, visit: https://lab.dpdk.org/results/dashboard/preferences/subscriptions/