From mboxrd@z Thu Jan 1 00:00:00 1970 Return-Path: Received: from mails.dpdk.org (mails.dpdk.org [217.70.189.124]) by inbox.dpdk.org (Postfix) with ESMTP id A0B7146BF7 for ; Thu, 24 Jul 2025 05:41:46 +0200 (CEST) Received: from mails.dpdk.org (localhost [127.0.0.1]) by mails.dpdk.org (Postfix) with ESMTP id 7138B40267; Thu, 24 Jul 2025 05:41:46 +0200 (CEST) Received: from mail-pg1-f227.google.com (mail-pg1-f227.google.com [209.85.215.227]) by mails.dpdk.org (Postfix) with ESMTP id CD4C240267 for ; Thu, 24 Jul 2025 05:41:44 +0200 (CEST) Received: by mail-pg1-f227.google.com with SMTP id 41be03b00d2f7-b34a8f69862so534216a12.2 for ; Wed, 23 Jul 2025 20:41:44 -0700 (PDT) DKIM-Signature: v=1; a=rsa-sha256; c=relaxed/relaxed; d=iol.unh.edu; s=unh-iol; t=1753328504; x=1753933304; darn=dpdk.org; h=references:in-reply-to:cc:to:from:subject:message-id:date:from:to :cc:subject:date:message-id:reply-to; bh=e+hZW5b2au5laCgPPU5HVeH5NNci/VqFB3l+9Oz5JCo=; b=OvKbuD+IfrgTj7jHGRu4paCpAVOmI7WGYLuLHPU0Oz8BKLI15r0oIpfYU93+O7SoXx EqcxKxD6j63LG8GCGQ6JzgAiRxAQfAdeSiq4Ko3IXLPomfEcW5g7nGm30rwLD22i7Oli ZSL11FZdNPAHzBapCHg9UBxPbXtw5IIdi3t7c= X-Google-DKIM-Signature: v=1; a=rsa-sha256; c=relaxed/relaxed; d=1e100.net; s=20230601; t=1753328504; x=1753933304; h=references:in-reply-to:cc:to:from:subject:message-id:date :x-gm-message-state:from:to:cc:subject:date:message-id:reply-to; bh=e+hZW5b2au5laCgPPU5HVeH5NNci/VqFB3l+9Oz5JCo=; b=RRIImfAqXQcDWX9+e7wO35ewOJzRaPZg6qi6qW89wxClvBF2Z4Y6Fr6swhWwFYWqob Oxt7KaU1n7EzNRfC8DKLYc47PoZRBNqwbExbJmgeBfmDU6E5YL21MXtbPmEcj8Byii/m Kbdto2oj8H5Sr08oGf1dLDr8o82XJMpWW9YJmWCd0WZlgZ3cS9tuLytcrGh7kBmN6B5R +bO2BHmjGQGHuEIIX+8j5hge5yzkYWluEW5+Aecl26/grEX5PzCoKh0O3Sew6CTU39NG jUXIxEJsxfBmHLW4ueC07u7rYwJvQW7mzrM9powYDsMue7bATL03aSmggivn5Y1MSNBQ IxyQ== X-Gm-Message-State: AOJu0Yy2bCVXXC7SpBM9wokZ8e4hHxncoQxsHsHt5vsKpBTQMhyyDkLE dxNBjnMac3iWj8UviAsMUFKNkJlBgcQAdhIc/19WDVV07yuoftToO2QF4WBoCGl9diDQ1XTyYa+ DM/D8JIkIWJcbKTTyoUpKTPR2nNvpTenKqCFT3AUIIWMQPdol0C9n8EnbR/JX X-Gm-Gg: ASbGncuETIecgILwAwexqEkWw+DeTw/2gKySZgav5z52C5HEzLDsAPovvTKw6miKw8r uur5uR5s5ZgbtufGbmUrPfyAg2XltWxDWU5DRcXM4VWMLMSg3lnc/iQuKAnC7waukgo1jMapFKh 43E/W0Iy1PPBY2loexrWRtowky6n+SHGFziuBqZ30vFTj1iXLSmb8ZAQX8JAqJHr+Ca7nLRj4xL cuE+LVT7TOoIp8DRpelJkb5+KW2bujl+rST4AKYhZkPUDlhphUkp95JdRuHd+4RffSdfXc3Z6a7 tEASsEsE1NXcrayLQO30b2UwIJALgA/19HnnVTf6Vgf3B/9DSg== X-Google-Smtp-Source: AGHT+IHQsRiFFazxICnH1N3+uftQ/UphOwim4cnsnm8cD34Uxr4V6zXp2YQ1G0qDCdGC4D5VSwrwEGLG4aUJ X-Received: by 2002:a17:90b:3f8f:b0:312:639:a058 with SMTP id 98e67ed59e1d1-31e5082e792mr8365998a91.27.1753328503767; Wed, 23 Jul 2025 20:41:43 -0700 (PDT) Received: from postal.iol.unh.edu (postal.iol.unh.edu. [2606:4100:3880:1234::84]) by smtp-relay.gmail.com with ESMTPS id 98e67ed59e1d1-31e662b9b06sm12470a91.11.2025.07.23.20.41.43 (version=TLS1_2 cipher=ECDHE-ECDSA-AES128-GCM-SHA256 bits=128/128); Wed, 23 Jul 2025 20:41:43 -0700 (PDT) X-Relaying-Domain: iol.unh.edu Date: Wed, 23 Jul 2025 20:41:43 -0700 (PDT) Message-ID: <6881ab77.170a0220.3909ed.0b1bSMTPIN_ADDED_MISSING@mx.google.com> Received: from [172.21.0.4] (unknown [172.18.0.240]) by postal.iol.unh.edu (Postfix) with ESMTP id 0B06E6051830; Wed, 23 Jul 2025 23:41:43 -0400 (EDT) Subject: |SUCCESS| pw155483 [PATCH] net/tap: fix BPF build failure in cross-c From: dpdklab@iol.unh.edu To: Test Report Cc: dpdk-test-reports@iol.unh.edu In-Reply-To: <20250723125702.3787183-1-ashok.k.kaladi@intel.com> References: <20250723125702.3787183-1-ashok.k.kaladi@intel.com> Content-Type: text/plain X-BeenThere: test-report@dpdk.org X-Mailman-Version: 2.1.29 Precedence: list List-Id: automatic DPDK test reports List-Unsubscribe: , List-Archive: List-Post: List-Help: List-Subscribe: , Errors-To: test-report-bounces@dpdk.org Test-Label: iol-compile-arm64-testing Test-Status: SUCCESS http://dpdk.org/patch/155483 _Testing PASS_ Submitter: Ashok Kaladi Date: Wednesday, July 23 2025 12:57:02 DPDK git baseline: Repo:dpdk Branch: master CommitID:899bc9e500ccc718c12b1df4b920dcf0cbeb6265 155483 --> testing pass Upstream job id: Generic-DPDK-Compile-Meson#411675 Test environment and result as below: +------------------------------+--------------------+ | Environment | dpdk_meson_compile | +==============================+====================+ | Red Hat Enterprise Linux 9.5 | PASS | +------------------------------+--------------------+ | Ubuntu 20.04 | PASS | +------------------------------+--------------------+ | Debian GNU/Linux 12 | PASS | +------------------------------+--------------------+ | Fedora Linux 40 | PASS | +------------------------------+--------------------+ | Fedora Linux 41 | PASS | +------------------------------+--------------------+ | Ubuntu 22.04 | PASS | +------------------------------+--------------------+ | Ubuntu 24.04 | PASS | +------------------------------+--------------------+ | CentOS Stream 10 | PASS | +------------------------------+--------------------+ | CentOS Stream 9 | PASS | +------------------------------+--------------------+ Red Hat Enterprise Linux 9.5 Kernel: 5.4 Compiler: gcc gcc (GCC) 11.5.0 20240719 (Red Hat 11.5.0-2) Ubuntu 20.04 Kernel: 5.15 Compiler: aarch64-linux-gnu-gcc gcc (Ubuntu 9.4.0-1ubuntu1~20.04.2) 9.4.0 Debian GNU/Linux 12 Kernel: 5.4 Compiler: gcc gcc (Debian 12.2.0-14+deb12u1) 12.2.0 Fedora Linux 40 Kernel: 5.4 Compiler: gcc gcc (GCC) 14.2.1 20240912 (Red Hat 14.2.1-3) Fedora Linux 41 Kernel: 5.4 Compiler: gcc gcc (GCC) 14.3.1 20250523 (Red Hat 14.3.1-1) Ubuntu 22.04 Kernel: 5.4 Compiler: gcc gcc (Ubuntu 11.4.0-1ubuntu1~22.04) 11.4.0 Ubuntu 24.04 Kernel: 5.4 Compiler: gcc gcc (Ubuntu 13.3.0-6ubuntu2~24.04) 13.3.0 CentOS Stream 10 Kernel: 5.4 Compiler: gcc gcc (GCC) 14.2.1 20250110 (Red Hat 14.2.1-8) CentOS Stream 9 Kernel: 5.4 Compiler: gcc gcc (GCC) 11.5.0 20240719 (Red Hat 11.5.0-7) To view detailed results, visit: https://lab.dpdk.org/results/dashboard/patchsets/33740/ UNH-IOL DPDK Community Lab To manage your email subscriptions, visit: https://lab.dpdk.org/results/dashboard/preferences/subscriptions/