From mboxrd@z Thu Jan 1 00:00:00 1970 Return-Path: Received: from mails.dpdk.org (mails.dpdk.org [217.70.189.124]) by inbox.dpdk.org (Postfix) with ESMTP id 7253546BFA for ; Thu, 24 Jul 2025 08:00:53 +0200 (CEST) Received: from mails.dpdk.org (localhost [127.0.0.1]) by mails.dpdk.org (Postfix) with ESMTP id 53CC140267; Thu, 24 Jul 2025 08:00:53 +0200 (CEST) Received: from mail-qv1-f99.google.com (mail-qv1-f99.google.com [209.85.219.99]) by mails.dpdk.org (Postfix) with ESMTP id EDBE040267 for ; Thu, 24 Jul 2025 08:00:51 +0200 (CEST) Received: by mail-qv1-f99.google.com with SMTP id 6a1803df08f44-6fafb6899c2so8868946d6.0 for ; Wed, 23 Jul 2025 23:00:51 -0700 (PDT) DKIM-Signature: v=1; a=rsa-sha256; c=relaxed/relaxed; d=iol.unh.edu; s=unh-iol; t=1753336851; x=1753941651; darn=dpdk.org; h=references:in-reply-to:cc:to:from:subject:message-id:date:from:to :cc:subject:date:message-id:reply-to; bh=Szigh9T3X8kpanPceGcSDY26ZOsn3ozneKzbuqO59Ac=; b=GkO8HC4LryOzvtjCYvPrvgZAZFl1Izfznc34hHaKl9uHfWzx+gyj0e+8bRajYi1m1V Z8qrh1Q2Sg0d05KuZjzT6VuckKmPVcr6HTDIXaooJjTbpC5hQ735ajnYtaTQ+C2+3Sek dCtG9SVRuLhG2NJHkmIMlGYErF1Csmw3HXKWo= X-Google-DKIM-Signature: v=1; a=rsa-sha256; c=relaxed/relaxed; d=1e100.net; s=20230601; t=1753336851; x=1753941651; h=references:in-reply-to:cc:to:from:subject:message-id:date :x-gm-message-state:from:to:cc:subject:date:message-id:reply-to; bh=Szigh9T3X8kpanPceGcSDY26ZOsn3ozneKzbuqO59Ac=; b=OmeFj0Cx4YkMi7oW0VAnKwzQc/dbhLf2kq/VBjOGqAQJUbWLUI1oiL/X/2jk+d90uT 3BrLjVSSHkw8Nh+jJiAaDI7ogaLmat++p2e8Df8wx5FqelsH+fkIrwzVPp59QrAdVuId tbE0kH4T0pOypPgGeluYB/LPYHi+sSYK8NcCHepmafjkj6FoUsWv+wFPZnEritOoy4eC NXlLKqEZRaEkrWyGS0f5Yy2Kd9SlUGasE+nN8M0rnusimtoWYs1atQGLXpTHyMppTAi9 KaSmSCabbA73aeeVm9q5Vc1/hrW9qrhDvcnVyAqyVDnLaj2wVX2F6QTKkBJVb6yIj0yA fOfw== X-Gm-Message-State: AOJu0Ywvpu2lbK4v0QzZwxvZFQ9vMRxN0Wame1lH9UMwScm2K+BjXG9x /3j2KNvcvTcG957Vfa5ZUrirgsFvAfwOZlm669NCk71MVYCEqUfS33Q4/hOIJxQGqXo/nH99MrU mM+yg54LHf0TbGASKI1qq1tEaeHKKUi0+f3juti7SK9nK71QjL4IBDP+t/msP X-Gm-Gg: ASbGncuW7kAVmFSHgfgV9f6dfCa2jDEjEP+flsY68gpixfO9XSQXKom2F6CLxLU8bBA 7v91mwlpRgxkxrtNW+PLOLQGDa5I2WEJi+rwlCgYJe8HZKonHpILclVJTmjX6k/B4/hP8p3Mtt3 N+EZOFhiWlrd0esczY2P0g58d9sAIWB7l+bTVEjwxWmRCS1K67pCxyAoS+35N2GkCBGnU1wLkDX qW0bdukUdJudDcabHxOkXZZaxP8zSy0qj0j9JriX+I2wCSNHTT4s0l55tBPDKshXbLj6K0oSkKT e7/sV1kIF4A3BhJTXVyyHekDYqvlXSf+1faOvZJTguAqVnT2qw== X-Google-Smtp-Source: AGHT+IEc5VL4PwR3O+N+v2tftfMZzO1UNrtntUdtiCVCD2R5+E0sebkaqJhAnua/E2UjSzZ5SuweW5cSxQ99 X-Received: by 2002:ad4:574b:0:b0:705:1bb5:376d with SMTP id 6a1803df08f44-70713cf9b95mr7197586d6.11.1753336851170; Wed, 23 Jul 2025 23:00:51 -0700 (PDT) Received: from postal.iol.unh.edu (postal.iol.unh.edu. [2606:4100:3880:1234::84]) by smtp-relay.gmail.com with ESMTPS id 6a1803df08f44-7070fe043d2sm443986d6.14.2025.07.23.23.00.51 (version=TLS1_2 cipher=ECDHE-ECDSA-AES128-GCM-SHA256 bits=128/128); Wed, 23 Jul 2025 23:00:51 -0700 (PDT) X-Relaying-Domain: iol.unh.edu Date: Wed, 23 Jul 2025 23:00:51 -0700 (PDT) Message-ID: <6881cc13.050a0220.227036.2819SMTPIN_ADDED_MISSING@mx.google.com> Received: from [172.21.0.5] (unknown [172.18.0.240]) by postal.iol.unh.edu (Postfix) with ESMTP id E75A36051830; Thu, 24 Jul 2025 02:00:50 -0400 (EDT) Subject: |SUCCESS| pw155461-155481 [PATCH] [v5,22/22] ci: extend coverage wit From: dpdklab@iol.unh.edu To: Test Report Cc: dpdk-test-reports@iol.unh.edu In-Reply-To: <20250723133157.159825-23-david.marchand@redhat.com> References: <20250723133157.159825-23-david.marchand@redhat.com> Content-Type: text/plain X-BeenThere: test-report@dpdk.org X-Mailman-Version: 2.1.29 Precedence: list List-Id: automatic DPDK test reports List-Unsubscribe: , List-Archive: List-Post: List-Help: List-Subscribe: , Errors-To: test-report-bounces@dpdk.org Test-Label: iol-compile-arm64-testing Test-Status: SUCCESS http://dpdk.org/patch/155481 _Testing PASS_ Submitter: David Marchand Date: Wednesday, July 23 2025 13:31:55 DPDK git baseline: Repo:dpdk Branch: master CommitID:e3183a6edafdc41bfd71de1517f9e9ec85eb1276 155461-155481 --> testing pass Upstream job id: Generic-DPDK-Compile-Meson#411630 Test environment and result as below: +------------------------------+--------------------+ | Environment | dpdk_meson_compile | +==============================+====================+ | Red Hat Enterprise Linux 9.5 | PASS | +------------------------------+--------------------+ | Ubuntu 20.04 | PASS | +------------------------------+--------------------+ | Debian GNU/Linux 12 | PASS | +------------------------------+--------------------+ | Fedora Linux 40 | PASS | +------------------------------+--------------------+ | Fedora Linux 41 | PASS | +------------------------------+--------------------+ | Ubuntu 22.04 | PASS | +------------------------------+--------------------+ | Ubuntu 24.04 | PASS | +------------------------------+--------------------+ | CentOS Stream 9 | PASS | +------------------------------+--------------------+ | CentOS Stream 10 | PASS | +------------------------------+--------------------+ Red Hat Enterprise Linux 9.5 Kernel: 5.4 Compiler: gcc gcc (GCC) 11.5.0 20240719 (Red Hat 11.5.0-2) Ubuntu 20.04 Kernel: 5.15 Compiler: aarch64-linux-gnu-gcc gcc (Ubuntu 9.4.0-1ubuntu1~20.04.2) 9.4.0 Debian GNU/Linux 12 Kernel: 5.4 Compiler: gcc gcc (Debian 12.2.0-14+deb12u1) 12.2.0 Fedora Linux 40 Kernel: 5.4 Compiler: gcc gcc (GCC) 14.2.1 20240912 (Red Hat 14.2.1-3) Fedora Linux 41 Kernel: 5.4 Compiler: gcc gcc (GCC) 14.3.1 20250523 (Red Hat 14.3.1-1) Ubuntu 22.04 Kernel: 5.4 Compiler: gcc gcc (Ubuntu 11.4.0-1ubuntu1~22.04) 11.4.0 Ubuntu 24.04 Kernel: 5.4 Compiler: gcc gcc (Ubuntu 13.3.0-6ubuntu2~24.04) 13.3.0 CentOS Stream 9 Kernel: 5.4 Compiler: gcc gcc (GCC) 11.5.0 20240719 (Red Hat 11.5.0-7) CentOS Stream 10 Kernel: 5.4 Compiler: gcc gcc (GCC) 14.2.1 20250110 (Red Hat 14.2.1-8) To view detailed results, visit: https://lab.dpdk.org/results/dashboard/patchsets/33738/ UNH-IOL DPDK Community Lab To manage your email subscriptions, visit: https://lab.dpdk.org/results/dashboard/preferences/subscriptions/