From mboxrd@z Thu Jan 1 00:00:00 1970 Return-Path: Received: from mails.dpdk.org (mails.dpdk.org [217.70.189.124]) by inbox.dpdk.org (Postfix) with ESMTP id CCBAC46BFA for ; Thu, 24 Jul 2025 08:03:57 +0200 (CEST) Received: from mails.dpdk.org (localhost [127.0.0.1]) by mails.dpdk.org (Postfix) with ESMTP id A313C40267; Thu, 24 Jul 2025 08:03:57 +0200 (CEST) Received: from mail-pf1-f227.google.com (mail-pf1-f227.google.com [209.85.210.227]) by mails.dpdk.org (Postfix) with ESMTP id 0BB2D40267 for ; Thu, 24 Jul 2025 08:03:57 +0200 (CEST) Received: by mail-pf1-f227.google.com with SMTP id d2e1a72fcca58-748d982e92cso438934b3a.1 for ; Wed, 23 Jul 2025 23:03:56 -0700 (PDT) DKIM-Signature: v=1; a=rsa-sha256; c=relaxed/relaxed; d=iol.unh.edu; s=unh-iol; t=1753337036; x=1753941836; darn=dpdk.org; h=references:in-reply-to:cc:to:from:subject:message-id:date:from:to :cc:subject:date:message-id:reply-to; bh=KH6M10W7fv+xSzuPvYqRUjEvLPnUrvLhtupr/c2Boio=; b=DKeQPndlvdSuDDo4XBj9hF1w6TB8jqgYIKkfZX6XBH4RA3Ssu/I3vCTvQ/j4VgDZOF GPMvfkoL6groVHaIU8Imueg9uuUWxJiWaz79gRMsaaPDDVk9nw8jUtQuVGLOPpn3g7uQ 173O319axIGJMx3xet3z7RgJkdAWfdW2mNMnU= X-Google-DKIM-Signature: v=1; a=rsa-sha256; c=relaxed/relaxed; d=1e100.net; s=20230601; t=1753337036; x=1753941836; h=references:in-reply-to:cc:to:from:subject:message-id:date :x-gm-message-state:from:to:cc:subject:date:message-id:reply-to; bh=KH6M10W7fv+xSzuPvYqRUjEvLPnUrvLhtupr/c2Boio=; b=Nxn2mvnskbkPqgJZkSf9CLpLqBqrRLgz6I5jULAaAiolyb2vO1vTkpqQ4Hg6hEI2KM 9BUdZ71Lj42JRItVbjqJW2MxYbc2uls4MJF8fZ65AGZkDyzY/3rRI0IveAiLyTHPnapo J3ifCl4tqBrcRYyrsGRe7MfMStwnCEpoRtJes9SJngkJye/uocYAs6oO5K3cA3k9k/ws OYx5aiEt3scFNw3hz77r6Hbsd0uV8zRAAFF3SgPKW9RT9PLyaHT1h3j89I0a/eI4BifU 7n+k+FG6076/vk+zV6hQyBVblN2AGqTQvmhB9cHJSsp7zWH/a0YrVh67KG0rdJ8gT+2O cYsA== X-Gm-Message-State: AOJu0Yx0ff9p3tB3wjTC/BAE/BMbTQY6EXVVnZOzZIghCqamMQen58Yq NNZW7Y+HIeM9E3BWHjBW1snY/hRiJ92bwquMKxkEhXuegI4Dt3nHBD0ovdI5X0cMTOSpaZJltet C0HOCP9XrWusoDpkSWD6Qr1r9GD4u3Da2chd+IzxHxbZda/Lj1yQrW0m5ZGqF X-Gm-Gg: ASbGncuvdbDvKvhGB019U1Nrgem+nQ0mBhStKr71ADy+ttf+/sMNL1hhl5YbhTGMIfu To0lyAnGCG5H3VpgYBaYWgFMCAujjU3G5yKBhbVLCvJDrRwzul5xljlNkbbeuYu4WlMLXdtcaZs 1oP5P06FeInc190ocM/idYAHb/etf3It6QC9dlKTCT7P7ggc12sHYLFvGnz6Rp+7ThV21yf6jeY 0nCEoS07yXmeaw8q8p1g7DkHRIxqQD+Y+52LvB/Z/aEVaLQ2HIiFGQooJl5y3pXFF4zwUWl/EFh 3r02iKXSeRzN4h2dpq3z6hT2OmfsviBWMRuWvNmvlOXdZbDwAA== X-Google-Smtp-Source: AGHT+IHOrZ/A0PlZ5ihdecaS/B2biqN8eSKWkXS4nmoYVOyWf3rLYBv6p8ZjJbYtO1Lf176Ebn3VkU+oGXQ1 X-Received: by 2002:a05:6300:83:b0:232:bdc1:6ba1 with SMTP id adf61e73a8af0-23d48fab5f8mr9790309637.4.1753337036137; Wed, 23 Jul 2025 23:03:56 -0700 (PDT) Received: from postal.iol.unh.edu (postal.iol.unh.edu. [2606:4100:3880:1234::84]) by smtp-relay.gmail.com with ESMTPS id d2e1a72fcca58-761b05eea13sm57932b3a.18.2025.07.23.23.03.56 (version=TLS1_2 cipher=ECDHE-ECDSA-AES128-GCM-SHA256 bits=128/128); Wed, 23 Jul 2025 23:03:56 -0700 (PDT) X-Relaying-Domain: iol.unh.edu Date: Wed, 23 Jul 2025 23:03:56 -0700 (PDT) Message-ID: <6881cccc.050a0220.2de1dc.315dSMTPIN_ADDED_MISSING@mx.google.com> Received: from [172.21.0.2] (unknown [172.18.0.240]) by postal.iol.unh.edu (Postfix) with ESMTP id 52E0C6051830; Thu, 24 Jul 2025 02:03:55 -0400 (EDT) Subject: |SUCCESS| pw155484-155496 [PATCH] [v7,13/13] eal: add warnings about From: dpdklab@iol.unh.edu To: Test Report Cc: dpdk-test-reports@iol.unh.edu In-Reply-To: <20250723162013.2392-14-bruce.richardson@intel.com> References: <20250723162013.2392-14-bruce.richardson@intel.com> Content-Type: text/plain X-BeenThere: test-report@dpdk.org X-Mailman-Version: 2.1.29 Precedence: list List-Id: automatic DPDK test reports List-Unsubscribe: , List-Archive: List-Post: List-Help: List-Subscribe: , Errors-To: test-report-bounces@dpdk.org Test-Label: iol-compile-arm64-testing Test-Status: SUCCESS http://dpdk.org/patch/155496 _Testing PASS_ Submitter: Bruce Richardson Date: Wednesday, July 23 2025 16:20:11 DPDK git baseline: Repo:dpdk Branch: master CommitID:e3183a6edafdc41bfd71de1517f9e9ec85eb1276 155484-155496 --> testing pass Upstream job id: Generic-DPDK-Compile-Meson#411716 Test environment and result as below: +------------------------------+--------------------+ | Environment | dpdk_meson_compile | +==============================+====================+ | Red Hat Enterprise Linux 9.5 | PASS | +------------------------------+--------------------+ | Ubuntu 20.04 | PASS | +------------------------------+--------------------+ | Debian GNU/Linux 12 | PASS | +------------------------------+--------------------+ | Fedora Linux 40 | PASS | +------------------------------+--------------------+ | Fedora Linux 41 | PASS | +------------------------------+--------------------+ | Ubuntu 22.04 | PASS | +------------------------------+--------------------+ | Ubuntu 24.04 | PASS | +------------------------------+--------------------+ | CentOS Stream 9 | PASS | +------------------------------+--------------------+ | CentOS Stream 10 | PASS | +------------------------------+--------------------+ Red Hat Enterprise Linux 9.5 Kernel: 5.4 Compiler: gcc gcc (GCC) 11.5.0 20240719 (Red Hat 11.5.0-2) Ubuntu 20.04 Kernel: 5.15 Compiler: aarch64-linux-gnu-gcc gcc (Ubuntu 9.4.0-1ubuntu1~20.04.2) 9.4.0 Debian GNU/Linux 12 Kernel: 5.4 Compiler: gcc gcc (Debian 12.2.0-14+deb12u1) 12.2.0 Fedora Linux 40 Kernel: 5.4 Compiler: gcc gcc (GCC) 14.2.1 20240912 (Red Hat 14.2.1-3) Fedora Linux 41 Kernel: 5.4 Compiler: gcc gcc (GCC) 14.3.1 20250523 (Red Hat 14.3.1-1) Ubuntu 22.04 Kernel: 5.4 Compiler: gcc gcc (Ubuntu 11.4.0-1ubuntu1~22.04) 11.4.0 Ubuntu 24.04 Kernel: 5.4 Compiler: gcc gcc (Ubuntu 13.3.0-6ubuntu2~24.04) 13.3.0 CentOS Stream 9 Kernel: 5.4 Compiler: gcc gcc (GCC) 11.5.0 20240719 (Red Hat 11.5.0-7) CentOS Stream 10 Kernel: 5.4 Compiler: gcc gcc (GCC) 14.2.1 20250110 (Red Hat 14.2.1-8) To view detailed results, visit: https://lab.dpdk.org/results/dashboard/patchsets/33741/ UNH-IOL DPDK Community Lab To manage your email subscriptions, visit: https://lab.dpdk.org/results/dashboard/preferences/subscriptions/