From mboxrd@z Thu Jan 1 00:00:00 1970 Return-Path: Received: from mails.dpdk.org (mails.dpdk.org [217.70.189.124]) by inbox.dpdk.org (Postfix) with ESMTP id D9F2B46BFA for ; Thu, 24 Jul 2025 08:05:35 +0200 (CEST) Received: from mails.dpdk.org (localhost [127.0.0.1]) by mails.dpdk.org (Postfix) with ESMTP id D2FF640267; Thu, 24 Jul 2025 08:05:35 +0200 (CEST) Received: from mail-pl1-f228.google.com (mail-pl1-f228.google.com [209.85.214.228]) by mails.dpdk.org (Postfix) with ESMTP id 395FC40267 for ; Thu, 24 Jul 2025 08:05:35 +0200 (CEST) Received: by mail-pl1-f228.google.com with SMTP id d9443c01a7336-23c703c471dso17515105ad.0 for ; Wed, 23 Jul 2025 23:05:35 -0700 (PDT) DKIM-Signature: v=1; a=rsa-sha256; c=relaxed/relaxed; d=iol.unh.edu; s=unh-iol; t=1753337134; x=1753941934; darn=dpdk.org; h=references:in-reply-to:cc:to:from:subject:message-id:date:from:to :cc:subject:date:message-id:reply-to; bh=PnipwtY/l+3aeQqzGMdWtYterVV8b4nhcqPtewLaXdU=; b=dO1qOsSIk5wdjXNJJ+ZowdFutK8NBrmh2r8qAW94UHvvJlYYUwwEUUcLEZkC05YbYI mx9bmLml8u1X0K9opXWZCXD885qMc5sEhGD1LFUZRdyyD/kSOW7YVO2hod1HVRUPA++u 06y2SaQgi5wYfNrojmD9rOFIY2ZokvbMizM8E= X-Google-DKIM-Signature: v=1; a=rsa-sha256; c=relaxed/relaxed; d=1e100.net; s=20230601; t=1753337134; x=1753941934; h=references:in-reply-to:cc:to:from:subject:message-id:date :x-gm-message-state:from:to:cc:subject:date:message-id:reply-to; bh=PnipwtY/l+3aeQqzGMdWtYterVV8b4nhcqPtewLaXdU=; b=wNtxqMNmCHdPCi1IDf6qxvWichfYmzc8JExHY+6WQ08lyEC3f0FQA09jGTCopjykdr 8y/3dL2hg2iCV4mK21Pa0t5ggzQY7A/NgMJ0q+7ZEqastzJxIYwD4xqFLfQwXC1MDbrv KSSSQF3T3XGdSwavujeyZUsl5pinfvDCQuO+PAyGCf4q3PJYYngL8dBV0iWQrPGJ/2gF 1Y/rYHVWk/UDpUK2CqiogeVxEv7+O9TR3htYyzH9PfCKPriLP4toNEhijBSVeThmNwRR AqeBRkB5bFaxzU5fyRTz/WBPr+6Tj5eOIhWZY/HFN2//jtlTIiG8ragKgs8hmDvdOnXI +eZg== X-Gm-Message-State: AOJu0YyPr35IU7cBkldYRp28aDMhikgTUcWK2z4Jhbq5xZ1ZK9SG8onH cRT2zXIMwgNsAiNadXs7P0vKraHvYExv4Nz1A8V5ZBo+OnY5TrVU1nzUxNZVDVtlU8XauWdyV/V fk8GmvGH+WjXqpkcj2nglis17l/QoyjqITe2lan9lKvui5wlY7LpGqN5dCoLV X-Gm-Gg: ASbGncv8AjrvcR+D4OQtB/f7vb2f+5yttuamVdI2fUKf+WELuVTg25/WtpZNvxNcnf3 /Geyu1YcZ1QnwWu1itqu8DKzzg5wzL8KbSnVZQauKq6iW0kXVsA2dDCPzFkirivoO1m1HU0dCjM D2Kz+Kum0xLNUMztabqnittw8RGcItzIzBID4YFKf1Z2netsp25wlWWUQDbR2tQX0arXRe+9zQW JFe6U46C0IvjhB98vp5kuvPT0mF8PYxBMWPDfOvJzyTd6WXoHLbHueEep/iWA/1rrrbIlQvJHLY DTXL9/kTqDKEvUvjtG7yNNa6gUbVlNicLP9zoKCbboBZjiYipQ== X-Google-Smtp-Source: AGHT+IEKN1H9if4OLXIYQGQq0NYWvASk19lZju5f+pFbE9JKRe96SDROU+9EV/bb/czV7cb5y7UZytbueFk6 X-Received: by 2002:a17:903:1b6d:b0:236:71a5:4417 with SMTP id d9443c01a7336-23fa5cd200cmr12272655ad.5.1753337134297; Wed, 23 Jul 2025 23:05:34 -0700 (PDT) Received: from postal.iol.unh.edu (postal.iol.unh.edu. [2606:4100:3880:1234::84]) by smtp-relay.gmail.com with ESMTPS id 98e67ed59e1d1-31e66270d1bsm23350a91.4.2025.07.23.23.05.34 (version=TLS1_2 cipher=ECDHE-ECDSA-AES128-GCM-SHA256 bits=128/128); Wed, 23 Jul 2025 23:05:34 -0700 (PDT) X-Relaying-Domain: iol.unh.edu Date: Wed, 23 Jul 2025 23:05:34 -0700 (PDT) Message-ID: <6881cd2e.170a0220.3a724a.12b6SMTPIN_ADDED_MISSING@mx.google.com> Received: from [172.21.0.4] (unknown [172.18.0.240]) by postal.iol.unh.edu (Postfix) with ESMTP id C466B6051830; Thu, 24 Jul 2025 02:05:33 -0400 (EDT) Subject: |SUCCESS| pw155484-155496 [PATCH] [v7,13/13] eal: add warnings about From: dpdklab@iol.unh.edu To: Test Report Cc: dpdk-test-reports@iol.unh.edu In-Reply-To: <20250723162013.2392-14-bruce.richardson@intel.com> References: <20250723162013.2392-14-bruce.richardson@intel.com> Content-Type: text/plain X-BeenThere: test-report@dpdk.org X-Mailman-Version: 2.1.29 Precedence: list List-Id: automatic DPDK test reports List-Unsubscribe: , List-Archive: List-Post: List-Help: List-Subscribe: , Errors-To: test-report-bounces@dpdk.org Test-Label: iol-compile-arm64-testing Test-Status: SUCCESS http://dpdk.org/patch/155496 _Testing PASS_ Submitter: Bruce Richardson Date: Wednesday, July 23 2025 16:20:11 DPDK git baseline: Repo:dpdk Branch: master CommitID:e3183a6edafdc41bfd71de1517f9e9ec85eb1276 155484-155496 --> testing pass Upstream job id: Generic-DPDK-Compile-Meson#411718 Test environment and result as below: +------------------------------+--------------------+ | Environment | dpdk_meson_compile | +==============================+====================+ | Red Hat Enterprise Linux 9.5 | PASS | +------------------------------+--------------------+ | Ubuntu 20.04 | PASS | +------------------------------+--------------------+ | Debian GNU/Linux 12 | PASS | +------------------------------+--------------------+ | Fedora Linux 40 | PASS | +------------------------------+--------------------+ | Fedora Linux 41 | PASS | +------------------------------+--------------------+ | Ubuntu 22.04 | PASS | +------------------------------+--------------------+ | Ubuntu 24.04 | PASS | +------------------------------+--------------------+ | CentOS Stream 9 | PASS | +------------------------------+--------------------+ | CentOS Stream 10 | PASS | +------------------------------+--------------------+ Red Hat Enterprise Linux 9.5 Kernel: 5.4 Compiler: gcc gcc (GCC) 11.5.0 20240719 (Red Hat 11.5.0-2) Ubuntu 20.04 Kernel: 5.15 Compiler: aarch64-linux-gnu-gcc gcc (Ubuntu 9.4.0-1ubuntu1~20.04.2) 9.4.0 Debian GNU/Linux 12 Kernel: 5.4 Compiler: gcc gcc (Debian 12.2.0-14+deb12u1) 12.2.0 Fedora Linux 40 Kernel: 5.4 Compiler: gcc gcc (GCC) 14.2.1 20240912 (Red Hat 14.2.1-3) Fedora Linux 41 Kernel: 5.4 Compiler: gcc gcc (GCC) 14.3.1 20250523 (Red Hat 14.3.1-1) Ubuntu 22.04 Kernel: 5.4 Compiler: gcc gcc (Ubuntu 11.4.0-1ubuntu1~22.04) 11.4.0 Ubuntu 24.04 Kernel: 5.4 Compiler: gcc gcc (Ubuntu 13.3.0-6ubuntu2~24.04) 13.3.0 CentOS Stream 9 Kernel: 5.4 Compiler: gcc gcc (GCC) 11.5.0 20240719 (Red Hat 11.5.0-7) CentOS Stream 10 Kernel: 5.4 Compiler: gcc gcc (GCC) 14.2.1 20250110 (Red Hat 14.2.1-8) To view detailed results, visit: https://lab.dpdk.org/results/dashboard/patchsets/33741/ UNH-IOL DPDK Community Lab To manage your email subscriptions, visit: https://lab.dpdk.org/results/dashboard/preferences/subscriptions/