From mboxrd@z Thu Jan 1 00:00:00 1970 Return-Path: Received: from mails.dpdk.org (mails.dpdk.org [217.70.189.124]) by inbox.dpdk.org (Postfix) with ESMTP id 8724946BFE for ; Thu, 24 Jul 2025 12:53:08 +0200 (CEST) Received: from mails.dpdk.org (localhost [127.0.0.1]) by mails.dpdk.org (Postfix) with ESMTP id 61E4140279; Thu, 24 Jul 2025 12:53:08 +0200 (CEST) Received: from mail-io1-f98.google.com (mail-io1-f98.google.com [209.85.166.98]) by mails.dpdk.org (Postfix) with ESMTP id 4429A40279 for ; Thu, 24 Jul 2025 12:53:07 +0200 (CEST) Received: by mail-io1-f98.google.com with SMTP id ca18e2360f4ac-87999c368e9so78614039f.0 for ; Thu, 24 Jul 2025 03:53:07 -0700 (PDT) DKIM-Signature: v=1; a=rsa-sha256; c=relaxed/relaxed; d=iol.unh.edu; s=unh-iol; t=1753354386; x=1753959186; darn=dpdk.org; h=references:in-reply-to:cc:to:from:subject:message-id:date:from:to :cc:subject:date:message-id:reply-to; bh=7rLnW9PO2+9Ed/1cC1KUrr4ocFSh2XAGok09uDeCpis=; b=Ni47gD1kr+y1O415I0odQvDTXRT7Q13g8fWIEkzylju/zRxkj5JFZC7arEMmurT2Z8 OKdtpSAZn9h90qn4/UZSvomNuRqMR7IPYipYr9l/YBT2bdsEowGRao7j6sdKMKI69LsO aEiNX+DMvwc5zNTA7QwQcTaAY1PgRc8EgiMKw= X-Google-DKIM-Signature: v=1; a=rsa-sha256; c=relaxed/relaxed; d=1e100.net; s=20230601; t=1753354386; x=1753959186; h=references:in-reply-to:cc:to:from:subject:message-id:date :x-gm-message-state:from:to:cc:subject:date:message-id:reply-to; bh=7rLnW9PO2+9Ed/1cC1KUrr4ocFSh2XAGok09uDeCpis=; b=DTW8AxiWEHXoxcrVpz9oUJlP0pPdCxFiRWJKEjVpjONUJ3c6TADQKU+mVWGenRTaCL CtUog0wUkASsS5F4/qDd99n9G+uDMiPBp0UTcuCNmSn+z2Jb4cYBOsAVaQLWPwkpNkyW 7Kx6RGy+U84j59eLEAz/RLE+OVjFhd9NLvVpiki8AsRX6ShPIqeJAfhOnGRss9A/7Z2y rluGnxxqfwFewdalOsmvrr2cYemlQir9V8RcDdLv3DzI4cMmh4Dyaj8W2fjbjOtdrLaV GwGWmz5RgUjrb54xkcrD0uGXiwU3JbzC7oCzUoMpKtlGV5nQPKoQ+/d6Qav3lYelEFpW AyVA== X-Gm-Message-State: AOJu0YyYIbWRLKjUNbK7L2AM3bg0lIH68UgvPFW67Ky0B4q1M1aHZl2w e03ytAvPmt/ew+2BNVn+sVXKk3eP/mwzvh20V7cqMKhYo6yKbkoy0QEfnCUvo6BeywAP/LuKfcB o8xUA7gnHusThUu8goVD7ZFCvPB7HVRggWJmrh0lsKXYE X-Gm-Gg: ASbGncvFpeIzTXoYlKxQtdCEnjlQ5gyduq0yGwHDBzD3vffDSJu0FxJqV/yH8DJEcWj ZMn5SkYzjRPtqIhPi1qOR3QSxIe3uHH+f6ZR31TubqtUgHzvWPPC+KVkL8PuhQwXrDBACylAZ6T ZOhISofAMRwwOcr+ua9wRs+zwbFbkIJv55R3TF1WyYqsCIOOyu5898LxeuTeseCLX3h9Y9epYhC kIjuEZawPaDRnC7dAPRnb7a9vKVem/ISnB4jhP5lDpNxk4Y0j0Sj04FXbFqOnCPxHQH1btZ7fIu 7XtNycPs+QdEMAdDpqlgKFHR3fk6s2q7dXXfoiu5UNy6+MmM7H24E2NOl5Id4p4JVnfjWSEo X-Google-Smtp-Source: AGHT+IFUAONeIp99gMUQDyfIenEdadSOHdjrJIY77HPtbwa3URClvnVvMG+F42cepVCkLWw+q2khWJ5BpVEn X-Received: by 2002:a05:6e02:441a:10b0:3df:3110:cc01 with SMTP id e9e14a558f8ab-3e33555d6b5mr77205945ab.19.1753354386465; Thu, 24 Jul 2025 03:53:06 -0700 (PDT) Received: from postal.iol.unh.edu (postal.iol.unh.edu. [132.177.123.84]) by smtp-relay.gmail.com with ESMTPS id e9e14a558f8ab-3e3b71c679fsm971465ab.33.2025.07.24.03.53.06 (version=TLS1_2 cipher=ECDHE-ECDSA-AES128-GCM-SHA256 bits=128/128); Thu, 24 Jul 2025 03:53:06 -0700 (PDT) X-Relaying-Domain: iol.unh.edu Date: Thu, 24 Jul 2025 03:53:06 -0700 (PDT) Message-ID: <68821092.050a0220.2e03e.4e6dSMTPIN_ADDED_MISSING@mx.google.com> Received: from [172.21.0.2] (unknown [172.18.0.240]) by postal.iol.unh.edu (Postfix) with ESMTP id 08B926051830; Thu, 24 Jul 2025 06:53:06 -0400 (EDT) Subject: |SUCCESS| pw155497-155498 [PATCH] [2/2] graph: add callback in dispa From: dpdklab@iol.unh.edu To: Test Report Cc: dpdk-test-reports@iol.unh.edu In-Reply-To: <20250723165001.11162-3-cfontain@redhat.com> References: <20250723165001.11162-3-cfontain@redhat.com> Content-Type: text/plain X-BeenThere: test-report@dpdk.org X-Mailman-Version: 2.1.29 Precedence: list List-Id: automatic DPDK test reports List-Unsubscribe: , List-Archive: List-Post: List-Help: List-Subscribe: , Errors-To: test-report-bounces@dpdk.org Test-Label: iol-compile-arm64-testing Test-Status: SUCCESS http://dpdk.org/patch/155498 _Testing PASS_ Submitter: Christophe Fontaine Date: Wednesday, July 23 2025 16:50:01 DPDK git baseline: Repo:dpdk Branch: master CommitID:e3183a6edafdc41bfd71de1517f9e9ec85eb1276 155497-155498 --> testing pass Upstream job id: Generic-DPDK-Compile-Meson#411762 Test environment and result as below: +------------------------------+--------------------+ | Environment | dpdk_meson_compile | +==============================+====================+ | Red Hat Enterprise Linux 9.5 | PASS | +------------------------------+--------------------+ | Ubuntu 20.04 | PASS | +------------------------------+--------------------+ | Debian GNU/Linux 12 | PASS | +------------------------------+--------------------+ | Fedora Linux 40 | PASS | +------------------------------+--------------------+ | Fedora Linux 41 | PASS | +------------------------------+--------------------+ | Ubuntu 22.04 | PASS | +------------------------------+--------------------+ | Ubuntu 24.04 | PASS | +------------------------------+--------------------+ | CentOS Stream 9 | PASS | +------------------------------+--------------------+ | CentOS Stream 10 | PASS | +------------------------------+--------------------+ Red Hat Enterprise Linux 9.5 Kernel: 5.4 Compiler: gcc gcc (GCC) 11.5.0 20240719 (Red Hat 11.5.0-2) Ubuntu 20.04 Kernel: 5.4 Compiler: gcc gcc (Ubuntu 9.4.0-1ubuntu1~20.04.2) 9.4.0 Debian GNU/Linux 12 Kernel: 5.4 Compiler: gcc gcc (Debian 12.2.0-14+deb12u1) 12.2.0 Fedora Linux 40 Kernel: 5.4 Compiler: gcc gcc (GCC) 14.2.1 20240912 (Red Hat 14.2.1-3) Fedora Linux 41 Kernel: 5.4 Compiler: gcc gcc (GCC) 14.3.1 20250523 (Red Hat 14.3.1-1) Ubuntu 22.04 Kernel: 5.4 Compiler: gcc gcc (Ubuntu 11.4.0-1ubuntu1~22.04) 11.4.0 Ubuntu 24.04 Kernel: 5.4 Compiler: gcc gcc (Ubuntu 13.3.0-6ubuntu2~24.04) 13.3.0 CentOS Stream 9 Kernel: 5.4 Compiler: gcc gcc (GCC) 11.5.0 20240719 (Red Hat 11.5.0-7) CentOS Stream 10 Kernel: 5.4 Compiler: gcc gcc (GCC) 14.2.1 20250110 (Red Hat 14.2.1-8) To view detailed results, visit: https://lab.dpdk.org/results/dashboard/patchsets/33742/ UNH-IOL DPDK Community Lab To manage your email subscriptions, visit: https://lab.dpdk.org/results/dashboard/preferences/subscriptions/