From mboxrd@z Thu Jan 1 00:00:00 1970 Return-Path: Received: from mails.dpdk.org (mails.dpdk.org [217.70.189.124]) by inbox.dpdk.org (Postfix) with ESMTP id E6DF346BFF for ; Thu, 24 Jul 2025 14:44:08 +0200 (CEST) Received: from mails.dpdk.org (localhost [127.0.0.1]) by mails.dpdk.org (Postfix) with ESMTP id C9DEB40262; Thu, 24 Jul 2025 14:44:08 +0200 (CEST) Received: from mail-pf1-f227.google.com (mail-pf1-f227.google.com [209.85.210.227]) by mails.dpdk.org (Postfix) with ESMTP id E8A6740262 for ; Thu, 24 Jul 2025 14:44:07 +0200 (CEST) Received: by mail-pf1-f227.google.com with SMTP id d2e1a72fcca58-748e378ba4fso1220733b3a.1 for ; Thu, 24 Jul 2025 05:44:07 -0700 (PDT) DKIM-Signature: v=1; a=rsa-sha256; c=relaxed/relaxed; d=iol.unh.edu; s=unh-iol; t=1753361047; x=1753965847; darn=dpdk.org; h=references:in-reply-to:cc:to:from:subject:message-id:date:from:to :cc:subject:date:message-id:reply-to; bh=qIGWSwFNEaN5bAhMfNvkFCKyGWNWhizsLejP8FwsDdA=; b=SBpqHX6Sxgyw+IvtipJOQi+Snn7rTibKFA50Cv6OrrYnqxGJ+GfQipbGB2WCyUCq7n 7A8C+t4mMa366c8TRL8kaGQYRRaN+E3rcYbNQd7Fvrbay4IcnhZ3A2vVI/k1SDQej6lk pAtt+qqNYdHq+/OACvJnHVUmUvA6S73YdkF9U= X-Google-DKIM-Signature: v=1; a=rsa-sha256; c=relaxed/relaxed; d=1e100.net; s=20230601; t=1753361047; x=1753965847; h=references:in-reply-to:cc:to:from:subject:message-id:date :x-gm-message-state:from:to:cc:subject:date:message-id:reply-to; bh=qIGWSwFNEaN5bAhMfNvkFCKyGWNWhizsLejP8FwsDdA=; b=Wv3Q9XO+yhus5bchxHbWD/cDDWCEEkKNKsyUvIuOZ0GoXT7w3pYgX4QGrI3xXCY+oq 4BfKT6WpXUew3l2OIMhniZk3YXGCrsXq3eYgHIyPjvOONiWib1E12MuQNg9lxf3Rs9ct UZxoTN0iAUHqnn+bO8ah+ErnuCehbvZQfqgns7PXux379lqISMQcVCK75bs76MFABfqh NjAFAYVDEnFQ5YZms6gLgRyQKjE5Z8L1dRbkgfAgjdoxSYsTXI8yoT2CQO6fzw8GIPQg 0RVW7Inx5oBHiA17gxJmq+K303jW4F8DINwEXceVIGn8+NUp+rv/20EIVqa3+XmitR/0 RO/Q== X-Gm-Message-State: AOJu0YzP87XRW/FNme5nhY0DNJ/NpN5X1Ihuz3D2qlwvhTfsQP6y7I36 VOqqfHOidTg3qK7gP7PWfAiyPRMFeD9i0ptZ9Jg2F9K1+8lPMGl2ZktOAIG1CPtGeoVxmoXnRc9 zQwpEJ/guCdDZtyNVptEl21AGcwWnz66e61WZclYDHImo X-Gm-Gg: ASbGncsb39l6jYmxp7a73nld/tCEN6YKmX6i/fhTL8AVCSh0CmNawnToUgHtLGcuUUz 3y4uG6g4xgVNwK18GET2OIX3x6PU1IzK+q7GTKemr0hE2TsQNoncYfyKImsSL4U3X1XX8jl8bq0 xvI/kxEx8i3ncAxL7tpZqq2DgGUZbf0jgl54Q/uzhFuemHcHyf/x4ZQVGN+q4rZlz95PzZC7dQ2 e23Cm5k3TUF5KmrtSSaIhzrPXiVY1vzQ1ogB9CzAne5atIdRL9XvaYWaHvj6Y4JC+x6FOpHDwsx DBAPo5LZgWx9CQLeuvfBWq9iIlSJDXXaHMgNm9JQjvqUdHAw8kCF3Gzc5OcisgW2dR8VIm1f X-Google-Smtp-Source: AGHT+IEuPVonKCrxkvihNFAP+mSiAJv0jA/v0LbKCEij0s+TNcPENEJ3cIsfYmpW1E7gd4RPu0h1ciOR0jtd X-Received: by 2002:a05:6a20:a125:b0:21f:4631:811c with SMTP id adf61e73a8af0-23d4905d559mr10272800637.19.1753361047017; Thu, 24 Jul 2025 05:44:07 -0700 (PDT) Received: from postal.iol.unh.edu (postal.iol.unh.edu. [132.177.123.84]) by smtp-relay.gmail.com with ESMTPS id 41be03b00d2f7-b3f6c0f1609sm87142a12.24.2025.07.24.05.44.06 (version=TLS1_2 cipher=ECDHE-ECDSA-AES128-GCM-SHA256 bits=128/128); Thu, 24 Jul 2025 05:44:07 -0700 (PDT) X-Relaying-Domain: iol.unh.edu Date: Thu, 24 Jul 2025 05:44:07 -0700 (PDT) Message-ID: <68822a97.050a0220.2d31e2.48a7SMTPIN_ADDED_MISSING@mx.google.com> Received: from [172.21.0.2] (unknown [172.18.0.240]) by postal.iol.unh.edu (Postfix) with ESMTP id 4AFDB604D420; Thu, 24 Jul 2025 08:44:06 -0400 (EDT) Subject: |SUCCESS| pw155502 [PATCH] [v4] eal: fix uncheck lcore ID and lcore From: dpdklab@iol.unh.edu To: Test Report Cc: dpdk-test-reports@iol.unh.edu In-Reply-To: <20250724112551.2502389-1-huangdengdui@huawei.com> References: <20250724112551.2502389-1-huangdengdui@huawei.com> Content-Type: text/plain X-BeenThere: test-report@dpdk.org X-Mailman-Version: 2.1.29 Precedence: list List-Id: automatic DPDK test reports List-Unsubscribe: , List-Archive: List-Post: List-Help: List-Subscribe: , Errors-To: test-report-bounces@dpdk.org Test-Label: iol-unit-amd64-testing Test-Status: SUCCESS http://dpdk.org/patch/155502 _Testing PASS_ Submitter: Dengdui Huang Date: Thursday, July 24 2025 11:25:51 DPDK git baseline: Repo:dpdk Branch: master CommitID:e3183a6edafdc41bfd71de1517f9e9ec85eb1276 155502 --> testing pass Upstream job id: Generic-VM-Unit-Test-DPDK#30166 Test environment and result as below: +-------------------------------+----------------+ | Environment | dpdk_unit_test | +===============================+================+ | CentOS Stream 9 | PASS | +-------------------------------+----------------+ | Fedora Linux 40 | PASS | +-------------------------------+----------------+ | CentOS Stream 10 | PASS | +-------------------------------+----------------+ | Debian GNU/Linux 12 | PASS | +-------------------------------+----------------+ | Ubuntu 20.04 | PASS | +-------------------------------+----------------+ | Red Hat Enterprise Linux 8.10 | PASS | +-------------------------------+----------------+ | Fedora Linux 41 | PASS | +-------------------------------+----------------+ | Red Hat Enterprise Linux 9.5 | PASS | +-------------------------------+----------------+ | Ubuntu 24.04 | PASS | +-------------------------------+----------------+ | Ubuntu 22.04 | PASS | +-------------------------------+----------------+ | Windows Server 2022 | PASS | +-------------------------------+----------------+ CentOS Stream 9 Kernel: 5.15 Compiler: gcc gcc (GCC) 11.5.0 20240719 (Red Hat 11.5.0-7) Fedora Linux 40 Kernel: 5.15 Compiler: clang gcc (GCC) 14.2.1 20240912 (Red Hat 14.2.1-3) CentOS Stream 10 Kernel: 5.15 Compiler: gcc gcc (GCC) 14.2.1 20250110 (Red Hat 14.2.1-8) Debian GNU/Linux 12 Kernel: 5.15 Compiler: gcc gcc (Debian 12.2.0-14+deb12u1) 12.2.0 Ubuntu 20.04 Kernel: 5.15 Compiler: gcc gcc (Ubuntu 9.4.0-1ubuntu1~20.04.2) 9.4.0 Red Hat Enterprise Linux 8.10 Kernel: 5.15 Compiler: gcc gcc (GCC) 8.5.0 20210514 (Red Hat 8.5.0-22) Fedora Linux 41 Kernel: 5.15 Compiler: gcc gcc (GCC) 14.3.1 20250523 (Red Hat 14.3.1-1) Red Hat Enterprise Linux 9.5 Kernel: 5.15 Compiler: gcc gcc (GCC) 11.5.0 20240719 (Red Hat 11.5.0-2) Ubuntu 24.04 Kernel: 5.15 Compiler: gcc gcc (Ubuntu 13.3.0-6ubuntu2~24.04) 13.3.0 Ubuntu 22.04 Kernel: 5.15 Compiler: gcc gcc (Ubuntu 11.4.0-1ubuntu1~22.04) 11.4.0 Windows Server 2022 Kernel: 10.0.20348.2031 Compiler: clang 15.0.7, gcc 14.1.0 (MinGW), and MSVC VS 19.39.33521 To view detailed results, visit: https://lab.dpdk.org/results/dashboard/patchsets/33746/ UNH-IOL DPDK Community Lab To manage your email subscriptions, visit: https://lab.dpdk.org/results/dashboard/preferences/subscriptions/