From mboxrd@z Thu Jan 1 00:00:00 1970 Return-Path: Received: from mails.dpdk.org (mails.dpdk.org [217.70.189.124]) by inbox.dpdk.org (Postfix) with ESMTP id 825DA46BFF for ; Thu, 24 Jul 2025 14:50:45 +0200 (CEST) Received: from mails.dpdk.org (localhost [127.0.0.1]) by mails.dpdk.org (Postfix) with ESMTP id 59B1240285; Thu, 24 Jul 2025 14:50:45 +0200 (CEST) Received: from mail-pl1-f227.google.com (mail-pl1-f227.google.com [209.85.214.227]) by mails.dpdk.org (Postfix) with ESMTP id C62CC40262 for ; Thu, 24 Jul 2025 14:50:44 +0200 (CEST) Received: by mail-pl1-f227.google.com with SMTP id d9443c01a7336-234f17910d8so8042575ad.3 for ; Thu, 24 Jul 2025 05:50:44 -0700 (PDT) DKIM-Signature: v=1; a=rsa-sha256; c=relaxed/relaxed; d=iol.unh.edu; s=unh-iol; t=1753361444; x=1753966244; darn=dpdk.org; h=references:in-reply-to:cc:to:from:subject:message-id:date:from:to :cc:subject:date:message-id:reply-to; bh=/5iMhxsdw6pOsnV5cl6aBA5ub7RKeHMPaiLFbLvbhLs=; b=P0nwqw9fn+rLA013fqr6awzNiTMmQwgewbfyM354hXiS/5f5B57j8ThfMVppacFIbz H3Qe5DU7/CmncNc5R91QaQ7JWUJa/PT65VLPY8pcFHxFQoWrEXsfq/TEaszBAMmwBb32 JUnyCp3iS1ZeBV/Fg4NXDUyTDRjJRl+AR9sIc= X-Google-DKIM-Signature: v=1; a=rsa-sha256; c=relaxed/relaxed; d=1e100.net; s=20230601; t=1753361444; x=1753966244; h=references:in-reply-to:cc:to:from:subject:message-id:date :x-gm-message-state:from:to:cc:subject:date:message-id:reply-to; bh=/5iMhxsdw6pOsnV5cl6aBA5ub7RKeHMPaiLFbLvbhLs=; b=sqZ+MoK1kgdOZLfhAW0FPmU8zkDbz5+FBkQaCyUMp5frBgTIxodS/UhSW/6dr+QOrv ZBaJveH3uR+RK0CZ8bzbHfGvCawAjWcOyYu8QjOtvIwDDm2r4LT3UVlE6SmpHiau0LHf Bzn93ZCxSOj4L4DDpLdBzDnvlhmKaPBuwS4ZXzOHhNKo2/wOuHyr+ixgf+k3bx4+wDzQ b89bbAEfiyDPuIrx4XpQoGR1XDO3hywXNKenTpAu7ghvbXsOCFSY2tU+kEPiXZiRubr3 ZhHVAqzorv2OCdH2PB2vL7BWx1KjjjezdgMTsoe1WmfIyNEv7DTr1lBWJzVBaozdKhBT fQHg== X-Gm-Message-State: AOJu0YyRYsm/cnk9GJ0LZlYuEwYYK6JDCKCg54tKx54jmlQiR57OKLLj T9TAv9jepDtZdUHEhllKSpJ1p/KWo9EUZB3Y92NygE5gS01OeUyu65CJdyhdZKiFKSJmXik667y IzMZW2WhNp8HaMRTd2Qt6ALw+v3Lz3npLuwYqQVkmRr9AWjcplR3z1TuSEJlJ X-Gm-Gg: ASbGnctfY+kTgefR+/ZB6b7C9S4VAvJCVM6MmR0BaXtTgXonuI+5t8iR23wBwIfwgoX +JuySMsFT2x9yvZpegC/1jP8Leo1iLU353v2qbxKRpTs7xoc7QB0GV7RcoqA/b2jEJ020hiLOtM tpE545tIoFYw0sdegKeo4dk7R0QoXxeC51R8GCBSDMi65VZJhJ5FkEX4+0fHxoZK3BnpAH3bTYI 6ZtsSPS1101eTCdhAqtBdPXrgrPA2K1x/1UoAj2idE5oJQYPRfITLPqzWwXNxwLBXWdUitGXk+e 6+h2Ih5ZPEyn3DMIlr/5TC0ZYE/cau4ZgilT0V5I7Tgndxupsw== X-Google-Smtp-Source: AGHT+IEDZ4+q4yxEsDe4hilH6H6EQYv9KZ3qeXhw8M/OI4DTFtL2KVYQ9TRpJvhbfQGlewAjJon9RAeJT6IS X-Received: by 2002:a17:903:2f50:b0:23d:ed91:6142 with SMTP id d9443c01a7336-23f9821d1c6mr98138335ad.42.1753361443889; Thu, 24 Jul 2025 05:50:43 -0700 (PDT) Received: from postal.iol.unh.edu (postal.iol.unh.edu. [2606:4100:3880:1234::84]) by smtp-relay.gmail.com with ESMTPS id d9443c01a7336-23fa487444esm869135ad.90.2025.07.24.05.50.43 (version=TLS1_2 cipher=ECDHE-ECDSA-AES128-GCM-SHA256 bits=128/128); Thu, 24 Jul 2025 05:50:43 -0700 (PDT) X-Relaying-Domain: iol.unh.edu Date: Thu, 24 Jul 2025 05:50:43 -0700 (PDT) Message-ID: <68822c23.170a0220.1652ba.43cdSMTPIN_ADDED_MISSING@mx.google.com> Received: from [172.21.0.2] (unknown [172.18.0.240]) by postal.iol.unh.edu (Postfix) with ESMTP id 637A8604D420; Thu, 24 Jul 2025 08:50:43 -0400 (EDT) Subject: |SUCCESS| pw155502 [PATCH] [v4] eal: fix uncheck lcore ID and lcore From: dpdklab@iol.unh.edu To: Test Report Cc: dpdk-test-reports@iol.unh.edu In-Reply-To: <20250724112551.2502389-1-huangdengdui@huawei.com> References: <20250724112551.2502389-1-huangdengdui@huawei.com> Content-Type: text/plain X-BeenThere: test-report@dpdk.org X-Mailman-Version: 2.1.29 Precedence: list List-Id: automatic DPDK test reports List-Unsubscribe: , List-Archive: List-Post: List-Help: List-Subscribe: , Errors-To: test-report-bounces@dpdk.org Test-Label: iol-unit-amd64-testing Test-Status: SUCCESS http://dpdk.org/patch/155502 _Testing PASS_ Submitter: Dengdui Huang Date: Thursday, July 24 2025 11:25:51 DPDK git baseline: Repo:dpdk Branch: master CommitID:e3183a6edafdc41bfd71de1517f9e9ec85eb1276 155502 --> testing pass Upstream job id: Generic-VM-Unit-Test-DPDK#30167 Test environment and result as below: +-------------------------------+----------------+ | Environment | dpdk_unit_test | +===============================+================+ | CentOS Stream 9 | PASS | +-------------------------------+----------------+ | Fedora Linux 40 | PASS | +-------------------------------+----------------+ | CentOS Stream 10 | PASS | +-------------------------------+----------------+ | Debian GNU/Linux 12 | PASS | +-------------------------------+----------------+ | Ubuntu 20.04 | PASS | +-------------------------------+----------------+ | Red Hat Enterprise Linux 8.10 | PASS | +-------------------------------+----------------+ | Fedora Linux 41 | PASS | +-------------------------------+----------------+ | Red Hat Enterprise Linux 9.5 | PASS | +-------------------------------+----------------+ | Ubuntu 24.04 | PASS | +-------------------------------+----------------+ | Ubuntu 22.04 | PASS | +-------------------------------+----------------+ | Windows Server 2022 | PASS | +-------------------------------+----------------+ CentOS Stream 9 Kernel: 5.15 Compiler: gcc gcc (GCC) 11.5.0 20240719 (Red Hat 11.5.0-7) Fedora Linux 40 Kernel: 5.15 Compiler: clang gcc (GCC) 14.2.1 20240912 (Red Hat 14.2.1-3) CentOS Stream 10 Kernel: 5.15 Compiler: gcc gcc (GCC) 14.2.1 20250110 (Red Hat 14.2.1-8) Debian GNU/Linux 12 Kernel: 5.15 Compiler: gcc gcc (Debian 12.2.0-14+deb12u1) 12.2.0 Ubuntu 20.04 Kernel: 5.15 Compiler: gcc gcc (Ubuntu 9.4.0-1ubuntu1~20.04.2) 9.4.0 Red Hat Enterprise Linux 8.10 Kernel: 5.15 Compiler: gcc gcc (GCC) 8.5.0 20210514 (Red Hat 8.5.0-22) Fedora Linux 41 Kernel: 5.15 Compiler: gcc gcc (GCC) 14.3.1 20250523 (Red Hat 14.3.1-1) Red Hat Enterprise Linux 9.5 Kernel: 5.15 Compiler: gcc gcc (GCC) 11.5.0 20240719 (Red Hat 11.5.0-2) Ubuntu 24.04 Kernel: 5.15 Compiler: gcc gcc (Ubuntu 13.3.0-6ubuntu2~24.04) 13.3.0 Ubuntu 22.04 Kernel: 5.15 Compiler: gcc gcc (Ubuntu 11.4.0-1ubuntu1~22.04) 11.4.0 Windows Server 2022 Kernel: 10.0.20348.2031 Compiler: clang 15.0.7, gcc 14.1.0 (MinGW), and MSVC VS 19.39.33521 To view detailed results, visit: https://lab.dpdk.org/results/dashboard/patchsets/33746/ UNH-IOL DPDK Community Lab To manage your email subscriptions, visit: https://lab.dpdk.org/results/dashboard/preferences/subscriptions/