From mboxrd@z Thu Jan 1 00:00:00 1970 Return-Path: Received: from mails.dpdk.org (mails.dpdk.org [217.70.189.124]) by inbox.dpdk.org (Postfix) with ESMTP id 9A14D46BFF for ; Thu, 24 Jul 2025 14:52:25 +0200 (CEST) Received: from mails.dpdk.org (localhost [127.0.0.1]) by mails.dpdk.org (Postfix) with ESMTP id 8A54340285; Thu, 24 Jul 2025 14:52:25 +0200 (CEST) Received: from mail-yw1-f225.google.com (mail-yw1-f225.google.com [209.85.128.225]) by mails.dpdk.org (Postfix) with ESMTP id AA6AD40262 for ; Thu, 24 Jul 2025 14:52:24 +0200 (CEST) Received: by mail-yw1-f225.google.com with SMTP id 00721157ae682-7183fd8c4c7so10682087b3.3 for ; Thu, 24 Jul 2025 05:52:24 -0700 (PDT) DKIM-Signature: v=1; a=rsa-sha256; c=relaxed/relaxed; d=iol.unh.edu; s=unh-iol; t=1753361544; x=1753966344; darn=dpdk.org; h=references:in-reply-to:cc:to:from:subject:message-id:date:from:to :cc:subject:date:message-id:reply-to; bh=1DQkomWtegPNmH3YKcG3LMB2R31zaLarvoKD0PyUJYI=; b=NvYTt0651GLZPUnVBugeU+bzgUJ9FPWNpTjhogxgXDR7QWIKCEDybgAQHqhkQ7O2UP blXXRgw9KZJNTiF4GiVpJl1DaaK//nw8pekwVBN6qUpEv1/1D1cvfws9D2jPNTgDyu4Z FhZJLuDoT0iSsBt5CoUWc4vzIaVUocui17DbU= X-Google-DKIM-Signature: v=1; a=rsa-sha256; c=relaxed/relaxed; d=1e100.net; s=20230601; t=1753361544; x=1753966344; h=references:in-reply-to:cc:to:from:subject:message-id:date :x-gm-message-state:from:to:cc:subject:date:message-id:reply-to; bh=1DQkomWtegPNmH3YKcG3LMB2R31zaLarvoKD0PyUJYI=; b=dIkF/K3ObtZfP78jB4qJA57p6tfeqw+HZgzbMwAnZIiKQVcH84of9FbDww1Ul16yBo ghMCx8MXjGHhxE4yaU4ON+HIJfiMilLitbnjYdkDfntrLcXcf6de+RJKCFfxrP3jXBEb T7mij5Y2jYuVHKXvcChs7MXUZDcaW60v0gFSXu+4p3ewrdsgjx1Bv52WL2EhauMDACjH EpxNlHpB3u9zzVu8i4OmVCn7N35HhbXPBrRR/Zn1XutDZ3HB5qJ4kyoUXn+Y+mq1VpxM osk717sTWtOUB6tNbz+UrbKuIYStLOOKr9P4tM5zPZQYdSaYWHOe9NKegEjpnD1GBTYX doOA== X-Gm-Message-State: AOJu0Yzlh2W9XS30CjiW2NxDD0sgzf2OzhKnU+B2cNFoZYTMxMlzyZQr kqHK+KJx5s0OFgPdJXeQtQCecSzXM7w+TA0vFhXiZrMFnmYaCK2Hros6Giisly17NDecxh2qqwj xZ1gakdM9zW3v1CmNKmA9xUhRgKK2zotDARzknbIbcsbCYiaNGVG9DjtRh7Ky X-Gm-Gg: ASbGncs6frkX+vnBKjQ2njkF8MP02Jin+KfeTOm4d8cNu56ek6/rSAzU2CFgJmsTSTa 7+x9zzfjMA7MppVBdjgL0N6ppjvi6CKBRufF74Mv2TdwyixggjDWOAw+J4XbIn+guyicF5RnK5X LoVQt4rmkaHM73r4e6Ji3kQ/kSnpRh1y3bI+booBAzDnu1QQVmFoRz7fOUSDs+F1Cr30x8aKsNi 6pg0ZF2RG4NaiUKHJCI94RtS2ivWEKmNbn1vJZLMj6UYqk/ONfOxNEcYl2zLGoEbHznZxoZ2Hha tJYGi8Bjrf+0ZQcAIEXr8xQ1IUTeNhY3FVmUW1ImRjhDgMgSpQ== X-Google-Smtp-Source: AGHT+IH9hIYcYTMsIeRHE+TM0z7XxH6+K7tZ08o69aWDOwDQ0Dgww9A4Z1DWdk36DR+K/EXrcew3lJ6mqhPa X-Received: by 2002:a05:690c:b07:b0:70e:6105:2360 with SMTP id 00721157ae682-719b420d6c0mr93225377b3.24.1753361543895; Thu, 24 Jul 2025 05:52:23 -0700 (PDT) Received: from postal.iol.unh.edu (postal.iol.unh.edu. [2606:4100:3880:1234::84]) by smtp-relay.gmail.com with ESMTPS id 00721157ae682-719cb788ff0sm914817b3.5.2025.07.24.05.52.23 (version=TLS1_2 cipher=ECDHE-ECDSA-AES128-GCM-SHA256 bits=128/128); Thu, 24 Jul 2025 05:52:23 -0700 (PDT) X-Relaying-Domain: iol.unh.edu Date: Thu, 24 Jul 2025 05:52:23 -0700 (PDT) Message-ID: <68822c87.050a0220.11e85f.506dSMTPIN_ADDED_MISSING@mx.google.com> Received: from [172.21.0.2] (unknown [172.18.0.240]) by postal.iol.unh.edu (Postfix) with ESMTP id 8C58D604D420; Thu, 24 Jul 2025 08:52:23 -0400 (EDT) Subject: |SUCCESS| pw155502 [PATCH] [v4] eal: fix uncheck lcore ID and lcore From: dpdklab@iol.unh.edu To: Test Report Cc: dpdk-test-reports@iol.unh.edu In-Reply-To: <20250724112551.2502389-1-huangdengdui@huawei.com> References: <20250724112551.2502389-1-huangdengdui@huawei.com> Content-Type: text/plain X-BeenThere: test-report@dpdk.org X-Mailman-Version: 2.1.29 Precedence: list List-Id: automatic DPDK test reports List-Unsubscribe: , List-Archive: List-Post: List-Help: List-Subscribe: , Errors-To: test-report-bounces@dpdk.org Test-Label: iol-compile-amd64-testing Test-Status: SUCCESS http://dpdk.org/patch/155502 _Testing PASS_ Submitter: Dengdui Huang Date: Thursday, July 24 2025 11:25:51 DPDK git baseline: Repo:dpdk Branch: master CommitID:e3183a6edafdc41bfd71de1517f9e9ec85eb1276 155502 --> testing pass Upstream job id: Generic-DPDK-Compile-Meson#412065 Test environment and result as below: +-------------------------------+--------------------+-------------------+------------------+-------------------------+-------------------+----------------------+ | Environment | dpdk_meson_compile | dpdk_compile_spdk | dpdk_compile_ovs | dpdk_llvm_clang_compile | dpdk_msvc_compile | dpdk_mingw64_compile | +===============================+====================+===================+==================+=========================+===================+======================+ | CentOS Stream 9 | PASS | PASS | SKIPPED | SKIPPED | SKIPPED | SKIPPED | +-------------------------------+--------------------+-------------------+------------------+-------------------------+-------------------+----------------------+ | Debian GNU/Linux 12 | PASS | PASS | SKIPPED | SKIPPED | SKIPPED | SKIPPED | +-------------------------------+--------------------+-------------------+------------------+-------------------------+-------------------+----------------------+ | CentOS Stream 10 | PASS | SKIPPED | SKIPPED | SKIPPED | SKIPPED | SKIPPED | +-------------------------------+--------------------+-------------------+------------------+-------------------------+-------------------+----------------------+ | openSUSE Leap 15.6 | PASS | SKIPPED | SKIPPED | SKIPPED | SKIPPED | SKIPPED | +-------------------------------+--------------------+-------------------+------------------+-------------------------+-------------------+----------------------+ | Fedora Linux 40 | PASS | PASS | SKIPPED | SKIPPED | SKIPPED | SKIPPED | +-------------------------------+--------------------+-------------------+------------------+-------------------------+-------------------+----------------------+ | Fedora Linux 41 | PASS | PASS | PASS | SKIPPED | SKIPPED | SKIPPED | +-------------------------------+--------------------+-------------------+------------------+-------------------------+-------------------+----------------------+ | Red Hat Enterprise Linux 9.5 | PASS | SKIPPED | SKIPPED | SKIPPED | SKIPPED | SKIPPED | +-------------------------------+--------------------+-------------------+------------------+-------------------------+-------------------+----------------------+ | Red Hat Enterprise Linux 8.10 | PASS | SKIPPED | SKIPPED | SKIPPED | SKIPPED | SKIPPED | +-------------------------------+--------------------+-------------------+------------------+-------------------------+-------------------+----------------------+ | Ubuntu 20.04 | PASS | SKIPPED | SKIPPED | SKIPPED | SKIPPED | SKIPPED | +-------------------------------+--------------------+-------------------+------------------+-------------------------+-------------------+----------------------+ | Ubuntu 22.04 | PASS | PASS | SKIPPED | SKIPPED | SKIPPED | SKIPPED | +-------------------------------+--------------------+-------------------+------------------+-------------------------+-------------------+----------------------+ | Ubuntu 24.04 | PASS | PASS | PASS | SKIPPED | SKIPPED | SKIPPED | +-------------------------------+--------------------+-------------------+------------------+-------------------------+-------------------+----------------------+ | Alpine Linux 3.22.0 | PASS | SKIPPED | SKIPPED | SKIPPED | SKIPPED | SKIPPED | +-------------------------------+--------------------+-------------------+------------------+-------------------------+-------------------+----------------------+ | FreeBSD 14.2 | PASS | SKIPPED | SKIPPED | SKIPPED | SKIPPED | SKIPPED | +-------------------------------+--------------------+-------------------+------------------+-------------------------+-------------------+----------------------+ | Windows Server 2022 | SKIPPED | SKIPPED | SKIPPED | PASS | PASS | PASS | +-------------------------------+--------------------+-------------------+------------------+-------------------------+-------------------+----------------------+ CentOS Stream 9 Kernel: 5.15 Compiler: gcc gcc (GCC) 11.5.0 20240719 (Red Hat 11.5.0-7) Debian GNU/Linux 12 Kernel: 5.15 Compiler: gcc gcc (Debian 12.2.0-14+deb12u1) 12.2.0 CentOS Stream 10 Kernel: 5.15 Compiler: gcc gcc (GCC) 14.2.1 20250110 (Red Hat 14.2.1-8) openSUSE Leap 15.6 Kernel: 5.15 Compiler: gcc gcc (SUSE Linux) 7.5.0 Fedora Linux 40 Kernel: 5.15 Compiler: gcc gcc (GCC) 14.2.1 20240912 (Red Hat 14.2.1-3) Fedora Linux 41 Kernel: 5.15 Compiler: clang gcc (GCC) 14.3.1 20250523 (Red Hat 14.3.1-1) Red Hat Enterprise Linux 9.5 Kernel: 5.15 Compiler: gcc gcc (GCC) 11.5.0 20240719 (Red Hat 11.5.0-2) Red Hat Enterprise Linux 8.10 Kernel: 5.15 Compiler: gcc gcc (GCC) 8.5.0 20210514 (Red Hat 8.5.0-22) Ubuntu 20.04 Kernel: 5.15 Compiler: gcc gcc (Ubuntu 9.4.0-1ubuntu1~20.04.2) 9.4.0 Ubuntu 22.04 Kernel: 5.15 Compiler: gcc gcc (Ubuntu 11.4.0-1ubuntu1~22.04) 11.4.0 Ubuntu 24.04 Kernel: 5.15 Compiler: gcc gcc (Ubuntu 13.3.0-6ubuntu2~24.04) 13.3.0 Alpine Linux 3.22.0 Kernel: 5.15 Compiler: gcc gcc (Alpine 14.2.0) 14.2.0 FreeBSD 14.2 Kernel: 14.2-RELEASE Compiler: clang 18.1.6 Windows Server 2022 Kernel: 10.0.20348.2031 Compiler: clang 15.0.7, gcc 14.1.0 (MinGW), and MSVC VS 19.39.33521 To view detailed results, visit: https://lab.dpdk.org/results/dashboard/patchsets/33746/ UNH-IOL DPDK Community Lab To manage your email subscriptions, visit: https://lab.dpdk.org/results/dashboard/preferences/subscriptions/